Workbook
Name AuditType: Sheet8!$C$2:$C$5
Name Staff: Sheet8!$A$2:$A$6

Sheet Sheet1
A1: REPORT ID: BR2390- | B1: 1 | C1: STATE BA | D1: NK OF INDIA | E1: RUN DATE: 02/ | F1: 45383.167 | G1: 0
A2: AREA: | E2: PROC DATE: 31/ | F2: 44621
C3: LOANS B | D3: ALANCE FILE
A4: BRANCH :121221 | B4: BRANCH NAME : BAHUBALI | E4: PAGE NO : 1
A5: _x001B_!E
A6: ------------------ | B6: ------------------------------ | C6: --------------- | D6: ------------------------------------ | E6: ------------------- | F6: ------------ | G6: --------------------- | H6: ------------------------ | I6: ------------------------ | J6: ------------ | K6: ------- | L6: ------- | M6: ------- | N6: ----- | O6: ------- | P6: -------- | Q6: ------------ | R6: ----------------- | S6: ------------------------ | T6: -------------- | U6: ------------------ | V6: ------------------- | W6: -------- | X6: --------- | Y6: ----------------- | Z6: --- | AA6: ----------- | AB6: ----------------- | AC6: ------------------- | AD6: -------------- | AE6: ----------- | AF6: ------------ | AG6: ---------------------- | AH6: ------
A7: ACCOUNT NO | B7: ACCOUNT TYPE (DESCRIPTION) | C7: CUSTOMER NUMBER | D7: CUSTOMER NAME | E7: LIMIT I | F7: NT RATE | G7: THEO. BALANCE | H7: OUTSTANDING | I7: IRREGULARITY | J7: SANCTION | K7: EMIS | L7: EMIS | M7: EMIS | N7: NEW | O7: OLD | P7: ARREAR | Q7: CURRENCY | R7: ACCT-MTAIN-BRCH | S7: NEXT-DUE-AMOUNT | T7: IRRG-DATE | U7: UNREALISED-INT | V7: ACCRU-INT | W7: STRESS | X7: SMA-CODE- | Y7: INCIPIENT-STRESS | Z7: RA | AA7: RA-DATE | AB7: WRITE-OFF-FLAG | AC7: WRITE-OFF-AMOUNT | AD7: WRITE-OFF-DATE | AE7: SMA-CLASS | AF7: SMA-DATE | AG7: SMA-ARREAR-CONDITION
J8: DATE | K8: DUE | L8: PAID | M8: OVERDUE | N8: IRAC | O8: IRAC | P8: COND
A9: ------------------ | B9: ------------------------------ | C9: --------------- | D9: ------------------------------------ | E9: ------------------- | F9: ------------ | G9: -------------------- | H9: ------------- | I9: ------------------------ | J9: ------------ | K9: ------- | L9: ------- | M9: ------- | N9: ----- | O9: ------- | P9: -------- | Q9: ------------ | R9: ----------------- | S9: ------------------------ | T9: -------------- | U9: ------------------ | V9: ------------------- | W9: -------- | X9: --------- | Y9: ----------------- | Z9: --- | AA9: ----------- | AB9: ----------------- | AC9: ------------------- | AD9: -------------- | AE9: ----------- | AF9: ------------ | AG9: ---------------------- | AH9: ------
A10: 36010441482 | B10: SCH LN L-A STAF-WARD<=20L | C10: 87842685671 | D10: Ms. NEHA KUMARI | E10: 1262000 | F10: 5.95 | G10: 1351586 | H10: 568721 | I10: 0 | J10: 42598 | K10: 7 | L10: 7 | M10: 0 | N10: 0 | O10: 0 | P10: 0 | Q10: INR | R10: 0 | S10: 6600 | T10: 00/00/0000 | U10: 0 | V10: 0 | W10: N | Y10: 9 | Z10: N | AA10: 00/00/0000 | AB10: N | AC10: 0 | AD10: 00/00/0000 | AE10: STD | AF10: 43841 | AG10: 999
A11: ------------------ | B11: ------------------------------ | C11: --------------- | D11: ------------------------------------ | E11: ------------------- | F11: ------------ | G11: -------------------- | H11: ------------- | I11: ------------------------ | J11: ------------ | K11: ------- | L11: ------- | M11: ------- | N11: ----- | O11: ------- | P11: -------- | Q11: ------------ | R11: ----------------- | S11: ------------------------ | T11: -------------- | U11: ------------------ | V11: ------------------- | W11: -------- | X11: --------- | Y11: ----------------- | Z11: --- | AA11: ----------- | AB11: ----------------- | AC11: ------------------- | AD11: -------------- | AE11: ----------- | AF11: ------------ | AG11: ---------------------- | AH11: ------
A12: PRODUCT TOTALS | B12: SCH LN L-A STAF-WARD<=20L | E12: 1262000 | G12: 1351586 | H12: 568721 | I12: 0
A13: ------------------ | B13: ------------------------------ | C13: --------------- | D13: ------------------------------------ | E13: ------------------- | F13: ------------ | G13: -------------------- | H13: ------------- | I13: ------------------------ | J13: ------------ | K13: ------- | L13: ------- | M13: ------- | N13: ----- | O13: ------- | P13: -------- | Q13: ------------ | R13: ----------------- | S13: ------------------------ | T13: -------------- | U13: ------------------ | V13: ------------------- | W13: -------- | X13: --------- | Y13: ----------------- | Z13: --- | AA13: ----------- | AB13: ----------------- | AC13: ------------------- | AD13: -------------- | AE13: ----------- | AF13: ------------ | AG13: ---------------------- | AH13: ------
A14: 40153740769 | B14: GLOBAL ED-VANTAGE STAFF | C14: 87256554881 | D14: BHAVESHKUMAR SHAILENDRAKUMAR | E14: 2500000 | F14: 5.95 | G14: 1386493 | H14: 1318493 | I14: 0 | J14: 44315 | K14: 1 | L14: 1 | M14: 0 | N14: 0 | O14: 0 | P14: 0 | Q14: INR | R14: 15355 | S14: 24356 | T14: 00/00/0000 | U14: 0 | V14: 0 | Z14: N | AA14: 00/00/0000 | AB14: N | AC14: 0 | AD14: 00/00/0000
A15: 40311469256 | B15: GLOBAL ED-VANTAGE STAFF | C15: 85540684378 | D15: Miss. KRUTIKA RAMESHKUMAR RATH | E15: 2700000 | F15: 5.45 | G15: 1187410 | H15: 1171410 | I15: 0 | J15: 44403 | K15: 1 | L15: 1 | M15: 0 | N15: 0 | O15: 0 | P15: 0 | Q15: INR | R15: 15355 | S15: 22070 | T15: 00/00/0000 | U15: 0 | V15: 0 | W15: N | Y15: 9 | Z15: N | AA15: 00/00/0000 | AB15: N | AC15: 0 | AD15: 00/00/0000
A16: ------------------ | B16: ------------------------------ | C16: --------------- | D16: ------------------------------------ | E16: ------------------- | F16: ------------ | G16: -------------------- | H16: ------------- | I16: ------------------------ | J16: ------------ | K16: ------- | L16: ------- | M16: ------- | N16: ----- | O16: ------- | P16: -------- | Q16: ------------ | R16: ----------------- | S16: ------------------------ | T16: -------------- | U16: ------------------ | V16: ------------------- | W16: -------- | X16: --------- | Y16: ----------------- | Z16: --- | AA16: ----------- | AB16: ----------------- | AC16: ------------------- | AD16: -------------- | AE16: ----------- | AF16: ------------ | AG16: ---------------------- | AH16: ------
A17: PRODUCT TOTALS | B17: GLOBAL ED-VANTAGE STAFF | E17: 5200000 | G17: 2573903 | H17: 2489903 | I17: 0
A18: ------------------ | B18: ------------------------------ | C18: --------------- | D18: ------------------------------------ | E18: ------------------- | F18: ------------ | G18: -------------------- | H18: ------------- | I18: ------------------------ | J18: ------------ | K18: ------- | L18: ------- | M18: ------- | N18: ----- | O18: ------- | P18: -------- | Q18: ------------ | R18: ----------------- | S18: ------------------------ | T18: -------------- | U18: ------------------ | V18: ------------------- | W18: -------- | X18: --------- | Y18: ----------------- | Z18: --- | AA18: ----------- | AB18: ----------------- | AC18: ------------------- | AD18: -------------- | AE18: ----------- | AF18: ------------ | AG18: ---------------------- | AH18: ------
A19: 30392350760 | B19: HOUSING LOAN CLERICAL STF | C19: 80084155745 | D19: Mr. KSHATRIYA GAUTAM JAGANNAT | E19: 788000 | F19: 5.5 | G19: 420779 | H19: 316259 | I19: 0 | J19: 39596 | K19: 36 | L19: 36 | M19: 0 | N19: 0 | O19: 0 | P19: 0 | Q19: INR | R19: 15355 | S19: 1680 | T19: 00/00/0000 | U19: 0 | V19: 0 | W19: N | Y19: 9 | Z19: N | AA19: 00/00/0000 | AB19: N | AC19: 0 | AD19: 00/00/0000 | AE19: STD | AF19: 43841 | AG19: 999
A20: 32882807091 | B20: HOUSING LOAN CLERICAL STF | C20: 85216537551 | D20: Mr. SHASHIKANT KANUBHAI TAPASV | E20: 713169 | F20: 5.5 | G20: 488924 | H20: 481177 | I20: 0 | J20: 41347 | K20: 108 | L20: 108 | M20: 0 | N20: 0 | O20: 0 | P20: 0 | Q20: INR | R20: 15355 | S20: 4403 | T20: 00/00/0000 | U20: 0 | V20: 0 | W20: N | Y20: 9 | Z20: N | AA20: 00/00/0000 | AB20: N | AC20: 0 | AD20: 00/00/0000
A21: 34165816257 | B21: HOUSING LOAN CLERICAL STF | C21: 85430762376 | D21: Mr. NITIN SOLANKEY | E21: 1200000 | F21: 5.5 | G21: 948962 | H21: 940819 | I21: 0 | J21: 41890 | K21: 90 | L21: 90 | M21: 0 | N21: 0 | O21: 0 | P21: 0 | Q21: INR | R21: 15355 | S21: 7143 | T21: 00/00/0000 | U21: 0 | V21: 0 | W21: N | Y21: 9 | Z21: N | AA21: 00/00/0000 | AB21: N | AC21: 0 | AD21: 00/00/0000
A22: ------------------ | B22: ------------------------------ | C22: --------------- | D22: ------------------------------------ | E22: ------------------- | F22: ------------ | G22: -------------------- | H22: ------------- | I22: ------------------------ | J22: ------------ | K22: ------- | L22: ------- | M22: ------- | N22: ----- | O22: ------- | P22: -------- | Q22: ------------ | R22: ----------------- | S22: ------------------------ | T22: -------------- | U22: ------------------ | V22: ------------------- | W22: -------- | X22: --------- | Y22: ----------------- | Z22: --- | AA22: ----------- | AB22: ----------------- | AC22: ------------------- | AD22: -------------- | AE22: ----------- | AF22: ------------ | AG22: ---------------------- | AH22: ------
A23: PRODUCT TOTALS | B23: HOUSING LOAN CLERICAL STF | E23: 2701169 | G23: 1858665 | H23: 1738255 | I23: 0
A24: ------------------ | B24: ------------------------------ | C24: --------------- | D24: ------------------------------------ | E24: ------------------- | F24: ------------ | G24: -------------------- | H24: ------------- | I24: ------------------------ | J24: ------------ | K24: ------- | L24: ------- | M24: ------- | N24: ----- | O24: ------- | P24: -------- | Q24: ------------ | R24: ----------------- | S24: ------------------------ | T24: -------------- | U24: ------------------ | V24: ------------------- | W24: -------- | X24: --------- | Y24: ----------------- | Z24: --- | AA24: ----------- | AB24: ----------------- | AC24: ------------------- | AD24: -------------- | AE24: ----------- | AF24: ------------ | AG24: ---------------------- | AH24: ------
A25: 31656262085 | B25: HOUSING LOAN SUP STAFF | C25: 76005571215 | D25: Mr. BHARATBHAI CHHAGANBHAI RAT | E25: 1368000 | F25: 5.5 | G25: 883392 | H25: 883392 | I25: 0 | J25: 40606 | K25: 87 | L25: 87 | M25: 0 | N25: 0 | O25: 0 | P25: 0 | Q25: INR | R25: 15355 | S25: 9121 | T25: 00/00/0000 | U25: 0 | V25: 0 | W25: N | Y25: 9 | Z25: N | AA25: 00/00/0000 | AB25: N | AC25: 0 | AD25: 00/00/0000 | AE25: STD | AF25: 44537 | AG25: 0
A26: ------------------ | B26: ------------------------------ | C26: --------------- | D26: ------------------------------------ | E26: ------------------- | F26: ------------ | G26: -------------------- | H26: ------------- | I26: ------------------------ | J26: ------------ | K26: ------- | L26: ------- | M26: ------- | N26: ----- | O26: ------- | P26: -------- | Q26: ------------ | R26: ----------------- | S26: ------------------------ | T26: -------------- | U26: ------------------ | V26: ------------------- | W26: -------- | X26: --------- | Y26: ----------------- | Z26: --- | AA26: ----------- | AB26: ----------------- | AC26: ------------------- | AD26: -------------- | AE26: ----------- | AF26: ------------ | AG26: ---------------------- | AH26: ------
A27: PRODUCT TOTALS | B27: HOUSING LOAN SUP STAFF | E27: 1368000 | G27: 883392 | H27: 883392 | I27: 0
A28: ------------------ | B28: ------------------------------ | C28: --------------- | D28: ------------------------------------ | E28: ------------------- | F28: ------------ | G28: -------------------- | H28: ------------- | I28: ------------------------ | J28: ------------ | K28: ------- | L28: ------- | M28: ------- | N28: ----- | O28: ------- | P28: -------- | Q28: ------------ | R28: ----------------- | S28: ------------------------ | T28: -------------- | U28: ------------------ | V28: ------------------- | W28: -------- | X28: --------- | Y28: ----------------- | Z28: --- | AA28: ----------- | AB28: ----------------- | AC28: ------------------- | AD28: -------------- | AE28: ----------- | AF28: ------------ | AG28: ---------------------- | AH28: ------
A29: 34557969977 | B29: IHL-CLERICAL STAFF | C29: 85430762376 | D29: Mr. NITIN SOLANKEY | E29: 393114 | F29: 5.5 | G29: 321148 | H29: 318750 | I29: 0 | J29: 42005 | K29: 86 | L29: 86 | M29: 0 | N29: 0 | O29: 0 | P29: 0 | Q29: INR | R29: 15355 | S29: 2398 | T29: 00/00/0000 | U29: 0 | V29: 0 | W29: N | Y29: 9 | Z29: N | AA29: 00/00/0000 | AB29: N | AC29: 0 | AD29: 00/00/0000
A30: 35344386017 | B30: IHL-CLERICAL STAFF | C30: 85432218493 | D30: Mr. MANISH VITTHALBHAI MEVADA | E30: 3867000 | F30: 5.5 | G30: 3874274 | H30: 3860150 | I30: 0 | J30: 42325 | K30: 74 | L30: 74 | M30: 0 | N30: 0 | O30: 0 | P30: 0 | Q30: INR | R30: 15355 | S30: 16572 | T30: 00/00/0000 | U30: 0 | V30: 0 | W30: N | Y30: 9 | Z30: N | AA30: 00/00/0000 | AB30: N | AC30: 0 | AD30: 00/00/0000 | AE30: STD | AF30: 43841 | AG30: 999
A31: 35699626726 | B31: IHL-CLERICAL STAFF | C31: 85029842295 | D31: Mrs. RENUKA LALITKUMAR BANKER | E31: 822217 | F31: 5.5 | G31: 826206 | H31: 811206 | I31: 0 | J31: 42465 | K31: 72 | L31: 72 | M31: 0 | N31: 0 | O31: 0 | P31: 0 | Q31: INR | R31: 15355 | S31: 3529 | T31: 00/00/0000 | U31: 0 | V31: 0 | W31: N | Y31: 9 | Z31: N | AA31: 00/00/0000 | AB31: N | AC31: 0 | AD31: 00/00/0000
A32: 36881131068 | B32: IHL-CLERICAL STAFF | C32: 80084155687 | D32: Mr. MAHENDRA BHAGWANDAS CHAUHA | E32: 1485000 | F32: 5.5 | G32: 1282106 | H32: 1281407 | I32: 0 | J32: 42867 | K32: 58 | L32: 58 | M32: 0 | N32: 0 | O32: 0 | P32: 0 | Q32: INR | R32: 61132 | S32: 9770 | T32: 00/00/0000 | U32: 0 | V32: 0 | W32: N | Y32: 9 | Z32: N | AA32: 00/00/0000 | AB32: N | AC32: 0 | AD32: 00/00/0000 | AE32: STD | AF32: 43538 | AG32: 0
A33: 37496825525 | B33: IHL-CLERICAL STAFF | C33: 80075343897 | D33: Mrs. KAMALA P THAKORE | E33: 2092500 | F33: 5.5 | G33: 2082268 | H33: 2023418 | I33: 0 | J33: 43131 | K33: 50 | L33: 50 | M33: 0 | N33: 0 | O33: 0 | P33: 0 | Q33: INR | R33: 61132 | S33: 8793 | T33: 00/00/0000 | U33: 0 | V33: 0 | W33: N | Y33: 9 | Z33: N | AA33: 00/00/0000 | AB33: N | AC33: 0 | AD33: 00/00/0000 | AE33: STD | AF33: 44020 | AG33: 999
A34: 39859049032 | B34: IHL-CLERICAL STAFF | C34: 80631264427 | D34: Mr. NARENDRASINGH RAGHUVERSING | E34: 4005000 | F34: 5.95 | G34: 4060759 | H34: 4039094 | I34: 0 | J34: 44175 | K34: 15 | L34: 15 | M34: 0 | N34: 0 | O34: 0 | P34: 0 | Q34: INR | R34: 15355 | S34: 14889 | T34: 00/00/0000 | U34: 0 | V34: 0 | Z34: N | AA34: 00/00/0000 | AB34: N | AC34: 0 | AD34: 00/00/0000 | AE34: STD | AF34: 44202 | AG34: 0
A35: 40083020920 | B35: IHL-CLERICAL STAFF | C35: 86613403381 | D35: Ms. LAJJA AJAYKUMAR SONDAGER | E35: 3000000 | F35: 5.5 | G35: 3010865 | H35: 2998503 | I35: 0 | J35: 44274 | K35: 12 | L35: 12 | M35: 0 | N35: 0 | O35: 0 | P35: 0 | Q35: INR | R35: 15355 | S35: 12449 | T35: 00/00/0000 | U35: 0 | V35: 0 | W35: N | Y35: 9 | Z35: N | AA35: 00/00/0000 | AB35: N | AC35: 0 | AD35: 00/00/0000 | AE35: STD | AF35: 44290 | AG35: 0
A36: 40097074641 | B36: IHL-CLERICAL STAFF | C36: 85218330178 | D36: Mr. VYOMESHCHANDRA JETHALAL SO | E36: 1500000 | F36: 5.5 | G36: 1505763 | H36: 1504599 | I36: 0 | J36: 44283 | K36: 12 | L36: 12 | M36: 0 | N36: 0 | O36: 0 | P36: 0 | Q36: INR | R36: 15355 | S36: 6303 | T36: 00/00/0000 | U36: 0 | V36: 0 | W36: N | Y36: 9 | Z36: N | AA36: 00/00/0000 | AB36: N | AC36: 0 | AD36: 00/00/0000 | AE36: STD | AF36: 44645 | AG36: 0
A37: 40249217729 | B37: IHL-CLERICAL STAFF | C37: 85859033016 | D37: Mr. JATIN JIVANBHAI RUPALA | E37: 4320000 | F37: 5.95 | G37: 4336624 | H37: 4333993 | I37: 0 | J37: 44373 | K37: 9 | L37: 9 | M37: 0 | N37: 0 | O37: 0 | P37: 0 | Q37: INR | R37: 15355 | S37: 17926 | T37: 00/00/0000 | U37: 0 | V37: 0 | W37: N | Y37: 9 | Z37: N | AA37: 00/00/0000 | AB37: N | AC37: 0 | AD37: 00/00/0000
A38: ------------------ | B38: ------------------------------ | C38: --------------- | D38: ------------------------------------ | E38: ------------------- | F38: ------------ | G38: -------------------- | H38: ------------- | I38: ------------------------ | J38: ------------ | K38: ------- | L38: ------- | M38: ------- | N38: ----- | O38: ------- | P38: -------- | Q38: ------------ | R38: ----------------- | S38: ------------------------ | T38: -------------- | U38: ------------------ | V38: ------------------- | W38: -------- | X38: --------- | Y38: ----------------- | Z38: --- | AA38: ----------- | AB38: ----------------- | AC38: ------------------- | AD38: -------------- | AE38: ----------- | AF38: ------------ | AG38: ---------------------- | AH38: ------
A39: PRODUCT TOTALS | B39: IHL-CLERICAL STAFF | E39: 21484831 | G39: 21300013 | H39: 21171120 | I39: 0
A40: ------------------ | B40: ------------------------------ | C40: --------------- | D40: ------------------------------------ | E40: ------------------- | F40: ------------ | G40: -------------------- | H40: ------------- | I40: ------------------------ | J40: ------------ | K40: ------- | L40: ------- | M40: ------- | N40: ----- | O40: ------- | P40: -------- | Q40: ------------ | R40: ----------------- | S40: ------------------------ | T40: -------------- | U40: ------------------ | V40: ------------------- | W40: -------- | X40: --------- | Y40: ----------------- | Z40: --- | AA40: ----------- | AB40: ----------------- | AC40: ------------------- | AD40: -------------- | AE40: ----------- | AF40: ------------ | AG40: ---------------------- | AH40: ------
...

Sheet Sheet3
A3: Count of ACCOUNT NO | B3: Column Labels
A4: Row Labels | B4: NPA | C4: STD | D4: Grand Total
A5: 71004045858 | C5: 1 | D5: 1 | E5: =COUNT(B5:C5) -> 1
A6: 71010356548 | C6: 1 | D6: 1 | E6: =COUNT(B6:C6) -> 1
A7: 71108857807 | C7: 1 | D7: 1 | E7: =COUNT(B7:C7) -> 1
A8: 71125773970 | C8: 2 | D8: 2 | E8: =COUNT(B8:C8) -> 1
A9: 71184893120 | C9: 1 | D9: 1 | E9: =COUNT(B9:C9) -> 1
A10: 71194588422 | C10: 1 | D10: 1 | E10: =COUNT(B10:C10) -> 1
A11: 72177037681 | C11: 1 | D11: 1 | E11: =COUNT(B11:C11) -> 1
A12: 72178383234 | C12: 1 | D12: 1 | E12: =COUNT(B12:C12) -> 1
A13: 72178834926 | B13: 1 | D13: 1 | E13: =COUNT(B13:C13) -> 1
A14: 75075796733 | C14: 1 | D14: 1 | E14: =COUNT(B14:C14) -> 1
A15: 76000561325 | C15: 2 | D15: 2 | E15: =COUNT(B15:C15) -> 1
A16: 76002184650 | C16: 3 | D16: 3 | E16: =COUNT(B16:C16) -> 1
A17: 76002543496 | C17: 2 | D17: 2 | E17: =COUNT(B17:C17) -> 1
A18: 76002792329 | C18: 2 | D18: 2 | E18: =COUNT(B18:C18) -> 1
A19: 76003096137 | C19: 2 | D19: 2 | E19: =COUNT(B19:C19) -> 1
A20: 76003536624 | C20: 1 | D20: 1 | E20: =COUNT(B20:C20) -> 1
A21: 76004407224 | C21: 1 | D21: 1 | E21: =COUNT(B21:C21) -> 1
A22: 76005419239 | C22: 2 | D22: 2 | E22: =COUNT(B22:C22) -> 1
A23: 76005571215 | C23: 1 | D23: 1 | E23: =COUNT(B23:C23) -> 1
A24: 76005673987 | C24: 2 | D24: 2 | E24: =COUNT(B24:C24) -> 1
A25: 78116936223 | C25: 1 | D25: 1 | E25: =COUNT(B25:C25) -> 1
... A111: 80083958743 | C111: 1 | D111: 1 | E111: =COUNT(B111:C111) -> 1
A112: 80083961336 | B112: 1 | D112: 1 | E112: =COUNT(B112:C112) -> 1
A113: 80083970204 | C113: 1 | D113: 1 | E113: =COUNT(B113:C113) -> 1
A114: 80083970328 | C114: 1 | D114: 1 | E114: =COUNT(B114:C114) -> 1
A115: 80083971219 | C115: 1 | D115: 1 | E115: =COUNT(B115:C115) -> 1
A116: 80083971300 | C116: 1 | D116: 1 | E116: =COUNT(B116:C116) -> 1
A117: 80083971785 | C117: 2 | D117: 2 | E117: =COUNT(B117:C117) -> 1
A118: 80083972111 | C118: 1 | D118: 1 | E118: =COUNT(B118:C118) -> 1
A119: 80083975509 | C119: 1 | D119: 1 | E119: =COUNT(B119:C119) -> 1
A120: 80083977335 | C120: 1 | D120: 1 | E120: =COUNT(B120:C120) -> 1
A121: 80083977426 | C121: 1 | D121: 1 | E121: =COUNT(B121:C121) -> 1
A122: 80083981046 | C122: 1 | D122: 1 | E122: =COUNT(B122:C122) -> 1
A123: 80083984105 | C123: 1 | D123: 1 | E123: =COUNT(B123:C123) -> 1
A124: 80083984309 | C124: 1 | D124: 1 | E124: =COUNT(B124:C124) -> 1
... A138: 80083997545 | C138: 1 | D138: 1 | E138: =COUNT(B138:C138) -> 1
A139: 80083998209 | B139: 1 | D139: 1 | E139: =COUNT(B139:C139) -> 1
A140: 80083998481 | C140: 1 | D140: 1 | E140: =COUNT(B140:C140) -> 1
...

Sheet Sheet4
E1: Sample | F1: >50 L | G1: 1
F2: 25 L 50 L | G2: 0.3
A4: Row Labels | B4: O/s | C4: O/s % | D4: Count | E4: Count % | F4: Proirity | G4: Sample | H4: Staff
A5: 0-2500000 | B5: 5.9032461e+08 | C5: 0.66297388 | D5: 1754 | E5: 0.96745725
A6: 2500000-5000000 | B6: 1.50796e+08 | C6: 0.16935396 | D6: 46 | E6: 0.025372311 | F6: Priority 2 | G6: =ROUNDUP(D6*G2,0) -> 14 | H6: Namitha
A7: 5000000-7500000 | B7: 36578124 | C7: 0.04107967 | D7: 6 | E7: 0.0033094319 | F7: Priority 1 | G7: =D7*$G$1 -> 6 | H7: Swetha
A8: 7500000-10000000 | B8: 17508210 | C8: 0.019662887 | D8: 2 | E8: 0.001103144 | F8: Priority 1 | G8: =D8*$G$1 -> 2 | H8: Swetha
A9: 10000000-12500000 | B9: 21693298 | C9: 0.024363019 | D9: 2 | E9: 0.001103144 | F9: Priority 1 | G9: =D9*$G$1 -> 2 | H9: Swetha
A10: 15000000-17500000 | B10: 17499017 | C10: 0.019652562 | D10: 1 | E10: 0.00055157198 | F10: Priority 1 | G10: =D10*$G$1 -> 1 | H10: Swetha
A11: 25000000-27500000 | B11: 26741252 | C11: 0.030032208 | D11: 1 | E11: 0.00055157198 | F11: Priority 1 | G11: =D11*$G$1 -> 1 | H11: Swetha
A12: 27500000-30000000 | B12: 29278597 | C12: 0.032881816 | D12: 1 | E12: 0.00055157198 | F12: Priority 1 | G12: =D12*$G$1 -> 1 | H12: Swetha
A13: Grand Total | B13: 8.9041911e+08 | C13: 1 | D13: 1813 | E13: 1

Sheet Sheet6
E1: Sample | F1: 0.02
A3: Row Labels | B3: O/s | C3: O/s % | D3: Count | E3: Count % | F3: Sample | G3: Staff
A4: 0-500000 | B4: 1.5903299e+08 | C4: 0.17860464 | D4: 1379 | E4: 0.76061776 | F4: =ROUNDUP(D4*$F$1,0) -> 28 | G4: Namitha
A5: 500000-1000000 | B5: 1.3685472e+08 | C5: 0.15369697 | D5: 188 | E5: 0.10369553 | F5: =ROUNDUP(D5*$F$1,0) -> 4 | G5: Swetha
A6: 1000000-1500000 | B6: 1.2342713e+08 | C6: 0.1386169 | D6: 98 | E6: 0.054054054 | F6: =ROUNDUP(D6*$F$1,0) -> 2 | G6: Teju
A7: 1500000-2000000 | B7: 94658569 | C7: 0.10630788 | D7: 55 | E7: 0.030336459 | F7: =ROUNDUP(D7*$F$1,0) -> 2 | G7: Namitha
A8: 2000000-2500000 | B8: 76351210 | C8: 0.085747497 | D8: 34 | E8: 0.018753447 | F8: =ROUNDUP(D8*$F$1,0) -> 1 | G8: Swetha
A9: >2500000 | B9: 3.000945e+08 | C9: 0.33702612 | D9: 59 | E9: 0.032542747 | F9: =ROUNDUP(D9*$F$1,0) -> 2 | G9: Teju
A10: Grand Total | B10: 8.9041911e+08 | C10: 1 | D10: 1813 | E10: 1

Sheet Sheet7
C1: Sample | D1: 0.01
D3: =SUM(D5:D186) -> 187
A4: Row Labels | B4: Count | C4: O/s | D4: Sample | E4: Staff | F4: Type
A5: EB-HOME LOAN MAY 20 | B5: 36 | C5: 67577926 | D5: =ROUNDUP(B5*$D$1,0) -> 1 | E5: Sai | F5: Sanction Letter Interest Verification
A6: MC-TL-XPRESS CREDIT JUN19 | B6: 127 | C6: 55106545 | D6: =ROUNDUP(B6*$D$1,0) -> 2 | E6: Kumar | F6: Post Sanction Documentation
A7: MC-TL-XPRESS CREDIT APR21 | B7: 93 | C7: 48026673 | D7: =ROUNDUP(B7*$D$1,0) -> 1 | E7: Kumar | F7: Post Sanction Documentation
A8: EB-HOME LOAN APR 21 | B8: 29 | C8: 46389821 | D8: =ROUNDUP(B8*$D$1,0) -> 1 | E8: Jatin | F8: Sanction Letter Interest Verification
A9: EB-HOME LOAN SEP19 | B9: 24 | C9: 45056312 | D9: =ROUNDUP(B9*$D$1,0) -> 1 | E9: Kumar | F9: Sanction Letter Interest Verification
A10: IHL-CLERICAL STAFF | B10: 14 | C10: 35722845 | D10: =ROUNDUP(B10*$D$1,0) -> 1 | E10: Arun | F10: Post Sanction Documentation
A11: EB-RLMS HOME LOAN | B11: 11 | C11: 34561574 | D11: =ROUNDUP(B11*$D$1,0) -> 1 | E11: Kumar | F11: Acct Statement Analysis
A12: EB-TL-SPL-P-LAP-OCT20 | B12: 1 | C12: 29278597 | D12: =ROUNDUP(B12*$D$1,0) -> 1 | E12: Jatin | F12: Sanction Letter Interest Verification
A13: MC-Per LN Treasury Pensio | B13: 138 | C13: 27706127 | D13: =ROUNDUP(B13*$D$1,0) -> 2 | E13: Manish | F13: Pre sanction documentation
A14: SBI HOME LOAN TL (OCT13) | B14: 1 | C14: 26741252 | D14: =ROUNDUP(B14*$D$1,0) -> 1 | E14: Sai | F14: Sanction Letter Interest Verification
A15: MC-SBI HOME LOAN Oct .15 | B15: 18 | C15: 24381511 | D15: =ROUNDUP(B15*$D$1,0) -> 1 | E15: Kumar | F15: Acct Statement Analysis
A16: EB-HOME TOPUP-MAY 20 | B16: 24 | C16: 22041411 | D16: =ROUNDUP(B16*$D$1,0) -> 1 | E16: Kumar | F16: Sanction Letter Interest Verification
... A186: BR-TL SBF =>3Y>NOV99 | B186: 1 | C186: 0 | D186: =ROUNDUP(B186*$D$1,0) -> 1 | E186: Kumar | F186: Acct Statement Analysis
A187: Grand Total | B187: 1813 | C187: 8.9041911e+08

Sheet Sheet8
A1: Staff | C1: Type
A2: Arun | C2: Pre sanction documentation
A3: Jatin | C3: Post Sanction Documentation
A4: Kumar | C4: Acct Statement Analysis
A5: Manish | C5: Sanction Letter Interest Verification
A6: Sai

Sheet Sheet9
F1: Sample | G1: 0.02
G2: =SUM(G8:G179) -> 19
A3: Row Labels | B3: Count | C3: O/s | D3: Max Int | E3: Min. Int | F3: Spread | G3: Sample | H3: Staff | I3: Proof
A4: BR-EASY HSG LOAN FLT | B4: 2 | C4: 985677.32 | D4: 9.3 | E4: 9.3 | F4: =D4-E4 -> 0
A5: BR-SBI EASY H L JAN/11 | B5: 1 | C5: 923741.05 | D5: 9.05 | E5: 9.05 | F5: =D5-E5 -> 0
A6: BR-TL SBF =>3Y>NOV99 | B6: 1 | C6: 0 | D6: 9.85 | E6: 9.85 | F6: =D6-E6 -> 0
A7: BR-TL XPRESS CREDIT | B7: 1 | C7: 184416.49 | D7: 12.55 | E7: 12.55 | F7: =D7-E7 -> 0
A8: D L Bank Deposit PER | B8: 21 | C8: 9292600.6 | D8: 8.35 | E8: 6 | F8: =D8-E8 -> 2.35 | G8: =ROUNDUP(B8*$G$1,0) -> 1 | H8: Varun
A9: D L Vehi -2 Wheel STAFF | B9: 5 | C9: 205211 | D9: 5.5 | E9: 5.5 | F9: =D9-E9 -> 0
A10: D L Vehicle -CAR STAFF | B10: 1 | C10: 164208 | D10: 5.5 | E10: 5.5 | F10: =D10-E10 -> 0
A11: EB- HL - SHAURYA- APR 21 | B11: 1 | C11: 1300847 | D11: 6.8 | E11: 6.8 | F11: =D11-E11 -> 0
A12: EB- STAFF HL COMM MAY 20 | B12: 1 | C12: 1467934 | D12: 6.8 | E12: 6.8 | F12: =D12-E12 -> 0
A13: EB-CLSS-PRIV- (LIG) MAY20 | B13: 3 | C13: 4823231 | D13: 7 | E13: 6.85 | F13: =D13-E13 -> 0.15
A14: EB-CLSS-PRIV-LIG SEP19 | B14: 1 | C14: 1027249.6 | D14: 6.85 | E14: 6.85 | F14: =D14-E14 -> 0
A15: EB-DL-Com Covid Emg(CCECL | B15: 1 | C15: 45928 | D15: 7.4 | E15: 7.4 | F15: =D15-E15 -> 0
A16: EB-DL-PM_SVAN 2TRN | B16: 59 | C16: 857357.2 | D16: 9.9 | E16: 9.9 | F16: =D16-E16 -> 0
A17: EB-DL-PM_SVANidhi | B17: 370 | C17: 2496579.3 | D17: 9.9 | E17: 9.9 | F17: =D17-E17 -> 0
A18: EB-GLOBAL 7.5-1.5Cr JUN21 | B18: 2 | C18: 1089853 | D18: 8.15 | E18: 8.15 | F18: =D18-E18 -> 0
A19: EB-GuarEmerCrLn(GECL1.0) | B19: 13 | C19: 367524 | D19: 7.4 | E19: 7.4 | F19: =D19-E19 -> 0
A20: EB-HLCLSS (EWS) MAY 20 | B20: 1 | C20: 296472 | D20: 6.95 | E20: 6.95 | F20: =D20-E20 -> 0
... A35: EB-HOME TOPUP-MAY 20 | B35: 24 | C35: 22041411 | D35: 7.85 | E35: 7.1 | F35: =D35-E35 -> 0.75
A36: EB-MSME-DL-USUAL CR DISP | B36: 3 | C36: 17499017 | D36: 14.75 | E36: 10.4 | F36: =D36-E36 -> 4.35 | G36: =ROUNDUP(B36*$G$1,0) -> 1 | H36: Varun
A37: EB-MSME-TL-Usual CR Dispe | B37: 30 | C37: 3433177.5 | D37: 10.4 | E37: 8.85 | F37: =D37-E37 -> 1.55
A38: EB-NRI-HOME LOAN SEP19 | B38: 1 | C38: 1481352 | D38: 6.75 | E38: 6.75 | F38: =D38-E38 -> 0
A39: EB-RLMS HOME LOAN | B39: 11 | C39: 34561574 | D39: 7.05 | E39: 6.65 | F39: =D39-E39 -> 0.4
A40: EB-SBI SURAKSHA | B40: 94 | C40: 5563818.6 | D40: 7 | E40: 6.65 | F40: =D40-E40 -> 0.35
A41: EB-ST-IN-MED>7.5-30L JN21 | B41: 1 | C41: 823475 | D41: 7.65 | E41: 7.65 | F41: =D41-E41 -> 0
A42: EB-STU- <=4L JUN21 | B42: 2 | C42: 74913 | D42: 8.15 | E42: 8.15 | F42: =D42-E42 -> 0
A43: EB-STU- >4-7.5L JUN21 | B43: 1 | C43: 412106 | D43: 8.15 | E43: 8.15 | F43: =D43-E43 -> 0
A44: EB-TL-P-LAP-MAY 20 | B44: 1 | C44: 9933151 | D44: 8.8 | E44: 8.8 | F44: =D44-E44 -> 0
A45: EB-TL-P-LAP-SAL-SEP 19 | B45: 1 | C45: 1459911 | D45: 8.5 | E45: 8.5 | F45: =D45-E45 -> 0
A46: EB-TL-SPL-P-LAP-OCT20 | B46: 1 | C46: 29278597 | D46: 8.5 | E46: 8.5 | F46: =D46-E46 -> 0
A47: GLOBAL ED-VANTAGE STAFF | B47: 3 | C47: 3869280 | D47: 5.95 | E47: 5.45 | F47: =D47-E47 -> 0.5
A48: H T L Addl Hsg STAFF | B48: 1 | C48: 350684 | D48: 5.5 | E48: 5.5 | F48: =D48-E48 -> 0
... A92: MC-JAI JAWAN PEN LN APR21 | B92: 3 | C92: 758604 | D92: 9.75 | E92: 9.75 | F92: =D92-E92 -> 0
A93: MC-JAI JAWAN PEN LN JAN17 | B93: 7 | C93: 1679431.6 | D93: 12 | E93: 9.75 | F93: =D93-E93 -> 2.25 | G93: =ROUNDUP(B93*$G$1,0) -> 1 | H93: Varun
A94: MC-PAPNL-SBI PENSIONERS | B94: 1 | C94: 443237 | D94: 9.75 | E94: 9.75 | F94: =D94-E94 -> 0
A95: MC-PER LN BOB EMP FOR ESP | B95: 1 | C95: 88114.43 | D95: 8.35 | E95: 8.35 | F95: =D95-E95 -> 0
A96: MC-Per LN to PSU Pensionr | B96: 5 | C96: 1017489.4 | D96: 12.35 | E96: 10.25 | F96: =D96-E96 -> 2.1 | G96: =ROUNDUP(B96*$G$1,0) -> 1 | H96: Varun
A97: MC-Per LN Treasury Pensio | B97: 138 | C97: 27706127 | D97: 12.4 | E97: 10.25 | F97: =D97-E97 -> 2.15 | G97: =ROUNDUP(B97*$G$1,0) -> 3 | H97: Varun
...

Sheet Detail1
A1: Details for Count - Overdue Periods: >4, NPA?: STD
A3: ACCOUNT NO | B3: ACCOUNT TYPE (DESCRIPTION) | C3: CUSTOMER NUMBER | D3: CUSTOMER NAME | E3: LIMIT I | F3: INT RATE | G3: THEO. BALANCE | H3: OUTSTANDING | I3: Irregularity | J3: Overdue Periods | K3: IRREGULARITY2 | L3: SANCTION | M3: EMIS | N3: EMIS2 | O3: EMIS3 | P3: NEW | Q3: OLD | R3: ARREAR | S3: CURRENCY | T3: ACCT-MTAIN-BRCH | U3: NEXT-DUE-AMOUNT | V3: IRRG-DATE | W3: UNREALISED-INT | X3: ACCRU-INT | Y3: STRESS | Z3: SMA-CODE- | AA3: INCIPIENT-STRESS | AB3: RA | AC3: RA-DATE | AD3: WRITE-OFF-FLAG | AE3: WRITE-OFF-AMOUNT | AF3: WRITE-OFF-DATE | AG3: SMA-CLASS | AH3: SMA-DATE | AI3: SMA-ARREAR-CONDITION | AJ3: NPA?
A4: 35386806590 | B4: BR-TL XPRESS CREDIT | C4: 86013139166 | D4: Mr. DINESHBHAI GALABHAI DORIYA | E4: 295000 | F4: 12.55 | G4: 0 | H4: 184416.49 | I4: 184416.49 | J4: 26.684487 | K4: 184416.49 | L4: 42346 | M4: 60 | N4: 33 | O4: 27 | P4: 5 | Q4: 5 | R4: 801 | S4: INR | T4: 0 | U4: 6911 | V4: 43256 | W4: 0 | X4: 133380.29 | Y4: N | AA4: 5 | AB4: Y | AC4: 43830 | AD4: F | AE4: 184416.49 | AF4: 40001 | AJ4: STD
A5: 37350856865 | B5: MC-TL SBF =>3Y>NOV99 | C5: 90017762110 | D5: Mr. SHIVJI MANGILAL SHARMA | E5: 50000 | F5: 9.7 | G5: 0 | H5: 47652.12 | I5: 47652.12 | J5: 39.545328 | K5: 47652.12 | L5: 43077 | M5: 51 | N5: 11 | O5: 40 | P5: 6 | Q5: 6 | R5: 802 | S5: INR | T5: 5018 | U5: 1205 | V5: 43235 | W5: 1739 | X5: 30186.57 | Y5: N | AA5: 6 | AB5: Y | AC5: 43964 | AD5: N | AE5: 0 | AF5: 00/00/0000 | AG5: SMA0 | AH5: 43386 | AI5: 501 | AJ5: STD
A6: 37723099164 | B6: EB-MSME-TL-Usual CR Dispe | C6: 89295235717 | D6: Master PATANI VISHNU | E6: 109000 | F6: 10.25 | G6: 49210.75 | H6: 60933.75 | I6: 11723 | J6: 4.2382502 | K6: 11723 | L6: 43249 | M6: 0 | N6: 0 | O6: 0 | P6: 3 | Q6: 3 | R6: 703 | S6: INR | T6: 5018 | U6: 2766 | V6: 44591 | W6: 0 | X6: 0 | Y6: N | AA6: 2 | AB6: N | AC6: 00/00/0000 | AD6: N | AE6: 0 | AF6: 00/00/0000 | AG6: SMA2 | AH6: 44651 | AI6: 703 | AJ6: STD

Sheet Sheet10
A3: NPA? | B3: Overdue Periods | C3: Count | D3: O/s
A4: STD | B4: 0-1 | C4: 1578 | D4: 8.7286957e+08 | E4: Ok
B5: 1-2 | C5: 55 | D5: 8223893.4 | E5: SMA-0
B6: 2-3 | C6: 14 | D6: 2933645 | E6: SMA-1
B7: 3-4 | C7: 8 | D7: 195083.42 | E7: SMA-2
B8: >4 | C8: 3 | D8: 293002.36 | E8: NPA
A9: STD Total | C9: 1658 | D9: 8.845152e+08
A10: Grand Total | C10: 1658 | D10: 8.845152e+08

Sheet Sheet12
A1: NPA? | B1: NPA
A3: Count of ACCOUNT NO | B3: Column Labels
A4: Row Labels | B4: Qtr1 | C4: Qtr2 | D4: Qtr3 | E4: Qtr4 | F4: Grand Total
A5: 2019 | C5: 1 | D5: 2 | E5: 1 | F5: 4
A6: 2020 | E6: 1 | F6: 1
A7: 2021 | B7: 19 | C7: 27 | D7: 43 | E7: 40 | F7: 129
A8: 2022 | B8: 21 | F8: 21
A9: Grand Total | B9: 40 | C9: 28 | D9: 45 | E9: 42 | F9: 155

Sheet Sheet1 (2)
A1: ACCOUNT NO | B1: ACCOUNT TYPE (DESCRIPTION) | C1: CUSTOMER NUMBER | D1: CUSTOMER NAME | E1: LIMIT I | F1: INT RATE | G1: THEO. BALANCE | H1: OUTSTANDING | I1: Irregularity | J1: Overdue Periods | K1: IRREGULARITY | L1: SANCTION | M1: EMIS | N1: EMIS | O1: EMIS | P1: NEW | Q1: OLD | R1: ARREAR | S1: CURRENCY | T1: ACCT-MTAIN-BRCH | U1: NEXT-DUE-AMOUNT | V1: IRRG-DATE | W1: UNREALISED-INT | X1: ACCRU-INT | Y1: STRESS | Z1: SMA-CODE- | AA1: INCIPIENT-STRESS | AB1: RA | AC1: RA-DATE | AD1: WRITE-OFF-FLAG | AE1: WRITE-OFF-AMOUNT | AF1: WRITE-OFF-DATE | AG1: SMA-CLASS | AH1: SMA-DATE | AI1: SMA-ARREAR-CONDITION | AJ1: NPA? | AK1: QM Months
A2: 36010441482 | B2: SCH LN L-A STAF-WARD<=20L | C2: 87842685671 | D2: Ms. NEHA KUMARI | E2: 1262000 | F2: 5.95 | G2: 1351586 | H2: 568721 | I2: =IF((G2-H2)>0,0,H2-G2) -> 0 | J2: =I2/U2 -> 0 | K2: 0 | L2: 42598 | M2: 7 | N2: 7 | O2: 0 | P2: 0 | Q2: 0 | R2: 0 | S2: INR | T2: 0 | U2: 6600 | V2: 00/00/0000 | W2: 0 | X2: 0 | Y2: N | AA2: 9 | AB2: N | AC2: 00/00/0000 | AD2: N | AE2: 0 | AF2: 00/00/0000 | AG2: STD | AH2: 43841 | AI2: 999 | AJ2: STD
A3: 40153740769 | B3: GLOBAL ED-VANTAGE STAFF | C3: 87256554881 | D3: BHAVESHKUMAR SHAILENDRAKUMAR | E3: 2500000 | F3: 5.95 | G3: 1386493 | H3: 1318493 | I3: =IF((G3-H3)>0,0,H3-G3) -> 0 | J3: =I3/U3 -> 0 | K3: 0 | L3: 44315 | M3: 1 | N3: 1 | O3: 0 | P3: 0 | Q3: 0 | R3: 0 | S3: INR | T3: 15355 | U3: 24356 | V3: 00/00/0000 | W3: 0 | X3: 0 | AB3: N | AC3: 00/00/0000 | AD3: N | AE3: 0 | AF3: 00/00/0000 | AJ3: STD
A4: 40311469256 | B4: GLOBAL ED-VANTAGE STAFF | C4: 85540684378 | D4: Miss. KRUTIKA RAMESHKUMAR RATH | E4: 2700000 | F4: 5.45 | G4: 1187410 | H4: 1171410 | I4: =IF((G4-H4)>0,0,H4-G4) -> 0 | J4: =I4/U4 -> 0 | K4: 0 | L4: 44403 | M4: 1 | N4: 1 | O4: 0 | P4: 0 | Q4: 0 | R4: 0 | S4: INR | T4: 15355 | U4: 22070 | V4: 00/00/0000 | W4: 0 | X4: 0 | Y4: N | AA4: 9 | AB4: N | AC4: 00/00/0000 | AD4: N | AE4: 0 | AF4: 00/00/0000 | AJ4: STD
A5: 30392350760 | B5: HOUSING LOAN CLERICAL STF | C5: 80084155745 | D5: Mr. KSHATRIYA GAUTAM JAGANNAT | E5: 788000 | F5: 5.5 | G5: 420779 | H5: 316259 | I5: =IF((G5-H5)>0,0,H5-G5) -> 0 | J5: =I5/U5 -> 0 | K5: 0 | L5: 39596 | M5: 36 | N5: 36 | O5: 0 | P5: 0 | Q5: 0 | R5: 0 | S5: INR | T5: 15355 | U5: 1680 | V5: 00/00/0000 | W5: 0 | X5: 0 | Y5: N | AA5: 9 | AB5: N | AC5: 00/00/0000 | AD5: N | AE5: 0 | AF5: 00/00/0000 | AG5: STD | AH5: 43841 | AI5: 999 | AJ5: STD
A6: 32882807091 | B6: HOUSING LOAN CLERICAL STF | C6: 85216537551 | D6: Mr. SHASHIKANT KANUBHAI TAPASV | E6: 713169 | F6: 5.5 | G6: 488924 | H6: 481177 | I6: =IF((G6-H6)>0,0,H6-G6) -> 0 | J6: =I6/U6 -> 0 | K6: 0 | L6: 41347 | M6: 108 | N6: 108 | O6: 0 | P6: 0 | Q6: 0 | R6: 0 | S6: INR | T6: 15355 | U6: 4403 | V6: 00/00/0000 | W6: 0 | X6: 0 | Y6: N | AA6: 9 | AB6: N | AC6: 00/00/0000 | AD6: N | AE6: 0 | AF6: 00/00/0000 | AJ6: STD
A7: 34165816257 | B7: HOUSING LOAN CLERICAL STF | C7: 85430762376 | D7: Mr. NITIN SOLANKEY | E7: 1200000 | F7: 5.5 | G7: 948962 | H7: 940819 | I7: =IF((G7-H7)>0,0,H7-G7) -> 0 | J7: =I7/U7 -> 0 | K7: 0 | L7: 41890 | M7: 90 | N7: 90 | O7: 0 | P7: 0 | Q7: 0 | R7: 0 | S7: INR | T7: 15355 | U7: 7143 | V7: 00/00/0000 | W7: 0 | X7: 0 | Y7: N | AA7: 9 | AB7: N | AC7: 00/00/0000 | AD7: N | AE7: 0 | AF7: 00/00/0000 | AJ7: STD
A8: 31656262085 | B8: HOUSING LOAN SUP STAFF | C8: 76005571215 | D8: Mr. BHARATBHAI CHHAGANBHAI RAT | E8: 1368000 | F8: 5.5 | G8: 883392 | H8: 883392 | I8: =IF((G8-H8)>0,0,H8-G8) -> 0 | J8: =I8/U8 -> 0 | K8: 0 | L8: 40606 | M8: 87 | N8: 87 | O8: 0 | P8: 0 | Q8: 0 | R8: 0 | S8: INR | T8: 15355 | U8: 9121 | V8: 00/00/0000 | W8: 0 | X8: 0 | Y8: N | AA8: 9 | AB8: N | AC8: 00/00/0000 | AD8: N | AE8: 0 | AF8: 00/00/0000 | AG8: STD | AH8: 44537 | AI8: 0 | AJ8: STD
A9: 34557969977 | B9: IHL-CLERICAL STAFF | C9: 85430762376 | D9: Mr. NITIN SOLANKEY | E9: 393114 | F9: 5.5 | G9: 321148 | H9: 318750 | I9: =IF((G9-H9)>0,0,H9-G9) -> 0 | J9: =I9/U9 -> 0 | K9: 0 | L9: 42005 | M9: 86 | N9: 86 | O9: 0 | P9: 0 | Q9: 0 | R9: 0 | S9: INR | T9: 15355 | U9: 2398 | V9: 00/00/0000 | W9: 0 | X9: 0 | Y9: N | AA9: 9 | AB9: N | AC9: 00/00/0000 | AD9: N | AE9: 0 | AF9: 00/00/0000 | AJ9: STD
A10: 35344386017 | B10: IHL-CLERICAL STAFF | C10: 85432218493 | D10: Mr. MANISH VITTHALBHAI MEVADA | E10: 3867000 | F10: 5.5 | G10: 3874274 | H10: 3860150 | I10: =IF((G10-H10)>0,0,H10-G10) -> 0 | J10: =I10/U10 -> 0 | K10: 0 | L10: 42325 | M10: 74 | N10: 74 | O10: 0 | P10: 0 | Q10: 0 | R10: 0 | S10: INR | T10: 15355 | U10: 16572 | V10: 00/00/0000 | W10: 0 | X10: 0 | Y10: N | AA10: 9 | AB10: N | AC10: 00/00/0000 | AD10: N | AE10: 0 | AF10: 00/00/0000 | AG10: STD | AH10: 43841 | AI10: 999 | AJ10: STD
A11: 35699626726 | B11: IHL-CLERICAL STAFF | C11: 85029842295 | D11: Mrs. RENUKA LALITKUMAR BANKER | E11: 822217 | F11: 5.5 | G11: 826206 | H11: 811206 | I11: =IF((G11-H11)>0,0,H11-G11) -> 0 | J11: =I11/U11 -> 0 | K11: 0 | L11: 42465 | M11: 72 | N11: 72 | O11: 0 | P11: 0 | Q11: 0 | R11: 0 | S11: INR | T11: 15355 | U11: 3529 | V11: 00/00/0000 | W11: 0 | X11: 0 | Y11: N | AA11: 9 | AB11: N | AC11: 00/00/0000 | AD11: N | AE11: 0 | AF11: 00/00/0000 | AJ11: STD
A12: 36881131068 | B12: IHL-CLERICAL STAFF | C12: 80084155687 | D12: Mr. MAHENDRA BHAGWANDAS CHAUHA | E12: 1485000 | F12: 5.5 | G12: 1282106 | H12: 1281407 | I12: =IF((G12-H12)>0,0,H12-G12) -> 0 | J12: =I12/U12 -> 0 | K12: 0 | L12: 42867 | M12: 58 | N12: 58 | O12: 0 | P12: 0 | Q12: 0 | R12: 0 | S12: INR | T12: 61132 | U12: 9770 | V12: 00/00/0000 | W12: 0 | X12: 0 | Y12: N | AA12: 9 | AB12: N | AC12: 00/00/0000 | AD12: N | AE12: 0 | AF12: 00/00/0000 | AG12: STD | AH12: 43538 | AI12: 0 | AJ12: STD
A13: 37496825525 | B13: IHL-CLERICAL STAFF | C13: 80075343897 | D13: Mrs. KAMALA P THAKORE | E13: 2092500 | F13: 5.5 | G13: 2082268 | H13: 2023418 | I13: =IF((G13-H13)>0,0,H13-G13) -> 0 | J13: =I13/U13 -> 0 | K13: 0 | L13: 43131 | M13: 50 | N13: 50 | O13: 0 | P13: 0 | Q13: 0 | R13: 0 | S13: INR | T13: 61132 | U13: 8793 | V13: 00/00/0000 | W13: 0 | X13: 0 | Y13: N | AA13: 9 | AB13: N | AC13: 00/00/0000 | AD13: N | AE13: 0 | AF13: 00/00/0000 | AG13: STD | AH13: 44020 | AI13: 999 | AJ13: STD
A14: 39859049032 | B14: IHL-CLERICAL STAFF | C14: 80631264427 | D14: Mr. NARENDRASINGH RAGHUVERSING | E14: 4005000 | F14: 5.95 | G14: 4060759 | H14: 4039094 | I14: =IF((G14-H14)>0,0,H14-G14) -> 0 | J14: =I14/U14 -> 0 | K14: 0 | L14: 44175 | M14: 15 | N14: 15 | O14: 0 | P14: 0 | Q14: 0 | R14: 0 | S14: INR | T14: 15355 | U14: 14889 | V14: 00/00/0000 | W14: 0 | X14: 0 | AB14: N | AC14: 00/00/0000 | AD14: N | AE14: 0 | AF14: 00/00/0000 | AG14: STD | AH14: 44202 | AI14: 0 | AJ14: STD
A15: 40083020920 | B15: IHL-CLERICAL STAFF | C15: 86613403381 | D15: Ms. LAJJA AJAYKUMAR SONDAGER | E15: 3000000 | F15: 5.5 | G15: 3010865 | H15: 2998503 | I15: =IF((G15-H15)>0,0,H15-G15) -> 0 | J15: =I15/U15 -> 0 | K15: 0 | L15: 44274 | M15: 12 | N15: 12 | O15: 0 | P15: 0 | Q15: 0 | R15: 0 | S15: INR | T15: 15355 | U15: 12449 | V15: 00/00/0000 | W15: 0 | X15: 0 | Y15: N | AA15: 9 | AB15: N | AC15: 00/00/0000 | AD15: N | AE15: 0 | AF15: 00/00/0000 | AG15: STD | AH15: 44290 | AI15: 0 | AJ15: STD
A16: 40097074641 | B16: IHL-CLERICAL STAFF | C16: 85218330178 | D16: Mr. VYOMESHCHANDRA JETHALAL SO | E16: 1500000 | F16: 5.5 | G16: 1505763 | H16: 1504599 | I16: =IF((G16-H16)>0,0,H16-G16) -> 0 | J16: =I16/U16 -> 0 | K16: 0 | L16: 44283 | M16: 12 | N16: 12 | O16: 0 | P16: 0 | Q16: 0 | R16: 0 | S16: INR | T16: 15355 | U16: 6303 | V16: 00/00/0000 | W16: 0 | X16: 0 | Y16: N | AA16: 9 | AB16: N | AC16: 00/00/0000 | AD16: N | AE16: 0 | AF16: 00/00/0000 | AG16: STD | AH16: 44645 | AI16: 0 | AJ16: STD
A17: 40249217729 | B17: IHL-CLERICAL STAFF | C17: 85859033016 | D17: Mr. JATIN JIVANBHAI RUPALA | E17: 4320000 | F17: 5.95 | G17: 4336624 | H17: 4333993 | I17: =IF((G17-H17)>0,0,H17-G17) -> 0 | J17: =I17/U17 -> 0 | K17: 0 | L17: 44373 | M17: 9 | N17: 9 | O17: 0 | P17: 0 | Q17: 0 | R17: 0 | S17: INR | T17: 15355 | U17: 17926 | V17: 00/00/0000 | W17: 0 | X17: 0 | Y17: N | AA17: 9 | AB17: N | AC17: 00/00/0000 | AD17: N | AE17: 0 | AF17: 00/00/0000 | AJ17: STD
A18: 34033582556 | B18: IHL-OFF UPTO SMG-V-SEP 14 | C18: 85538694483 | D18: Miss. AKRITI PHITKARIWALA | E18: 2000000 | F18: 5.5 | G18: 1476195 | H18: 1472680 | I18: =IF((G18-H18)>0,0,H18-G18) -> 0 | J18: =I18/U18 -> 0 | K18: 0 | L18: 41862 | M18: 91 | N18: 91 | O18: 0 | P18: 0 | Q18: 0 | R18: 0 | S18: INR | T18: 15355 | U18: 11905 | V18: 00/00/0000 | W18: 0 | X18: 0 | Y18: N | AA18: 9 | AB18: N | AC18: 00/00/0000 | AD18: N | AE18: 0 | AF18: 00/00/0000 | AG18: STD | AH18: 43526 | AI18: 0 | AJ18: STD
A19: 37845431603 | B19: IHL-OFF UPTO SMG-V-SEP 14 | C19: 71004045858 | D19: Mr. KAMLESH CHANDRAKANT PADHAR | E19: 6000000 | F19: 5.95 | G19: 6627486 | H19: 6351079 | I19: =IF((G19-H19)>0,0,H19-G19) -> 0 | J19: =I19/U19 -> 0 | K19: 0 | L19: 43312 | M19: 22 | N19: 22 | O19: 0 | P19: 0 | Q19: 0 | R19: 0 | S19: INR | T19: 15355 | U19: 20977 | V19: 00/00/0000 | W19: 0 | X19: 0 | Y19: N | AA19: 9 | AB19: N | AC19: 00/00/0000 | AD19: N | AE19: 0 | AF19: 00/00/0000 | AG19: STD | AH19: 44032 | AI19: 0 | AJ19: STD
A20: 32389000329 | B20: H T L Addl Hsg STAFF | C20: 85006246968 | D20: Mr. SHIV KUMAR MISHRA | E20: 960000 | F20: 5.5 | G20: 359538 | H20: 350684 | I20: =IF((G20-H20)>0,0,H20-G20) -> 0 | J20: =I20/U20 -> 0 | K20: 0 | L20: 41081 | M20: 117 | N20: 117 | O20: 0 | P20: 0 | Q20: 0 | R20: 0 | S20: INR | T20: 61132 | U20: 7620 | V20: 00/00/0000 | W20: 0 | X20: 0 | Y20: N | AA20: 9 | AB20: N | AC20: 00/00/0000 | AD20: N | AE20: 0 | AF20: 00/00/0000 | AG20: STD | AH20: 44042 | AI20: 999 | AJ20: STD
A21: 34615858539 | B21: TL CAR LOAN CLERICAL | C21: 85218330178 | D21: Mr. VYOMESHCHANDRA JETHALAL SO | E21: 445000 | F21: 5.5 | G21: 287995 | H21: 213787 | I21: =IF((G21-H21)>0,0,H21-G21) -> 0 | J21: =I21/U21 -> 0 | K21: 0 | L21: 42023 | M21: 86 | N21: 86 | O21: 0 | P21: 0 | Q21: 0 | R21: 0 | S21: INR | T21: 0 | U21: 3372 | V21: 00/00/0000 | W21: 0 | X21: 0 | Y21: N | AA21: 9 | AB21: N | AC21: 00/00/0000 | AD21: N | AE21: 0 | AF21: 00/00/0000 | AJ21: STD
A22: 36202401804 | B22: TL CAR LOAN CLERICAL | C22: 80075343897 | D22: Mrs. KAMALA P THAKORE | E22: 480000 | F22: 5.5 | G22: 351545 | H22: 305182 | I22: =IF((G22-H22)>0,0,H22-G22) -> 0 | J22: =I22/U22 -> 0 | K22: 0 | L22: 42669 | M22: 65 | N22: 65 | O22: 0 | P22: 0 | Q22: 0 | R22: 0 | S22: INR | T22: 0 | U22: 3637 | V22: 00/00/0000 | W22: 0 | X22: 0 | Y22: N | AA22: 9 | AB22: N | AC22: 00/00/0000 | AD22: N | AE22: 0 | AF22: 00/00/0000 | AJ22: STD
A23: 40029037815 | B23: TL CAR LOAN CLERICAL | C23: 85859033016 | D23: Mr. JATIN JIVANBHAI RUPALA | E23: 700000 | F23: 5.5 | G23: 675987 | H23: 668135 | I23: =IF((G23-H23)>0,0,H23-G23) -> 0 | J23: =I23/U23 -> 0 | K23: 0 | L23: 44257 | M23: 12 | N23: 12 | O23: 0 | P23: 0 | Q23: 0 | R23: 0 | S23: INR | T23: 0 | U23: 5304 | V23: 00/00/0000 | W23: 0 | X23: 0 | Y23: N | AA23: 9 | AB23: N | AC23: 00/00/0000 | AD23: N | AE23: 0 | AF23: 00/00/0000 | AJ23: STD
A24: 32389408667 | B24: TL CAR LOAN-EXECU/SUP STF | C24: 85185586545 | D24: Mr. NISHANT NAVIN CHANDRA BHAT | E24: 410000 | F24: 5.5 | G24: 154424 | H24: 33716 | I24: =IF((G24-H24)>0,0,H24-G24) -> 0 | J24: =I24/U24 -> 0 | K24: 0 | L24: 41081 | M24: 116 | N24: 116 | O24: 0 | P24: 0 | Q24: 0 | R24: 0 | S24: INR | T24: 0 | U24: 3107 | V24: 00/00/0000 | W24: 0 | X24: 0 | Y24: N | AA24: 9 | AB24: N | AC24: 00/00/0000 | AD24: N | AE24: 0 | AF24: 00/00/0000 | AJ24: STD
A25: 36002583244 | B25: TL CAR LOAN-EXECU/SUP STF | C25: 86066592615 | D25: Mr. MEHUL ANILBHAI MAKWANA | E25: 500000 | F25: 5.5 | G25: 369536 | H25: 325318 | I25: =IF((G25-H25)>0,0,H25-G25) -> 0 | J25: =I25/U25 -> 0 | K25: 0 | L25: 42594 | M25: 67 | N25: 67 | O25: 0 | P25: 0 | Q25: 0 | R25: 0 | S25: INR | T25: 0 | U25: 3788 | V25: 00/00/0000 | W25: 0 | X25: 0 | Y25: N | AA25: 9 | AB25: N | AC25: 00/00/0000 | AD25: N | AE25: 0 | AF25: 00/00/0000 | AJ25: STD
A26: 61323747338 | B26: D L Vehicle -CAR STAFF | C26: 71108857807 | D26: Mr. JIGAR CHANDRAKANT HINGU | E26: 256000 | F26: 5.5 | G26: 166509 | H26: 164208 | I26: =IF((G26-H26)>0,0,H26-G26) -> 0 | J26: =I26/U26 -> 0 | K26: 0 | L26: 42585 | M26: 67 | N26: 67 | O26: 0 | P26: 0 | Q26: 0 | R26: 0 | S26: INR | T26: 0 | U26: 2301 | V26: 00/00/0000 | W26: 0 | X26: 0 | Y26: N | AA26: 9 | AB26: N | AC26: 00/00/0000 | AD26: N | AE26: 0 | AF26: 00/00/0000 | AJ26: STD
A27: 35571391651 | B27: D L Vehi -2 Wheel STAFF | C27: 80084154004 | D27: Mr. BHAGVANDAS VITHALDAS PURAB | E27: 56000 | F27: 5.5 | G27: 3876 | H27: 3870 | I27: =IF((G27-H27)>0,0,H27-G27) -> 0 | J27: =I27/U27 -> 0 | K27: 0 | L27: 42417 | M27: 73 | N27: 73 | O27: 0 | P27: 0 | Q27: 0 | R27: 0 | S27: INR | T27: 0 | U27: 854 | V27: 00/00/0000 | W27: 0 | X27: 0 | Y27: N | AA27: 9 | AB27: N | AC27: 00/00/0000 | AD27: N | AE27: 0 | AF27: 00/00/0000 | AG27: STD | AH27: 43948 | AI27: 999 | AJ27: STD
A28: 37997462730 | B28: D L Vehi -2 Wheel STAFF | C28: 78116936223 | D28: Mr. HARKESHSINGH RAJPUT | E28: 61000 | F28: 5.5 | G28: 27551 | H28: 27551 | I28: =IF((G28-H28)>0,0,H28-G28) -> 0 | J28: =I28/U28 -> 0 | K28: 0 | L28: 43383 | M28: 42 | N28: 42 | O28: 0 | P28: 0 | Q28: 0 | R28: 0 | S28: INR | T28: 0 | U28: 1000 | V28: 00/00/0000 | W28: 0 | X28: 0 | AB28: N | AC28: 00/00/0000 | AD28: N | AE28: 0 | AF28: 00/00/0000 | AG28: STD | AH28: 43777 | AI28: 0 | AJ28: STD
A29: 39667475504 | B29: D L Vehi -2 Wheel STAFF | C29: 85859033016 | D29: Mr. JATIN JIVANBHAI RUPALA | E29: 72000 | F29: 5.5 | G29: 58633 | H29: 55765 | I29: =IF((G29-H29)>0,0,H29-G29) -> 0 | J29: =I29/U29 -> 0 | K29: 0 | L29: 44092 | M29: 18 | N29: 18 | O29: 0 | P29: 0 | Q29: 0 | R29: 0 | S29: INR | T29: 0 | U29: 1029 | V29: 00/00/0000 | W29: 0 | X29: 0 | AB29: N | AC29: 00/00/0000 | AD29: N | AE29: 0 | AF29: 00/00/0000 | AJ29: STD
A30: 40003124458 | B30: D L Vehi -2 Wheel STAFF | C30: 80075343897 | D30: Mrs. KAMALA P THAKORE | E30: 76000 | F30: 5.5 | G30: 66278 | H30: 59375 | I30: =IF((G30-H30)>0,0,H30-G30) -> 0 | J30: =I30/U30 -> 0 | K30: 0 | L30: 44238 | M30: 13 | N30: 13 | O30: 0 | P30: 0 | Q30: 0 | R30: 0 | S30: INR | T30: 0 | U30: 1071 | V30: 00/00/0000 | W30: 0 | X30: 0 | Y30: N | AA30: 9 | AB30: N | AC30: 00/00/0000 | AD30: N | AE30: 0 | AF30: 00/00/0000 | AG30: STD | AH30: 44424 | AI30: 0 | AJ30: STD
A31: 38854452818 | B31: EB-HOME TOPUP SEP 19 | C31: 85029842295 | D31: Mrs. RENUKA LALITKUMAR BANKER | E31: 700000 | F31: 7.2 | G31: 665267 | H31: 639998.38 | I31: =IF((G31-H31)>0,0,H31-G31) -> 0 | J31: =I31/U31 -> 0 | K31: 0 | L31: 43756 | M31: 19 | N31: 19 | O31: 0 | P31: 0 | Q31: 0 | R31: 0 | S31: INR | T31: 15355 | U31: 6935 | V31: 00/00/0000 | W31: 0 | X31: 0 | Y31: N | AA31: 9 | AB31: N | AC31: 00/00/0000 | AD31: N | AE31: 0 | AF31: 00/00/0000 | AG31: STD | AH31: 43948 | AI31: 0 | AJ31: STD
A32: 39840354433 | B32: EB-HOME TOPUP-MAY 20 | C32: 85614113074 | D32: Mr. BHIKHABHAI GANDABHAI PATEL | E32: 1000000 | F32: 7.75 | G32: 894428 | H32: 36463 | I32: =IF((G32-H32)>0,0,H32-G32) -> 0 | J32: =I32/U32 -> 0 | K32: 0 | L32: 44167 | M32: 15 | N32: 15 | O32: 0 | P32: 0 | Q32: 0 | R32: 0 | S32: INR | T32: 15355 | U32: 9469 | V32: 00/00/0000 | W32: 0 | X32: 0 | Y32: N | AA32: 9 | AB32: N | AC32: 00/00/0000 | AD32: N | AE32: 0 | AF32: 00/00/0000 | AJ32: STD
A33: 39735485458 | B33: MC-SBI PENSION LOAN-JAN17 | C33: 80232567809 | D33: Mr. VITHALBHAI SOMABHAI MEVADA | E33: 590000 | F33: 9.75 | G33: 451803 | H33: 451191 | I33: =IF((G33-H33)>0,0,H33-G33) -> 0 | J33: =I33/U33 -> 0 | K33: 0 | L33: 44119 | M33: 17 | N33: 17 | O33: 0 | P33: 0 | Q33: 0 | R33: 0 | S33: INR | T33: 0 | U33: 12464 | V33: 00/00/0000 | W33: 0 | X33: 0 | Y33: N | AA33: 9 | AB33: N | AC33: 00/00/0000 | AD33: N | AE33: 0 | AF33: 00/00/0000 | AJ33: STD
A34: 30030816521 | B34: H T L Floating Int PER | C34: 85053016381 | D34: Mr. JAYESH KUMAR VAGHELA | E34: 618000 | F34: 9.8 | G34: 70336 | H34: 34032.97 | I34: =IF((G34-H34)>0,0,H34-G34) -> 0 | J34: =I34/U34 -> 0 | K34: 0 | L34: 38724 | M34: 19 | N34: 19 | O34: 0 | P34: 0 | Q34: 0 | R34: 0 | S34: INR | T34: 15355 | U34: 6666 | V34: 00/00/0000 | W34: 0 | X34: 0 | Y34: N | AA34: 9 | AB34: N | AC34: 00/00/0000 | AD34: N | AE34: 0 | AF34: 00/00/0000 | AG34: STD | AH34: 43928 | AI34: 0 | AJ34: STD
A35: 30030707747 | B35: HTL FLOAT(PER)NOV/04 | C35: 85017292968 | D35: Mrs. MANJULA KAILASHCHANDRA SH | E35: 500000 | F35: 9.55 | G35: 125917.33 | H35: 123227.66 | I35: =IF((G35-H35)>0,0,H35-G35) -> 0 | J35: =I35/U35 -> 0 | K35: 0 | L35: 38723 | M35: 19 | N35: 19 | O35: 0 | P35: 0 | Q35: 0 | R35: 0 | S35: INR | T35: 15355 | U35: 3601 | V35: 00/00/0000 | W35: 0 | X35: 0 | Y35: N | AA35: 9 | AB35: N | AC35: 00/00/0000 | AD35: N | AE35: 0 | AF35: 00/00/0000 | AG35: STD | AH35: 44610 | AI35: 0 | AJ35: STD
A36: 30100657221 | B36: HTL FLOAT(PER)MAY/06 | C36: 80083832323 | D36: Mrs. ASHABEN KARSANBHAI CHUDAS | E36: 364000 | F36: 10.3 | G36: 49233.6 | H36: 18519.46 | I36: =IF((G36-H36)>0,0,H36-G36) -> 0 | J36: =I36/U36 -> 0 | K36: 0 | L36: 39062 | M36: 19 | N36: 19 | O36: 0 | P36: 0 | Q36: 0 | R36: 0 | S36: INR | T36: 15355 | U36: 4058 | V36: 00/00/0000 | W36: 0 | X36: 0 | Y36: N | AA36: 9 | AB36: N | AC36: 00/00/0000 | AD36: N | AE36: 0 | AF36: 00/00/0000 | AJ36: STD
A37: 30109942118 | B37: HTL FLOAT(PER)MAY/06 | C37: 80084077559 | D37: Mr. VIJAYVARGIY MANOJ RAMSWAR | E37: 415000 | F37: 10.3 | G37: 58386 | H37: 30193.62 | I37: =IF((G37-H37)>0,0,H37-G37) -> 0 | J37: =I37/U37 -> 0 | K37: 0 | L37: 39087 | M37: 19 | N37: 19 | O37: 0 | P37: 0 | Q37: 0 | R37: 0 | S37: INR | T37: 15355 | U37: 4587 | V37: 00/00/0000 | W37: 0 | X37: 0 | Y37: N | AA37: 9 | AB37: N | AC37: 00/00/0000 | AD37: N | AE37: 0 | AF37: 00/00/0000 | AJ37: STD
A38: 30252890944 | B38: HTL FLOT(P) 20 02 07 | C38: 85142036261 | D38: Mr. SUBHASH AMRUTLAL BAROT | E38: 306000 | F38: 10.05 | G38: 194722.49 | H38: 160840.38 | I38: =IF((G38-H38)>0,0,H38-G38) -> 0 | J38: =I38/U38 -> 0 | K38: 0 | L38: 39358 | M38: 19 | N38: 19 | O38: 0 | P38: 0 | Q38: 0 | R38: 0 | S38: INR | T38: 15355 | U38: 3107 | V38: 00/00/0000 | W38: 0 | X38: 0 | Y38: N | AA38: 9 | AB38: N | AC38: 00/00/0000 | AD38: N | AE38: 0 | AF38: 00/00/0000 | AJ38: STD
A39: 30293844809 | B39: HTL FLOT(P) 20 02 07 | C39: 85170857853 | D39: Mr. JAGDISHBHAI BHANJIBHAI RAT | E39: 240000 | F39: 9.65 | G39: 174025.1 | H39: 117104.65 | I39: =IF((G39-H39)>0,0,H39-G39) -> 0 | J39: =I39/U39 -> 0 | K39: 0 | L39: 39431 | M39: 19 | N39: 19 | O39: 0 | P39: 0 | Q39: 0 | R39: 0 | S39: INR | T39: 15355 | U39: 3352 | V39: 00/00/0000 | W39: 0 | X39: 0 | Y39: N | AA39: 9 | AB39: N | AC39: 00/00/0000 | AD39: N | AE39: 0 | AF39: 00/00/0000 | AJ39: STD
A40: 30404938659 | B40: HTL FLOT(P) 20 02 07 | C40: 85252188583 | D40: Mrs. KIRAN KAMLEShKUMAR PATEL | E40: 452000 | F40: 10.05 | G40: 227477 | H40: 99113.08 | I40: =IF((G40-H40)>0,0,H40-G40) -> 0 | J40: =I40/U40 -> 0 | K40: 0 | L40: 39615 | M40: 19 | N40: 19 | O40: 0 | P40: 0 | Q40: 0 | R40: 0 | S40: INR | T40: 15355 | U40: 4796 | V40: 00/00/0000 | W40: 0 | X40: 0 | Y40: N | AA40: 9 | AB40: N | AC40: 00/00/0000 | AD40: N | AE40: 0 | AF40: 00/00/0000 | AJ40: STD
...

Sheet Sheet11
A2: Acct No | B2: 35699626726
B3: =VLOOKUP(B2,'Sheet1 (2)'!A:D,4,0) -> Mrs. RENUKA LALITKUMAR BANKER
B4: =VLOOKUP(B2,'Sheet1 (2)'!A:G,7,0) -> 826206
A6: Loan | B6: =VLOOKUP(B2,'Sheet1 (2)'!A:E,5,0) -> 822217
A7: Rate | B7: =VLOOKUP(B2,'Sheet1 (2)'!A:F,6,0) -> 5.5
A8: Years | B8: 12
A9: EMI | B9: =-PMT(B7%/12,B8*12,B6) -> 7812.4771 | C9: =_xlfn.FORMULATEXT(B9) -> =-PMT(B7%/12,B8*12,B6)
A11: As on | B11: 45747
A12: Sanction Date | B12: =VLOOKUP(B2,'Sheet1 (2)'!A:L,12,0) -> 42465
A13: Months | B13: =DATEDIF(B12,B11,"M") -> 107
A15: Total Amt | B15: =B9*B13 -> 835935.05
A16: Principal | B16: =-CUMPRINC(B7%/12,B8*12,B6,1,B13,0) -> 556894.18
A17: Interest | B17: =-CUMIPMT(B7%/12,B8*12,B6,1,B13,0) -> 279040.87
A18: Check | B18: =B15-B16-B17 -> 0
A20: Theo bal | B20: =B6-B16 -> 265322.82
A21: o/s | B21: =B4 -> 826206
A22: Diff

Sheet Sheet2
A1: PMT() | B1: Calculates the Equa. Insta. | C1: PV | D1: RATE | E1: NPER | F1: -
A2: PV() | B2: Calculates the Present Value | C2: - | D2: RATE | E2: NPER | F2: EMI
A3: RATE() | B3: Calculates the Rate of Interest | C3: PV | D3: - | E3: NPER | F3: EMI
A4: NPER() | B4: Calculates the Number of Per. | C4: PV | D4: RATE | E4: - | F4: EMI
A5: IPMT() | B5: Calculates the Int. Portion in Equ. Insta. | C5: PV | D5: RATE | E5: NPER | F5: - | G5: Per
A6: PPMT() | B6: Calculates the Princ. Portion in Equ. Insta. | C6: PV | D6: RATE | E6: NPER | F6: - | G6: Per
A7: CUMIPMT() | B7: Calculates the Cum. Int. Portion in Equ. Insta. From x period to y period | C7: PV | D7: RATE | E7: NPER | F7: - | G7: start_per | H7: end_per
A8: CUMPRINC() | B8: Calculates the Cum. Princ. Portion in Equ. Insta. From x period to y period | C8: PV | D8: RATE | E8: NPER | F8: - | G8: start_per | H8: end_per
A9: FV() | B9: Calculates the Present Value | C9: PV | D9: RATE | E9: NPER | F9: -
