Workbook
Name AuditType: Sheet8!$C$2:$C$5
Name Staff: Sheet8!$A$2:$A$6

Sheet Sheet1
A1: REPORT ID: BR2390- | B1: 1 | C1: STATE BA | D1: NK OF INDIA | E1: RUN DATE: 02/ | F1: 45383.167 | G1: 0
A2: AREA: | E2: PROC DATE: 31/ | F2: 44621
C3: LOANS B | D3: ALANCE FILE
A4: BRANCH :121221 | B4: BRANCH NAME : BAHUBALI | E4: PAGE NO : 1
A5: _x001B_!E
A6: ------------------ | B6: ------------------------------ | C6: --------------- | D6: ------------------------------------ | E6: ------------------- | F6: ------------ | G6: --------------------- | H6: ------------------------ | I6: ------------------------ | J6: ------------ | K6: ------- | L6: ------- | M6: ------- | N6: ----- | O6: ------- | P6: -------- | Q6: ------------ | R6: ----------------- | S6: ------------------------ | T6: -------------- | U6: ------------------ | V6: ------------------- | W6: -------- | X6: --------- | Y6: ----------------- | Z6: --- | AA6: ----------- | AB6: ----------------- | AC6: ------------------- | AD6: -------------- | AE6: ----------- | AF6: ------------ | AG6: ---------------------- | AH6: ------
A7: ACCOUNT NO | B7: ACCOUNT TYPE (DESCRIPTION) | C7: CUSTOMER NUMBER | D7: CUSTOMER NAME | E7: LIMIT I | F7: NT RATE | G7: THEO. BALANCE | H7: OUTSTANDING | I7: IRREGULARITY | J7: SANCTION | K7: EMIS | L7: EMIS | M7: EMIS | N7: NEW | O7: OLD | P7: ARREAR | Q7: CURRENCY | R7: ACCT-MTAIN-BRCH | S7: NEXT-DUE-AMOUNT | T7: IRRG-DATE | U7: UNREALISED-INT | V7: ACCRU-INT | W7: STRESS | X7: SMA-CODE- | Y7: INCIPIENT-STRESS | Z7: RA | AA7: RA-DATE | AB7: WRITE-OFF-FLAG | AC7: WRITE-OFF-AMOUNT | AD7: WRITE-OFF-DATE | AE7: SMA-CLASS | AF7: SMA-DATE | AG7: SMA-ARREAR-CONDITION
J8: DATE | K8: DUE | L8: PAID | M8: OVERDUE | N8: IRAC | O8: IRAC | P8: COND
A9: ------------------ | B9: ------------------------------ | C9: --------------- | D9: ------------------------------------ | E9: ------------------- | F9: ------------ | G9: -------------------- | H9: ------------- | I9: ------------------------ | J9: ------------ | K9: ------- | L9: ------- | M9: ------- | N9: ----- | O9: ------- | P9: -------- | Q9: ------------ | R9: ----------------- | S9: ------------------------ | T9: -------------- | U9: ------------------ | V9: ------------------- | W9: -------- | X9: --------- | Y9: ----------------- | Z9: --- | AA9: ----------- | AB9: ----------------- | AC9: ------------------- | AD9: -------------- | AE9: ----------- | AF9: ------------ | AG9: ---------------------- | AH9: ------
A10: 36010441482 | B10: SCH LN L-A STAF-WARD<=20L | C10: 87842685671 | D10: Ms. NEHA KUMARI | E10: 1262000 | F10: 5.95 | G10: 1351586 | H10: 568721 | I10: 0 | J10: 42598 | K10: 7 | L10: 7 | M10: 0 | N10: 0 | O10: 0 | P10: 0 | Q10: INR | R10: 0 | S10: 6600 | T10: 00/00/0000 | U10: 0 | V10: 0 | W10: N | Y10: 9 | Z10: N | AA10: 00/00/0000 | AB10: N | AC10: 0 | AD10: 00/00/0000 | AE10: STD | AF10: 43841 | AG10: 999
A11: ------------------ | B11: ------------------------------ | C11: --------------- | D11: ------------------------------------ | E11: ------------------- | F11: ------------ | G11: -------------------- | H11: ------------- | I11: ------------------------ | J11: ------------ | K11: ------- | L11: ------- | M11: ------- | N11: ----- | O11: ------- | P11: -------- | Q11: ------------ | R11: ----------------- | S11: ------------------------ | T11: -------------- | U11: ------------------ | V11: ------------------- | W11: -------- | X11: --------- | Y11: ----------------- | Z11: --- | AA11: ----------- | AB11: ----------------- | AC11: ------------------- | AD11: -------------- | AE11: ----------- | AF11: ------------ | AG11: ---------------------- | AH11: ------
A12: PRODUCT TOTALS | B12: SCH LN L-A STAF-WARD<=20L | E12: 1262000 | G12: 1351586 | H12: 568721 | I12: 0
A13: ------------------ | B13: ------------------------------ | C13: --------------- | D13: ------------------------------------ | E13: ------------------- | F13: ------------ | G13: -------------------- | H13: ------------- | I13: ------------------------ | J13: ------------ | K13: ------- | L13: ------- | M13: ------- | N13: ----- | O13: ------- | P13: -------- | Q13: ------------ | R13: ----------------- | S13: ------------------------ | T13: -------------- | U13: ------------------ | V13: ------------------- | W13: -------- | X13: --------- | Y13: ----------------- | Z13: --- | AA13: ----------- | AB13: ----------------- | AC13: ------------------- | AD13: -------------- | AE13: ----------- | AF13: ------------ | AG13: ---------------------- | AH13: ------
A14: 40153740769 | B14: GLOBAL ED-VANTAGE STAFF | C14: 87256554881 | D14: BHAVESHKUMAR SHAILENDRAKUMAR | E14: 2500000 | F14: 5.95 | G14: 1386493 | H14: 1318493 | I14: 0 | J14: 44315 | K14: 1 | L14: 1 | M14: 0 | N14: 0 | O14: 0 | P14: 0 | Q14: INR | R14: 15355 | S14: 24356 | T14: 00/00/0000 | U14: 0 | V14: 0 | Z14: N | AA14: 00/00/0000 | AB14: N | AC14: 0 | AD14: 00/00/0000
A15: 40311469256 | B15: GLOBAL ED-VANTAGE STAFF | C15: 85540684378 | D15: Miss. KRUTIKA RAMESHKUMAR RATH | E15: 2700000 | F15: 5.45 | G15: 1187410 | H15: 1171410 | I15: 0 | J15: 44403 | K15: 1 | L15: 1 | M15: 0 | N15: 0 | O15: 0 | P15: 0 | Q15: INR | R15: 15355 | S15: 22070 | T15: 00/00/0000 | U15: 0 | V15: 0 | W15: N | Y15: 9 | Z15: N | AA15: 00/00/0000 | AB15: N | AC15: 0 | AD15: 00/00/0000
A16: ------------------ | B16: ------------------------------ | C16: --------------- | D16: ------------------------------------ | E16: ------------------- | F16: ------------ | G16: -------------------- | H16: ------------- | I16: ------------------------ | J16: ------------ | K16: ------- | L16: ------- | M16: ------- | N16: ----- | O16: ------- | P16: -------- | Q16: ------------ | R16: ----------------- | S16: ------------------------ | T16: -------------- | U16: ------------------ | V16: ------------------- | W16: -------- | X16: --------- | Y16: ----------------- | Z16: --- | AA16: ----------- | AB16: ----------------- | AC16: ------------------- | AD16: -------------- | AE16: ----------- | AF16: ------------ | AG16: ---------------------- | AH16: ------
A17: PRODUCT TOTALS | B17: GLOBAL ED-VANTAGE STAFF | E17: 5200000 | G17: 2573903 | H17: 2489903 | I17: 0
A18: ------------------ | B18: ------------------------------ | C18: --------------- | D18: ------------------------------------ | E18: ------------------- | F18: ------------ | G18: -------------------- | H18: ------------- | I18: ------------------------ | J18: ------------ | K18: ------- | L18: ------- | M18: ------- | N18: ----- | O18: ------- | P18: -------- | Q18: ------------ | R18: ----------------- | S18: ------------------------ | T18: -------------- | U18: ------------------ | V18: ------------------- | W18: -------- | X18: --------- | Y18: ----------------- | Z18: --- | AA18: ----------- | AB18: ----------------- | AC18: ------------------- | AD18: -------------- | AE18: ----------- | AF18: ------------ | AG18: ---------------------- | AH18: ------
A19: 30392350760 | B19: HOUSING LOAN CLERICAL STF | C19: 80084155745 | D19: Mr. KSHATRIYA GAUTAM JAGANNAT | E19: 788000 | F19: 5.5 | G19: 420779 | H19: 316259 | I19: 0 | J19: 39596 | K19: 36 | L19: 36 | M19: 0 | N19: 0 | O19: 0 | P19: 0 | Q19: INR | R19: 15355 | S19: 1680 | T19: 00/00/0000 | U19: 0 | V19: 0 | W19: N | Y19: 9 | Z19: N | AA19: 00/00/0000 | AB19: N | AC19: 0 | AD19: 00/00/0000 | AE19: STD | AF19: 43841 | AG19: 999
A20: 32882807091 | B20: HOUSING LOAN CLERICAL STF | C20: 85216537551 | D20: Mr. SHASHIKANT KANUBHAI TAPASV | E20: 713169 | F20: 5.5 | G20: 488924 | H20: 481177 | I20: 0 | J20: 41347 | K20: 108 | L20: 108 | M20: 0 | N20: 0 | O20: 0 | P20: 0 | Q20: INR | R20: 15355 | S20: 4403 | T20: 00/00/0000 | U20: 0 | V20: 0 | W20: N | Y20: 9 | Z20: N | AA20: 00/00/0000 | AB20: N | AC20: 0 | AD20: 00/00/0000
A21: 34165816257 | B21: HOUSING LOAN CLERICAL STF | C21: 85430762376 | D21: Mr. NITIN SOLANKEY | E21: 1200000 | F21: 5.5 | G21: 948962 | H21: 940819 | I21: 0 | J21: 41890 | K21: 90 | L21: 90 | M21: 0 | N21: 0 | O21: 0 | P21: 0 | Q21: INR | R21: 15355 | S21: 7143 | T21: 00/00/0000 | U21: 0 | V21: 0 | W21: N | Y21: 9 | Z21: N | AA21: 00/00/0000 | AB21: N | AC21: 0 | AD21: 00/00/0000
A22: ------------------ | B22: ------------------------------ | C22: --------------- | D22: ------------------------------------ | E22: ------------------- | F22: ------------ | G22: -------------------- | H22: ------------- | I22: ------------------------ | J22: ------------ | K22: ------- | L22: ------- | M22: ------- | N22: ----- | O22: ------- | P22: -------- | Q22: ------------ | R22: ----------------- | S22: ------------------------ | T22: -------------- | U22: ------------------ | V22: ------------------- | W22: -------- | X22: --------- | Y22: ----------------- | Z22: --- | AA22: ----------- | AB22: ----------------- | AC22: ------------------- | AD22: -------------- | AE22: ----------- | AF22: ------------ | AG22: ---------------------- | AH22: ------
A23: PRODUCT TOTALS | B23: HOUSING LOAN CLERICAL STF | E23: 2701169 | G23: 1858665 | H23: 1738255 | I23: 0
A24: ------------------ | B24: ------------------------------ | C24: --------------- | D24: ------------------------------------ | E24: ------------------- | F24: ------------ | G24: -------------------- | H24: ------------- | I24: ------------------------ | J24: ------------ | K24: ------- | L24: ------- | M24: ------- | N24: ----- | O24: ------- | P24: -------- | Q24: ------------ | R24: ----------------- | S24: ------------------------ | T24: -------------- | U24: ------------------ | V24: ------------------- | W24: -------- | X24: --------- | Y24: ----------------- | Z24: --- | AA24: ----------- | AB24: ----------------- | AC24: ------------------- | AD24: -------------- | AE24: ----------- | AF24: ------------ | AG24: ---------------------- | AH24: ------
A25: 31656262085 | B25: HOUSING LOAN SUP STAFF | C25: 76005571215 | D25: Mr. BHARATBHAI CHHAGANBHAI RAT | E25: 1368000 | F25: 5.5 | G25: 883392 | H25: 883392 | I25: 0 | J25: 40606 | K25: 87 | L25: 87 | M25: 0 | N25: 0 | O25: 0 | P25: 0 | Q25: INR | R25: 15355 | S25: 9121 | T25: 00/00/0000 | U25: 0 | V25: 0 | W25: N | Y25: 9 | Z25: N | AA25: 00/00/0000 | AB25: N | AC25: 0 | AD25: 00/00/0000 | AE25: STD | AF25: 44537 | AG25: 0
A26: ------------------ | B26: ------------------------------ | C26: --------------- | D26: ------------------------------------ | E26: ------------------- | F26: ------------ | G26: -------------------- | H26: ------------- | I26: ------------------------ | J26: ------------ | K26: ------- | L26: ------- | M26: ------- | N26: ----- | O26: ------- | P26: -------- | Q26: ------------ | R26: ----------------- | S26: ------------------------ | T26: -------------- | U26: ------------------ | V26: ------------------- | W26: -------- | X26: --------- | Y26: ----------------- | Z26: --- | AA26: ----------- | AB26: ----------------- | AC26: ------------------- | AD26: -------------- | AE26: ----------- | AF26: ------------ | AG26: ---------------------- | AH26: ------
A27: PRODUCT TOTALS | B27: HOUSING LOAN SUP STAFF | E27: 1368000 | G27: 883392 | H27: 883392 | I27: 0
A28: ------------------ | B28: ------------------------------ | C28: --------------- | D28: ------------------------------------ | E28: ------------------- | F28: ------------ | G28: -------------------- | H28: ------------- | I28: ------------------------ | J28: ------------ | K28: ------- | L28: ------- | M28: ------- | N28: ----- | O28: ------- | P28: -------- | Q28: ------------ | R28: ----------------- | S28: ------------------------ | T28: -------------- | U28: ------------------ | V28: ------------------- | W28: -------- | X28: --------- | Y28: ----------------- | Z28: --- | AA28: ----------- | AB28: ----------------- | AC28: ------------------- | AD28: -------------- | AE28: ----------- | AF28: ------------ | AG28: ---------------------- | AH28: ------
A29: 34557969977 | B29: IHL-CLERICAL STAFF | C29: 85430762376 | D29: Mr. NITIN SOLANKEY | E29: 393114 | F29: 5.5 | G29: 321148 | H29: 318750 | I29: 0 | J29: 42005 | K29: 86 | L29: 86 | M29: 0 | N29: 0 | O29: 0 | P29: 0 | Q29: INR | R29: 15355 | S29: 2398 | T29: 00/00/0000 | U29: 0 | V29: 0 | W29: N | Y29: 9 | Z29: N | AA29: 00/00/0000 | AB29: N | AC29: 0 | AD29: 00/00/0000
A30: 35344386017 | B30: IHL-CLERICAL STAFF | C30: 85432218493 | D30: Mr. MANISH VITTHALBHAI MEVADA | E30: 3867000 | F30: 5.5 | G30: 3874274 | H30: 3860150 | I30: 0 | J30: 42325 | K30: 74 | L30: 74 | M30: 0 | N30: 0 | O30: 0 | P30: 0 | Q30: INR | R30: 15355 | S30: 16572 | T30: 00/00/0000 | U30: 0 | V30: 0 | W30: N | Y30: 9 | Z30: N | AA30: 00/00/0000 | AB30: N | AC30: 0 | AD30: 00/00/0000 | AE30: STD | AF30: 43841 | AG30: 999
A31: 35699626726 | B31: IHL-CLERICAL STAFF | C31: 85029842295 | D31: Mrs. RENUKA LALITKUMAR BANKER | E31: 822217 | F31: 5.5 | G31: 826206 | H31: 811206 | I31: 0 | J31: 42465 | K31: 72 | L31: 72 | M31: 0 | N31: 0 | O31: 0 | P31: 0 | Q31: INR | R31: 15355 | S31: 3529 | T31: 00/00/0000 | U31: 0 | V31: 0 | W31: N | Y31: 9 | Z31: N | AA31: 00/00/0000 | AB31: N | AC31: 0 | AD31: 00/00/0000
A32: 36881131068 | B32: IHL-CLERICAL STAFF | C32: 80084155687 | D32: Mr. MAHENDRA BHAGWANDAS CHAUHA | E32: 1485000 | F32: 5.5 | G32: 1282106 | H32: 1281407 | I32: 0 | J32: 42867 | K32: 58 | L32: 58 | M32: 0 | N32: 0 | O32: 0 | P32: 0 | Q32: INR | R32: 61132 | S32: 9770 | T32: 00/00/0000 | U32: 0 | V32: 0 | W32: N | Y32: 9 | Z32: N | AA32: 00/00/0000 | AB32: N | AC32: 0 | AD32: 00/00/0000 | AE32: STD | AF32: 43538 | AG32: 0
A33: 37496825525 | B33: IHL-CLERICAL STAFF | C33: 80075343897 | D33: Mrs. KAMALA P THAKORE | E33: 2092500 | F33: 5.5 | G33: 2082268 | H33: 2023418 | I33: 0 | J33: 43131 | K33: 50 | L33: 50 | M33: 0 | N33: 0 | O33: 0 | P33: 0 | Q33: INR | R33: 61132 | S33: 8793 | T33: 00/00/0000 | U33: 0 | V33: 0 | W33: N | Y33: 9 | Z33: N | AA33: 00/00/0000 | AB33: N | AC33: 0 | AD33: 00/00/0000 | AE33: STD | AF33: 44020 | AG33: 999
A34: 39859049032 | B34: IHL-CLERICAL STAFF | C34: 80631264427 | D34: Mr. NARENDRASINGH RAGHUVERSING | E34: 4005000 | F34: 5.95 | G34: 4060759 | H34: 4039094 | I34: 0 | J34: 44175 | K34: 15 | L34: 15 | M34: 0 | N34: 0 | O34: 0 | P34: 0 | Q34: INR | R34: 15355 | S34: 14889 | T34: 00/00/0000 | U34: 0 | V34: 0 | Z34: N | AA34: 00/00/0000 | AB34: N | AC34: 0 | AD34: 00/00/0000 | AE34: STD | AF34: 44202 | AG34: 0
A35: 40083020920 | B35: IHL-CLERICAL STAFF | C35: 86613403381 | D35: Ms. LAJJA AJAYKUMAR SONDAGER | E35: 3000000 | F35: 5.5 | G35: 3010865 | H35: 2998503 | I35: 0 | J35: 44274 | K35: 12 | L35: 12 | M35: 0 | N35: 0 | O35: 0 | P35: 0 | Q35: INR | R35: 15355 | S35: 12449 | T35: 00/00/0000 | U35: 0 | V35: 0 | W35: N | Y35: 9 | Z35: N | AA35: 00/00/0000 | AB35: N | AC35: 0 | AD35: 00/00/0000 | AE35: STD | AF35: 44290 | AG35: 0
A36: 40097074641 | B36: IHL-CLERICAL STAFF | C36: 85218330178 | D36: Mr. VYOMESHCHANDRA JETHALAL SO | E36: 1500000 | F36: 5.5 | G36: 1505763 | H36: 1504599 | I36: 0 | J36: 44283 | K36: 12 | L36: 12 | M36: 0 | N36: 0 | O36: 0 | P36: 0 | Q36: INR | R36: 15355 | S36: 6303 | T36: 00/00/0000 | U36: 0 | V36: 0 | W36: N | Y36: 9 | Z36: N | AA36: 00/00/0000 | AB36: N | AC36: 0 | AD36: 00/00/0000 | AE36: STD | AF36: 44645 | AG36: 0
A37: 40249217729 | B37: IHL-CLERICAL STAFF | C37: 85859033016 | D37: Mr. JATIN JIVANBHAI RUPALA | E37: 4320000 | F37: 5.95 | G37: 4336624 | H37: 4333993 | I37: 0 | J37: 44373 | K37: 9 | L37: 9 | M37: 0 | N37: 0 | O37: 0 | P37: 0 | Q37: INR | R37: 15355 | S37: 17926 | T37: 00/00/0000 | U37: 0 | V37: 0 | W37: N | Y37: 9 | Z37: N | AA37: 00/00/0000 | AB37: N | AC37: 0 | AD37: 00/00/0000
A38: ------------------ | B38: ------------------------------ | C38: --------------- | D38: ------------------------------------ | E38: ------------------- | F38: ------------ | G38: -------------------- | H38: ------------- | I38: ------------------------ | J38: ------------ | K38: ------- | L38: ------- | M38: ------- | N38: ----- | O38: ------- | P38: -------- | Q38: ------------ | R38: ----------------- | S38: ------------------------ | T38: -------------- | U38: ------------------ | V38: ------------------- | W38: -------- | X38: --------- | Y38: ----------------- | Z38: --- | AA38: ----------- | AB38: ----------------- | AC38: ------------------- | AD38: -------------- | AE38: ----------- | AF38: ------------ | AG38: ---------------------- | AH38: ------
A39: PRODUCT TOTALS | B39: IHL-CLERICAL STAFF | E39: 21484831 | G39: 21300013 | H39: 21171120 | I39: 0
A40: ------------------ | B40: ------------------------------ | C40: --------------- | D40: ------------------------------------ | E40: ------------------- | F40: ------------ | G40: -------------------- | H40: ------------- | I40: ------------------------ | J40: ------------ | K40: ------- | L40: ------- | M40: ------- | N40: ----- | O40: ------- | P40: -------- | Q40: ------------ | R40: ----------------- | S40: ------------------------ | T40: -------------- | U40: ------------------ | V40: ------------------- | W40: -------- | X40: --------- | Y40: ----------------- | Z40: --- | AA40: ----------- | AB40: ----------------- | AC40: ------------------- | AD40: -------------- | AE40: ----------- | AF40: ------------ | AG40: ---------------------- | AH40: ------
A41: 34033582556 | B41: IHL-OFF UPTO SMG-V-SEP 14 | C41: 85538694483 | D41: Miss. AKRITI PHITKARIWALA | E41: 2000000 | F41: 5.5 | G41: 1476195 | H41: 1472680 | I41: 0 | J41: 41862 | K41: 91 | L41: 91 | M41: 0 | N41: 0 | O41: 0 | P41: 0 | Q41: INR | R41: 15355 | S41: 11905 | T41: 00/00/0000 | U41: 0 | V41: 0 | W41: N | Y41: 9 | Z41: N | AA41: 00/00/0000 | AB41: N | AC41: 0 | AD41: 00/00/0000 | AE41: STD | AF41: 43526 | AG41: 0
A42: 37845431603 | B42: IHL-OFF UPTO SMG-V-SEP 14 | C42: 71004045858 | D42: Mr. KAMLESH CHANDRAKANT PADHAR | E42: 6000000 | F42: 5.95 | G42: 6627486 | H42: 6351079 | I42: 0 | J42: 43312 | K42: 22 | L42: 22 | M42: 0 | N42: 0 | O42: 0 | P42: 0 | Q42: INR | R42: 15355 | S42: 20977 | T42: 00/00/0000 | U42: 0 | V42: 0 | W42: N | Y42: 9 | Z42: N | AA42: 00/00/0000 | AB42: N | AC42: 0 | AD42: 00/00/0000 | AE42: STD | AF42: 44032 | AG42: 0
A43: ------------------ | B43: ------------------------------ | C43: --------------- | D43: ------------------------------------ | E43: ------------------- | F43: ------------ | G43: -------------------- | H43: ------------- | I43: ------------------------ | J43: ------------ | K43: ------- | L43: ------- | M43: ------- | N43: ----- | O43: ------- | P43: -------- | Q43: ------------ | R43: ----------------- | S43: ------------------------ | T43: -------------- | U43: ------------------ | V43: ------------------- | W43: -------- | X43: --------- | Y43: ----------------- | Z43: --- | AA43: ----------- | AB43: ----------------- | AC43: ------------------- | AD43: -------------- | AE43: ----------- | AF43: ------------ | AG43: ---------------------- | AH43: ------
A44: PRODUCT TOTALS | B44: IHL-OFF UPTO SMG-V-SEP 14 | E44: 8000000 | G44: 8103681 | H44: 7823759 | I44: 0
A45: ------------------ | B45: ------------------------------ | C45: --------------- | D45: ------------------------------------ | E45: ------------------- | F45: ------------ | G45: -------------------- | H45: ------------- | I45: ------------------------ | J45: ------------ | K45: ------- | L45: ------- | M45: ------- | N45: ----- | O45: ------- | P45: -------- | Q45: ------------ | R45: ----------------- | S45: ------------------------ | T45: -------------- | U45: ------------------ | V45: ------------------- | W45: -------- | X45: --------- | Y45: ----------------- | Z45: --- | AA45: ----------- | AB45: ----------------- | AC45: ------------------- | AD45: -------------- | AE45: ----------- | AF45: ------------ | AG45: ---------------------- | AH45: ------
A46: 32389000329 | B46: H T L Addl Hsg STAFF | C46: 85006246968 | D46: Mr. SHIV KUMAR MISHRA | E46: 960000 | F46: 5.5 | G46: 359538 | H46: 350684 | I46: 0 | J46: 41081 | K46: 117 | L46: 117 | M46: 0 | N46: 0 | O46: 0 | P46: 0 | Q46: INR | R46: 61132 | S46: 7620 | T46: 00/00/0000 | U46: 0 | V46: 0 | W46: N | Y46: 9 | Z46: N | AA46: 00/00/0000 | AB46: N | AC46: 0 | AD46: 00/00/0000 | AE46: STD | AF46: 44042 | AG46: 999
A47: ------------------ | B47: ------------------------------ | C47: --------------- | D47: ------------------------------------ | E47: ------------------- | F47: ------------ | G47: -------------------- | H47: ------------- | I47: ------------------------ | J47: ------------ | K47: ------- | L47: ------- | M47: ------- | N47: ----- | O47: ------- | P47: -------- | Q47: ------------ | R47: ----------------- | S47: ------------------------ | T47: -------------- | U47: ------------------ | V47: ------------------- | W47: -------- | X47: --------- | Y47: ----------------- | Z47: --- | AA47: ----------- | AB47: ----------------- | AC47: ------------------- | AD47: -------------- | AE47: ----------- | AF47: ------------ | AG47: ---------------------- | AH47: ------
A49: NOTE: THE ARREAR | B49: CONDITION IS DISPLAYED FOR IN | C49: DICATIVE IRAC | D49: STATUS.
A51: REPORT ID: BR2390- | B51: 1 | C51: STATE BA | D51: NK OF INDIA | E51: RUN DATE: 02/ | F51: 45383.167 | G51: 0
A52: AREA: | E52: PROC DATE: 31/ | F52: 44621
C53: LOANS B | D53: ALANCE FILE
A54: BRANCH :121221 | B54: BRANCH NAME : BAHUBALI | E54: PAGE NO : 2
A55: _x001B_!E
A56: ------------------ | B56: ------------------------------ | C56: --------------- | D56: ------------------------------------ | E56: ------------------- | F56: ------------ | G56: --------------------- | H56: ------------------------ | I56: ------------------------ | J56: ------------ | K56: ------- | L56: ------- | M56: ------- | N56: ----- | O56: ------- | P56: -------- | Q56: ------------ | R56: ----------------- | S56: ------------------------ | T56: -------------- | U56: ------------------ | V56: ------------------- | W56: -------- | X56: --------- | Y56: ----------------- | Z56: --- | AA56: ----------- | AB56: ----------------- | AC56: ------------------- | AD56: -------------- | AE56: ----------- | AF56: ------------ | AG56: ---------------------- | AH56: ------
A57: ACCOUNT NO | B57: ACCOUNT TYPE (DESCRIPTION) | C57: CUSTOMER NUMBER | D57: CUSTOMER NAME | E57: LIMIT I | F57: NT RATE | G57: THEO. BALANCE | H57: OUTSTANDING | I57: IRREGULARITY | J57: SANCTION | K57: EMIS | L57: EMIS | M57: EMIS | N57: NEW | O57: OLD | P57: ARREAR | Q57: CURRENCY | R57: ACCT-MTAIN-BRCH | S57: NEXT-DUE-AMOUNT | T57: IRRG-DATE | U57: UNREALISED-INT | V57: ACCRU-INT | W57: STRESS | X57: SMA-CODE- | Y57: INCIPIENT-STRESS | Z57: RA | AA57: RA-DATE | AB57: WRITE-OFF-FLAG | AC57: WRITE-OFF-AMOUNT | AD57: WRITE-OFF-DATE | AE57: SMA-CLASS | AF57: SMA-DATE | AG57: SMA-ARREAR-CONDITION
J58: DATE | K58: DUE | L58: PAID | M58: OVERDUE | N58: IRAC | O58: IRAC | P58: COND
A59: ------------------ | B59: ------------------------------ | C59: --------------- | D59: ------------------------------------ | E59: ------------------- | F59: ------------ | G59: -------------------- | H59: ------------- | I59: ------------------------ | J59: ------------ | K59: ------- | L59: ------- | M59: ------- | N59: ----- | O59: ------- | P59: -------- | Q59: ------------ | R59: ----------------- | S59: ------------------------ | T59: -------------- | U59: ------------------ | V59: ------------------- | W59: -------- | X59: --------- | Y59: ----------------- | Z59: --- | AA59: ----------- | AB59: ----------------- | AC59: ------------------- | AD59: -------------- | AE59: ----------- | AF59: ------------ | AG59: ---------------------- | AH59: ------
A60: ------------------ | B60: ------------------------------ | C60: --------------- | D60: ------------------------------------ | E60: ------------------- | F60: ------------ | G60: -------------------- | H60: ------------- | I60: ------------------------ | J60: ------------ | K60: ------- | L60: ------- | M60: ------- | N60: ----- | O60: ------- | P60: -------- | Q60: ------------ | R60: ----------------- | S60: ------------------------ | T60: -------------- | U60: ------------------ | V60: ------------------- | W60: -------- | X60: --------- | Y60: ----------------- | Z60: --- | AA60: ----------- | AB60: ----------------- | AC60: ------------------- | AD60: -------------- | AE60: ----------- | AF60: ------------ | AG60: ---------------------- | AH60: ------
A61: PRODUCT TOTALS | B61: H T L Addl Hsg STAFF | E61: 960000 | G61: 359538 | H61: 350684 | I61: 0
A62: ------------------ | B62: ------------------------------ | C62: --------------- | D62: ------------------------------------ | E62: ------------------- | F62: ------------ | G62: -------------------- | H62: ------------- | I62: ------------------------ | J62: ------------ | K62: ------- | L62: ------- | M62: ------- | N62: ----- | O62: ------- | P62: -------- | Q62: ------------ | R62: ----------------- | S62: ------------------------ | T62: -------------- | U62: ------------------ | V62: ------------------- | W62: -------- | X62: --------- | Y62: ----------------- | Z62: --- | AA62: ----------- | AB62: ----------------- | AC62: ------------------- | AD62: -------------- | AE62: ----------- | AF62: ------------ | AG62: ---------------------- | AH62: ------
A63: 34615858539 | B63: TL CAR LOAN CLERICAL | C63: 85218330178 | D63: Mr. VYOMESHCHANDRA JETHALAL SO | E63: 445000 | F63: 5.5 | G63: 287995 | H63: 213787 | I63: 0 | J63: 42023 | K63: 86 | L63: 86 | M63: 0 | N63: 0 | O63: 0 | P63: 0 | Q63: INR | R63: 0 | S63: 3372 | T63: 00/00/0000 | U63: 0 | V63: 0 | W63: N | Y63: 9 | Z63: N | AA63: 00/00/0000 | AB63: N | AC63: 0 | AD63: 00/00/0000
A64: 36202401804 | B64: TL CAR LOAN CLERICAL | C64: 80075343897 | D64: Mrs. KAMALA P THAKORE | E64: 480000 | F64: 5.5 | G64: 351545 | H64: 305182 | I64: 0 | J64: 42669 | K64: 65 | L64: 65 | M64: 0 | N64: 0 | O64: 0 | P64: 0 | Q64: INR | R64: 0 | S64: 3637 | T64: 00/00/0000 | U64: 0 | V64: 0 | W64: N | Y64: 9 | Z64: N | AA64: 00/00/0000 | AB64: N | AC64: 0 | AD64: 00/00/0000
A65: 40029037815 | B65: TL CAR LOAN CLERICAL | C65: 85859033016 | D65: Mr. JATIN JIVANBHAI RUPALA | E65: 700000 | F65: 5.5 | G65: 675987 | H65: 668135 | I65: 0 | J65: 44257 | K65: 12 | L65: 12 | M65: 0 | N65: 0 | O65: 0 | P65: 0 | Q65: INR | R65: 0 | S65: 5304 | T65: 00/00/0000 | U65: 0 | V65: 0 | W65: N | Y65: 9 | Z65: N | AA65: 00/00/0000 | AB65: N | AC65: 0 | AD65: 00/00/0000
A66: ------------------ | B66: ------------------------------ | C66: --------------- | D66: ------------------------------------ | E66: ------------------- | F66: ------------ | G66: -------------------- | H66: ------------- | I66: ------------------------ | J66: ------------ | K66: ------- | L66: ------- | M66: ------- | N66: ----- | O66: ------- | P66: -------- | Q66: ------------ | R66: ----------------- | S66: ------------------------ | T66: -------------- | U66: ------------------ | V66: ------------------- | W66: -------- | X66: --------- | Y66: ----------------- | Z66: --- | AA66: ----------- | AB66: ----------------- | AC66: ------------------- | AD66: -------------- | AE66: ----------- | AF66: ------------ | AG66: ---------------------- | AH66: ------
A67: PRODUCT TOTALS | B67: TL CAR LOAN CLERICAL | E67: 1625000 | G67: 1315527 | H67: 1187104 | I67: 0
A68: ------------------ | B68: ------------------------------ | C68: --------------- | D68: ------------------------------------ | E68: ------------------- | F68: ------------ | G68: -------------------- | H68: ------------- | I68: ------------------------ | J68: ------------ | K68: ------- | L68: ------- | M68: ------- | N68: ----- | O68: ------- | P68: -------- | Q68: ------------ | R68: ----------------- | S68: ------------------------ | T68: -------------- | U68: ------------------ | V68: ------------------- | W68: -------- | X68: --------- | Y68: ----------------- | Z68: --- | AA68: ----------- | AB68: ----------------- | AC68: ------------------- | AD68: -------------- | AE68: ----------- | AF68: ------------ | AG68: ---------------------- | AH68: ------
A69: 32389408667 | B69: TL CAR LOAN-EXECU/SUP STF | C69: 85185586545 | D69: Mr. NISHANT NAVIN CHANDRA BHAT | E69: 410000 | F69: 5.5 | G69: 154424 | H69: 33716 | I69: 0 | J69: 41081 | K69: 116 | L69: 116 | M69: 0 | N69: 0 | O69: 0 | P69: 0 | Q69: INR | R69: 0 | S69: 3107 | T69: 00/00/0000 | U69: 0 | V69: 0 | W69: N | Y69: 9 | Z69: N | AA69: 00/00/0000 | AB69: N | AC69: 0 | AD69: 00/00/0000
A70: 36002583244 | B70: TL CAR LOAN-EXECU/SUP STF | C70: 86066592615 | D70: Mr. MEHUL ANILBHAI MAKWANA | E70: 500000 | F70: 5.5 | G70: 369536 | H70: 325318 | I70: 0 | J70: 42594 | K70: 67 | L70: 67 | M70: 0 | N70: 0 | O70: 0 | P70: 0 | Q70: INR | R70: 0 | S70: 3788 | T70: 00/00/0000 | U70: 0 | V70: 0 | W70: N | Y70: 9 | Z70: N | AA70: 00/00/0000 | AB70: N | AC70: 0 | AD70: 00/00/0000
A71: ------------------ | B71: ------------------------------ | C71: --------------- | D71: ------------------------------------ | E71: ------------------- | F71: ------------ | G71: -------------------- | H71: ------------- | I71: ------------------------ | J71: ------------ | K71: ------- | L71: ------- | M71: ------- | N71: ----- | O71: ------- | P71: -------- | Q71: ------------ | R71: ----------------- | S71: ------------------------ | T71: -------------- | U71: ------------------ | V71: ------------------- | W71: -------- | X71: --------- | Y71: ----------------- | Z71: --- | AA71: ----------- | AB71: ----------------- | AC71: ------------------- | AD71: -------------- | AE71: ----------- | AF71: ------------ | AG71: ---------------------- | AH71: ------
A72: PRODUCT TOTALS | B72: TL CAR LOAN-EXECU/SUP STF | E72: 910000 | G72: 523960 | H72: 359034 | I72: 0
A73: ------------------ | B73: ------------------------------ | C73: --------------- | D73: ------------------------------------ | E73: ------------------- | F73: ------------ | G73: -------------------- | H73: ------------- | I73: ------------------------ | J73: ------------ | K73: ------- | L73: ------- | M73: ------- | N73: ----- | O73: ------- | P73: -------- | Q73: ------------ | R73: ----------------- | S73: ------------------------ | T73: -------------- | U73: ------------------ | V73: ------------------- | W73: -------- | X73: --------- | Y73: ----------------- | Z73: --- | AA73: ----------- | AB73: ----------------- | AC73: ------------------- | AD73: -------------- | AE73: ----------- | AF73: ------------ | AG73: ---------------------- | AH73: ------
A74: 61323747338 | B74: D L Vehicle -CAR STAFF | C74: 71108857807 | D74: Mr. JIGAR CHANDRAKANT HINGU | E74: 256000 | F74: 5.5 | G74: 166509 | H74: 164208 | I74: 0 | J74: 42585 | K74: 67 | L74: 67 | M74: 0 | N74: 0 | O74: 0 | P74: 0 | Q74: INR | R74: 0 | S74: 2301 | T74: 00/00/0000 | U74: 0 | V74: 0 | W74: N | Y74: 9 | Z74: N | AA74: 00/00/0000 | AB74: N | AC74: 0 | AD74: 00/00/0000
A75: ------------------ | B75: ------------------------------ | C75: --------------- | D75: ------------------------------------ | E75: ------------------- | F75: ------------ | G75: -------------------- | H75: ------------- | I75: ------------------------ | J75: ------------ | K75: ------- | L75: ------- | M75: ------- | N75: ----- | O75: ------- | P75: -------- | Q75: ------------ | R75: ----------------- | S75: ------------------------ | T75: -------------- | U75: ------------------ | V75: ------------------- | W75: -------- | X75: --------- | Y75: ----------------- | Z75: --- | AA75: ----------- | AB75: ----------------- | AC75: ------------------- | AD75: -------------- | AE75: ----------- | AF75: ------------ | AG75: ---------------------- | AH75: ------
A76: PRODUCT TOTALS | B76: D L Vehicle -CAR STAFF | E76: 256000 | G76: 166509 | H76: 164208 | I76: 0
A77: ------------------ | B77: ------------------------------ | C77: --------------- | D77: ------------------------------------ | E77: ------------------- | F77: ------------ | G77: -------------------- | H77: ------------- | I77: ------------------------ | J77: ------------ | K77: ------- | L77: ------- | M77: ------- | N77: ----- | O77: ------- | P77: -------- | Q77: ------------ | R77: ----------------- | S77: ------------------------ | T77: -------------- | U77: ------------------ | V77: ------------------- | W77: -------- | X77: --------- | Y77: ----------------- | Z77: --- | AA77: ----------- | AB77: ----------------- | AC77: ------------------- | AD77: -------------- | AE77: ----------- | AF77: ------------ | AG77: ---------------------- | AH77: ------
A78: 35571391651 | B78: D L Vehi -2 Wheel STAFF | C78: 80084154004 | D78: Mr. BHAGVANDAS VITHALDAS PURAB | E78: 56000 | F78: 5.5 | G78: 3876 | H78: 3870 | I78: 0 | J78: 42417 | K78: 73 | L78: 73 | M78: 0 | N78: 0 | O78: 0 | P78: 0 | Q78: INR | R78: 0 | S78: 854 | T78: 00/00/0000 | U78: 0 | V78: 0 | W78: N | Y78: 9 | Z78: N | AA78: 00/00/0000 | AB78: N | AC78: 0 | AD78: 00/00/0000 | AE78: STD | AF78: 43948 | AG78: 999
A79: 37997462730 | B79: D L Vehi -2 Wheel STAFF | C79: 78116936223 | D79: Mr. HARKESHSINGH RAJPUT | E79: 61000 | F79: 5.5 | G79: 27551 | H79: 27551 | I79: 0 | J79: 43383 | K79: 42 | L79: 42 | M79: 0 | N79: 0 | O79: 0 | P79: 0 | Q79: INR | R79: 0 | S79: 1000 | T79: 00/00/0000 | U79: 0 | V79: 0 | Z79: N | AA79: 00/00/0000 | AB79: N | AC79: 0 | AD79: 00/00/0000 | AE79: STD | AF79: 43777 | AG79: 0
A80: 39667475504 | B80: D L Vehi -2 Wheel STAFF | C80: 85859033016 | D80: Mr. JATIN JIVANBHAI RUPALA | E80: 72000 | F80: 5.5 | G80: 58633 | H80: 55765 | I80: 0 | J80: 44092 | K80: 18 | L80: 18 | M80: 0 | N80: 0 | O80: 0 | P80: 0 | Q80: INR | R80: 0 | S80: 1029 | T80: 00/00/0000 | U80: 0 | V80: 0 | Z80: N | AA80: 00/00/0000 | AB80: N | AC80: 0 | AD80: 00/00/0000
A81: 40003124458 | B81: D L Vehi -2 Wheel STAFF | C81: 80075343897 | D81: Mrs. KAMALA P THAKORE | E81: 76000 | F81: 5.5 | G81: 66278 | H81: 59375 | I81: 0 | J81: 44238 | K81: 13 | L81: 13 | M81: 0 | N81: 0 | O81: 0 | P81: 0 | Q81: INR | R81: 0 | S81: 1071 | T81: 00/00/0000 | U81: 0 | V81: 0 | W81: N | Y81: 9 | Z81: N | AA81: 00/00/0000 | AB81: N | AC81: 0 | AD81: 00/00/0000 | AE81: STD | AF81: 44424 | AG81: 0
A82: ------------------ | B82: ------------------------------ | C82: --------------- | D82: ------------------------------------ | E82: ------------------- | F82: ------------ | G82: -------------------- | H82: ------------- | I82: ------------------------ | J82: ------------ | K82: ------- | L82: ------- | M82: ------- | N82: ----- | O82: ------- | P82: -------- | Q82: ------------ | R82: ----------------- | S82: ------------------------ | T82: -------------- | U82: ------------------ | V82: ------------------- | W82: -------- | X82: --------- | Y82: ----------------- | Z82: --- | AA82: ----------- | AB82: ----------------- | AC82: ------------------- | AD82: -------------- | AE82: ----------- | AF82: ------------ | AG82: ---------------------- | AH82: ------
A83: PRODUCT TOTALS | B83: D L Vehi -2 Wheel STAFF | E83: 265000 | G83: 156338 | H83: 146561 | I83: 0
A84: ------------------ | B84: ------------------------------ | C84: --------------- | D84: ------------------------------------ | E84: ------------------- | F84: ------------ | G84: -------------------- | H84: ------------- | I84: ------------------------ | J84: ------------ | K84: ------- | L84: ------- | M84: ------- | N84: ----- | O84: ------- | P84: -------- | Q84: ------------ | R84: ----------------- | S84: ------------------------ | T84: -------------- | U84: ------------------ | V84: ------------------- | W84: -------- | X84: --------- | Y84: ----------------- | Z84: --- | AA84: ----------- | AB84: ----------------- | AC84: ------------------- | AD84: -------------- | AE84: ----------- | AF84: ------------ | AG84: ---------------------- | AH84: ------
A85: 38854452818 | B85: EB-HOME TOPUP SEP 19 | C85: 85029842295 | D85: Mrs. RENUKA LALITKUMAR BANKER | E85: 700000 | F85: 7.2 | G85: 665267 | H85: 639998.38 | I85: 0 | J85: 43756 | K85: 19 | L85: 19 | M85: 0 | N85: 0 | O85: 0 | P85: 0 | Q85: INR | R85: 15355 | S85: 6935 | T85: 00/00/0000 | U85: 0 | V85: 0 | W85: N | Y85: 9 | Z85: N | AA85: 00/00/0000 | AB85: N | AC85: 0 | AD85: 00/00/0000 | AE85: STD | AF85: 43948 | AG85: 0
A86: ------------------ | B86: ------------------------------ | C86: --------------- | D86: ------------------------------------ | E86: ------------------- | F86: ------------ | G86: -------------------- | H86: ------------- | I86: ------------------------ | J86: ------------ | K86: ------- | L86: ------- | M86: ------- | N86: ----- | O86: ------- | P86: -------- | Q86: ------------ | R86: ----------------- | S86: ------------------------ | T86: -------------- | U86: ------------------ | V86: ------------------- | W86: -------- | X86: --------- | Y86: ----------------- | Z86: --- | AA86: ----------- | AB86: ----------------- | AC86: ------------------- | AD86: -------------- | AE86: ----------- | AF86: ------------ | AG86: ---------------------- | AH86: ------
A87: PRODUCT TOTALS | B87: EB-HOME TOPUP SEP 19 | E87: 700000 | G87: 665267 | H87: 639998.38 | I87: 0
A88: ------------------ | B88: ------------------------------ | C88: --------------- | D88: ------------------------------------ | E88: ------------------- | F88: ------------ | G88: -------------------- | H88: ------------- | I88: ------------------------ | J88: ------------ | K88: ------- | L88: ------- | M88: ------- | N88: ----- | O88: ------- | P88: -------- | Q88: ------------ | R88: ----------------- | S88: ------------------------ | T88: -------------- | U88: ------------------ | V88: ------------------- | W88: -------- | X88: --------- | Y88: ----------------- | Z88: --- | AA88: ----------- | AB88: ----------------- | AC88: ------------------- | AD88: -------------- | AE88: ----------- | AF88: ------------ | AG88: ---------------------- | AH88: ------
A89: 39840354433 | B89: EB-HOME TOPUP-MAY 20 | C89: 85614113074 | D89: Mr. BHIKHABHAI GANDABHAI PATEL | E89: 1000000 | F89: 7.75 | G89: 894428 | H89: 36463 | I89: 0 | J89: 44167 | K89: 15 | L89: 15 | M89: 0 | N89: 0 | O89: 0 | P89: 0 | Q89: INR | R89: 15355 | S89: 9469 | T89: 00/00/0000 | U89: 0 | V89: 0 | W89: N | Y89: 9 | Z89: N | AA89: 00/00/0000 | AB89: N | AC89: 0 | AD89: 00/00/0000
A90: ------------------ | B90: ------------------------------ | C90: --------------- | D90: ------------------------------------ | E90: ------------------- | F90: ------------ | G90: -------------------- | H90: ------------- | I90: ------------------------ | J90: ------------ | K90: ------- | L90: ------- | M90: ------- | N90: ----- | O90: ------- | P90: -------- | Q90: ------------ | R90: ----------------- | S90: ------------------------ | T90: -------------- | U90: ------------------ | V90: ------------------- | W90: -------- | X90: --------- | Y90: ----------------- | Z90: --- | AA90: ----------- | AB90: ----------------- | AC90: ------------------- | AD90: -------------- | AE90: ----------- | AF90: ------------ | AG90: ---------------------- | AH90: ------
A91: PRODUCT TOTALS | B91: EB-HOME TOPUP-MAY 20 | E91: 1000000 | G91: 894428 | H91: 36463 | I91: 0
A92: ------------------ | B92: ------------------------------ | C92: --------------- | D92: ------------------------------------ | E92: ------------------- | F92: ------------ | G92: -------------------- | H92: ------------- | I92: ------------------------ | J92: ------------ | K92: ------- | L92: ------- | M92: ------- | N92: ----- | O92: ------- | P92: -------- | Q92: ------------ | R92: ----------------- | S92: ------------------------ | T92: -------------- | U92: ------------------ | V92: ------------------- | W92: -------- | X92: --------- | Y92: ----------------- | Z92: --- | AA92: ----------- | AB92: ----------------- | AC92: ------------------- | AD92: -------------- | AE92: ----------- | AF92: ------------ | AG92: ---------------------- | AH92: ------
A93: 39735485458 | B93: MC-SBI PENSION LOAN-JAN17 | C93: 80232567809 | D93: Mr. VITHALBHAI SOMABHAI MEVADA | E93: 590000 | F93: 9.75 | G93: 451803 | H93: 451191 | I93: 0 | J93: 44119 | K93: 17 | L93: 17 | M93: 0 | N93: 0 | O93: 0 | P93: 0 | Q93: INR | R93: 0 | S93: 12464 | T93: 00/00/0000 | U93: 0 | V93: 0 | W93: N | Y93: 9 | Z93: N | AA93: 00/00/0000 | AB93: N | AC93: 0 | AD93: 00/00/0000
A94: ------------------ | B94: ------------------------------ | C94: --------------- | D94: ------------------------------------ | E94: ------------------- | F94: ------------ | G94: -------------------- | H94: ------------- | I94: ------------------------ | J94: ------------ | K94: ------- | L94: ------- | M94: ------- | N94: ----- | O94: ------- | P94: -------- | Q94: ------------ | R94: ----------------- | S94: ------------------------ | T94: -------------- | U94: ------------------ | V94: ------------------- | W94: -------- | X94: --------- | Y94: ----------------- | Z94: --- | AA94: ----------- | AB94: ----------------- | AC94: ------------------- | AD94: -------------- | AE94: ----------- | AF94: ------------ | AG94: ---------------------- | AH94: ------
A95: PRODUCT TOTALS | B95: MC-SBI PENSION LOAN-JAN17 | E95: 590000 | G95: 451803 | H95: 451191 | I95: 0
A96: ------------------ | B96: ------------------------------ | C96: --------------- | D96: ------------------------------------ | E96: ------------------- | F96: ------------ | G96: -------------------- | H96: ------------- | I96: ------------------------ | J96: ------------ | K96: ------- | L96: ------- | M96: ------- | N96: ----- | O96: ------- | P96: -------- | Q96: ------------ | R96: ----------------- | S96: ------------------------ | T96: -------------- | U96: ------------------ | V96: ------------------- | W96: -------- | X96: --------- | Y96: ----------------- | Z96: --- | AA96: ----------- | AB96: ----------------- | AC96: ------------------- | AD96: -------------- | AE96: ----------- | AF96: ------------ | AG96: ---------------------- | AH96: ------
A97: ------------------ | B97: ------------------------------ | C97: --------------- | D97: ------------------------------------ | E97: ------------------- | F97: ------------ | G97: -------------------- | H97: ------------- | I97: ------------------------ | J97: ------------ | K97: ------- | L97: ------- | M97: ------- | N97: ----- | O97: ------- | P97: -------- | Q97: ------------ | R97: ----------------- | S97: ------------------------ | T97: -------------- | U97: ------------------ | V97: ------------------- | W97: -------- | X97: --------- | Y97: ----------------- | Z97: --- | AA97: ----------- | AB97: ----------------- | AC97: ------------------- | AD97: -------------- | AE97: ----------- | AF97: ------------ | AG97: ---------------------- | AH97: ------
A98: SEGMENT TOTALS | B98: 306 | E98: 46322000 | G98: 40604610 | H98: 38010393 | I98: 0
A99: ------------------ | B99: ------------------------------ | C99: --------------- | D99: ------------------------------------ | E99: ------------------- | F99: ------------ | G99: -------------------- | H99: ------------- | I99: ------------------------ | J99: ------------ | K99: ------- | L99: ------- | M99: ------- | N99: ----- | O99: ------- | P99: -------- | Q99: ------------ | R99: ----------------- | S99: ------------------------ | T99: -------------- | U99: ------------------ | V99: ------------------- | W99: -------- | X99: --------- | Y99: ----------------- | Z99: --- | AA99: ----------- | AB99: ----------------- | AC99: ------------------- | AD99: -------------- | AE99: ----------- | AF99: ------------ | AG99: ---------------------- | AH99: ------
A100: 30030816521 | B100: H T L Floating Int PER | C100: 85053016381 | D100: Mr. JAYESH KUMAR VAGHELA | E100: 618000 | F100: 9.8 | G100: 70336 | H100: 34032.97 | I100: 0 | J100: 38724 | K100: 19 | L100: 19 | M100: 0 | N100: 0 | O100: 0 | P100: 0 | Q100: INR | R100: 15355 | S100: 6666 | T100: 00/00/0000 | U100: 0 | V100: 0 | W100: N | Y100: 9 | Z100: N | AA100: 00/00/0000 | AB100: N | AC100: 0 | AD100: 00/00/0000 | AE100: STD | AF100: 43928 | AG100: 0
A101: ------------------ | B101: ------------------------------ | C101: --------------- | D101: ------------------------------------ | E101: ------------------- | F101: ------------ | G101: -------------------- | H101: ------------- | I101: ------------------------ | J101: ------------ | K101: ------- | L101: ------- | M101: ------- | N101: ----- | O101: ------- | P101: -------- | Q101: ------------ | R101: ----------------- | S101: ------------------------ | T101: -------------- | U101: ------------------ | V101: ------------------- | W101: -------- | X101: --------- | Y101: ----------------- | Z101: --- | AA101: ----------- | AB101: ----------------- | AC101: ------------------- | AD101: -------------- | AE101: ----------- | AF101: ------------ | AG101: ---------------------- | AH101: ------
A103: NOTE: THE ARREAR | B103: CONDITION IS DISPLAYED FOR IN | C103: DICATIVE IRAC | D103: STATUS.
...

Sheet Sheet3
A3: Count of ACCOUNT NO | B3: Column Labels
A4: Row Labels | B4: NPA | C4: STD | D4: Grand Total
A5: 71004045858 | C5: 1 | D5: 1 | E5: =COUNT(B5:C5) -> 1
A6: 71010356548 | C6: 1 | D6: 1 | E6: =COUNT(B6:C6) -> 1
A7: 71108857807 | C7: 1 | D7: 1 | E7: =COUNT(B7:C7) -> 1
A8: 71125773970 | C8: 2 | D8: 2 | E8: =COUNT(B8:C8) -> 1
A9: 71184893120 | C9: 1 | D9: 1 | E9: =COUNT(B9:C9) -> 1
A10: 71194588422 | C10: 1 | D10: 1 | E10: =COUNT(B10:C10) -> 1
A11: 72177037681 | C11: 1 | D11: 1 | E11: =COUNT(B11:C11) -> 1
A12: 72178383234 | C12: 1 | D12: 1 | E12: =COUNT(B12:C12) -> 1
A13: 72178834926 | B13: 1 | D13: 1 | E13: =COUNT(B13:C13) -> 1
A14: 75075796733 | C14: 1 | D14: 1 | E14: =COUNT(B14:C14) -> 1
A15: 76000561325 | C15: 2 | D15: 2 | E15: =COUNT(B15:C15) -> 1
A16: 76002184650 | C16: 3 | D16: 3 | E16: =COUNT(B16:C16) -> 1
A17: 76002543496 | C17: 2 | D17: 2 | E17: =COUNT(B17:C17) -> 1
A18: 76002792329 | C18: 2 | D18: 2 | E18: =COUNT(B18:C18) -> 1
A19: 76003096137 | C19: 2 | D19: 2 | E19: =COUNT(B19:C19) -> 1
A20: 76003536624 | C20: 1 | D20: 1 | E20: =COUNT(B20:C20) -> 1
A21: 76004407224 | C21: 1 | D21: 1 | E21: =COUNT(B21:C21) -> 1
A22: 76005419239 | C22: 2 | D22: 2 | E22: =COUNT(B22:C22) -> 1
A23: 76005571215 | C23: 1 | D23: 1 | E23: =COUNT(B23:C23) -> 1
A24: 76005673987 | C24: 2 | D24: 2 | E24: =COUNT(B24:C24) -> 1
A25: 78116936223 | C25: 1 | D25: 1 | E25: =COUNT(B25:C25) -> 1
... A111: 80083958743 | C111: 1 | D111: 1 | E111: =COUNT(B111:C111) -> 1
A112: 80083961336 | B112: 1 | D112: 1 | E112: =COUNT(B112:C112) -> 1
A113: 80083970204 | C113: 1 | D113: 1 | E113: =COUNT(B113:C113) -> 1
A114: 80083970328 | C114: 1 | D114: 1 | E114: =COUNT(B114:C114) -> 1
A115: 80083971219 | C115: 1 | D115: 1 | E115: =COUNT(B115:C115) -> 1
A116: 80083971300 | C116: 1 | D116: 1 | E116: =COUNT(B116:C116) -> 1
A117: 80083971785 | C117: 2 | D117: 2 | E117: =COUNT(B117:C117) -> 1
A118: 80083972111 | C118: 1 | D118: 1 | E118: =COUNT(B118:C118) -> 1
A119: 80083975509 | C119: 1 | D119: 1 | E119: =COUNT(B119:C119) -> 1
A120: 80083977335 | C120: 1 | D120: 1 | E120: =COUNT(B120:C120) -> 1
A121: 80083977426 | C121: 1 | D121: 1 | E121: =COUNT(B121:C121) -> 1
A122: 80083981046 | C122: 1 | D122: 1 | E122: =COUNT(B122:C122) -> 1
A123: 80083984105 | C123: 1 | D123: 1 | E123: =COUNT(B123:C123) -> 1
A124: 80083984309 | C124: 1 | D124: 1 | E124: =COUNT(B124:C124) -> 1
... A138: 80083997545 | C138: 1 | D138: 1 | E138: =COUNT(B138:C138) -> 1
A139: 80083998209 | B139: 1 | D139: 1 | E139: =COUNT(B139:C139) -> 1
A140: 80083998481 | C140: 1 | D140: 1 | E140: =COUNT(B140:C140) -> 1
A141: 80083999359 | C141: 1 | D141: 1 | E141: =COUNT(B141:C141) -> 1
A142: 80084007434 | C142: 1 | D142: 1 | E142: =COUNT(B142:C142) -> 1
A143: 80084049420 | C143: 1 | D143: 1 | E143: =COUNT(B143:C143) -> 1
A144: 80084049963 | C144: 1 | D144: 1 | E144: =COUNT(B144:C144) -> 1
A145: 80084052954 | C145: 1 | D145: 1 | E145: =COUNT(B145:C145) -> 1
A146: 80084052998 | C146: 1 | D146: 1 | E146: =COUNT(B146:C146) -> 1
A147: 80084055058 | C147: 1 | D147: 1 | E147: =COUNT(B147:C147) -> 1
A148: 80084055172 | C148: 1 | D148: 1 | E148: =COUNT(B148:C148) -> 1
A149: 80084055401 | C149: 1 | D149: 1 | E149: =COUNT(B149:C149) -> 1
A150: 80084056696 | C150: 1 | D150: 1 | E150: =COUNT(B150:C150) -> 1
A151: 80084062871 | C151: 1 | D151: 1 | E151: =COUNT(B151:C151) -> 1
... A210: 80090580612 | C210: 1 | D210: 1 | E210: =COUNT(B210:C210) -> 1
A211: 80090648313 | B211: 2 | D211: 2 | E211: =COUNT(B211:C211) -> 1
A212: 80105397739 | C212: 1 | D212: 1 | E212: =COUNT(B212:C212) -> 1
A213: 80105397955 | C213: 1 | D213: 1 | E213: =COUNT(B213:C213) -> 1
A214: 80105398880 | C214: 1 | D214: 1 | E214: =COUNT(B214:C214) -> 1
A215: 80105408120 | C215: 1 | D215: 1 | E215: =COUNT(B215:C215) -> 1
A216: 80105451563 | C216: 1 | D216: 1 | E216: =COUNT(B216:C216) -> 1
A217: 80123827990 | C217: 1 | D217: 1 | E217: =COUNT(B217:C217) -> 1
A218: 80123833266 | C218: 1 | D218: 1 | E218: =COUNT(B218:C218) -> 1
A219: 80125699737 | C219: 1 | D219: 1 | E219: =COUNT(B219:C219) -> 1
A220: 80131293003 | C220: 2 | D220: 2 | E220: =COUNT(B220:C220) -> 1
A221: 80133007306 | C221: 1 | D221: 1 | E221: =COUNT(B221:C221) -> 1
A222: 80141348417 | C222: 1 | D222: 1 | E222: =COUNT(B222:C222) -> 1
A223: 80141512558 | C223: 2 | D223: 2 | E223: =COUNT(B223:C223) -> 1
... A314: 85011376956 | C314: 1 | D314: 1 | E314: =COUNT(B314:C314) -> 1
A315: 85011377213 | B315: 1 | D315: 1 | E315: =COUNT(B315:C315) -> 1
A316: 85011378251 | C316: 1 | D316: 1 | E316: =COUNT(B316:C316) -> 1
A317: 85012150100 | C317: 3 | D317: 3 | E317: =COUNT(B317:C317) -> 1
A318: 85013079928 | C318: 1 | D318: 1 | E318: =COUNT(B318:C318) -> 1
A319: 85013926003 | C319: 1 | D319: 1 | E319: =COUNT(B319:C319) -> 1
A320: 85014027639 | C320: 1 | D320: 1 | E320: =COUNT(B320:C320) -> 1
A321: 85014403582 | C321: 1 | D321: 1 | E321: =COUNT(B321:C321) -> 1
A322: 85014434099 | C322: 1 | D322: 1 | E322: =COUNT(B322:C322) -> 1
A323: 85014646774 | C323: 1 | D323: 1 | E323: =COUNT(B323:C323) -> 1
A324: 85016078922 | C324: 1 | D324: 1 | E324: =COUNT(B324:C324) -> 1
A325: 85016176769 | B325: 1 | D325: 1 | E325: =COUNT(B325:C325) -> 1
A326: 85016982588 | C326: 1 | D326: 1 | E326: =COUNT(B326:C326) -> 1
A327: 85016982689 | C327: 1 | D327: 1 | E327: =COUNT(B327:C327) -> 1
A328: 85017292968 | C328: 1 | D328: 1 | E328: =COUNT(B328:C328) -> 1
A329: 85017299453 | C329: 1 | D329: 1 | E329: =COUNT(B329:C329) -> 1
A330: 85017772705 | C330: 2 | D330: 2 | E330: =COUNT(B330:C330) -> 1
A331: 85017821960 | C331: 1 | D331: 1 | E331: =COUNT(B331:C331) -> 1
A332: 85018204561 | C332: 1 | D332: 1 | E332: =COUNT(B332:C332) -> 1
A333: 85018949195 | C333: 2 | D333: 2 | E333: =COUNT(B333:C333) -> 1
A334: 85020484654 | C334: 1 | D334: 1 | E334: =COUNT(B334:C334) -> 1
A335: 85020839029 | C335: 1 | D335: 1 | E335: =COUNT(B335:C335) -> 1
A336: 85020872704 | C336: 1 | D336: 1 | E336: =COUNT(B336:C336) -> 1
A337: 85021917179 | C337: 1 | D337: 1 | E337: =COUNT(B337:C337) -> 1
... A367: 85031613259 | C367: 1 | D367: 1 | E367: =COUNT(B367:C367) -> 1
A368: 85033683327 | B368: 1 | D368: 1 | E368: =COUNT(B368:C368) -> 1
A369: 85033707576 | C369: 1 | D369: 1 | E369: =COUNT(B369:C369) -> 1
A370: 85034468820 | C370: 2 | D370: 2 | E370: =COUNT(B370:C370) -> 1
A371: 85034696776 | C371: 1 | D371: 1 | E371: =COUNT(B371:C371) -> 1
A372: 85034855218 | C372: 1 | D372: 1 | E372: =COUNT(B372:C372) -> 1
A373: 85034855456 | C373: 2 | D373: 2 | E373: =COUNT(B373:C373) -> 1
A374: 85034966427 | C374: 1 | D374: 1 | E374: =COUNT(B374:C374) -> 1
A375: 85034991759 | C375: 3 | D375: 3 | E375: =COUNT(B375:C375) -> 1
A376: 85039165456 | C376: 2 | D376: 2 | E376: =COUNT(B376:C376) -> 1
A377: 85040964329 | C377: 1 | D377: 1 | E377: =COUNT(B377:C377) -> 1
...

Sheet Sheet4
E1: Sample | F1: >50 L | G1: 1
F2: 25 L 50 L | G2: 0.3
A4: Row Labels | B4: O/s | C4: O/s % | D4: Count | E4: Count % | F4: Proirity | G4: Sample | H4: Staff
A5: 0-2500000 | B5: 5.9032461e+08 | C5: 0.66297388 | D5: 1754 | E5: 0.96745725
A6: 2500000-5000000 | B6: 1.50796e+08 | C6: 0.16935396 | D6: 46 | E6: 0.025372311 | F6: Priority 2 | G6: =ROUNDUP(D6*G2,0) -> 14 | H6: Namitha
A7: 5000000-7500000 | B7: 36578124 | C7: 0.04107967 | D7: 6 | E7: 0.0033094319 | F7: Priority 1 | G7: =D7*$G$1 -> 6 | H7: Swetha
A8: 7500000-10000000 | B8: 17508210 | C8: 0.019662887 | D8: 2 | E8: 0.001103144 | F8: Priority 1 | G8: =D8*$G$1 -> 2 | H8: Swetha
A9: 10000000-12500000 | B9: 21693298 | C9: 0.024363019 | D9: 2 | E9: 0.001103144 | F9: Priority 1 | G9: =D9*$G$1 -> 2 | H9: Swetha
A10: 15000000-17500000 | B10: 17499017 | C10: 0.019652562 | D10: 1 | E10: 0.00055157198 | F10: Priority 1 | G10: =D10*$G$1 -> 1 | H10: Swetha
A11: 25000000-27500000 | B11: 26741252 | C11: 0.030032208 | D11: 1 | E11: 0.00055157198 | F11: Priority 1 | G11: =D11*$G$1 -> 1 | H11: Swetha
A12: 27500000-30000000 | B12: 29278597 | C12: 0.032881816 | D12: 1 | E12: 0.00055157198 | F12: Priority 1 | G12: =D12*$G$1 -> 1 | H12: Swetha
A13: Grand Total | B13: 8.9041911e+08 | C13: 1 | D13: 1813 | E13: 1

Sheet Sheet6
E1: Sample | F1: 0.02
A3: Row Labels | B3: O/s | C3: O/s % | D3: Count | E3: Count % | F3: Sample | G3: Staff
A4: 0-500000 | B4: 1.5903299e+08 | C4: 0.17860464 | D4: 1379 | E4: 0.76061776 | F4: =ROUNDUP(D4*$F$1,0) -> 28 | G4: Namitha
A5: 500000-1000000 | B5: 1.3685472e+08 | C5: 0.15369697 | D5: 188 | E5: 0.10369553 | F5: =ROUNDUP(D5*$F$1,0) -> 4 | G5: Swetha
A6: 1000000-1500000 | B6: 1.2342713e+08 | C6: 0.1386169 | D6: 98 | E6: 0.054054054 | F6: =ROUNDUP(D6*$F$1,0) -> 2 | G6: Teju
A7: 1500000-2000000 | B7: 94658569 | C7: 0.10630788 | D7: 55 | E7: 0.030336459 | F7: =ROUNDUP(D7*$F$1,0) -> 2 | G7: Namitha
A8: 2000000-2500000 | B8: 76351210 | C8: 0.085747497 | D8: 34 | E8: 0.018753447 | F8: =ROUNDUP(D8*$F$1,0) -> 1 | G8: Swetha
A9: >2500000 | B9: 3.000945e+08 | C9: 0.33702612 | D9: 59 | E9: 0.032542747 | F9: =ROUNDUP(D9*$F$1,0) -> 2 | G9: Teju
A10: Grand Total | B10: 8.9041911e+08 | C10: 1 | D10: 1813 | E10: 1

Sheet Sheet7
C1: Sample | D1: 0.01
D3: =SUM(D5:D186) -> 187
A4: Row Labels | B4: Count | C4: O/s | D4: Sample | E4: Staff | F4: Type
A5: EB-HOME LOAN MAY 20 | B5: 36 | C5: 67577926 | D5: =ROUNDUP(B5*$D$1,0) -> 1 | E5: Sai | F5: Sanction Letter Interest Verification
A6: MC-TL-XPRESS CREDIT JUN19 | B6: 127 | C6: 55106545 | D6: =ROUNDUP(B6*$D$1,0) -> 2 | E6: Kumar | F6: Post Sanction Documentation
A7: MC-TL-XPRESS CREDIT APR21 | B7: 93 | C7: 48026673 | D7: =ROUNDUP(B7*$D$1,0) -> 1 | E7: Kumar | F7: Post Sanction Documentation
A8: EB-HOME LOAN APR 21 | B8: 29 | C8: 46389821 | D8: =ROUNDUP(B8*$D$1,0) -> 1 | E8: Jatin | F8: Sanction Letter Interest Verification
A9: EB-HOME LOAN SEP19 | B9: 24 | C9: 45056312 | D9: =ROUNDUP(B9*$D$1,0) -> 1 | E9: Kumar | F9: Sanction Letter Interest Verification
A10: IHL-CLERICAL STAFF | B10: 14 | C10: 35722845 | D10: =ROUNDUP(B10*$D$1,0) -> 1 | E10: Arun | F10: Post Sanction Documentation
A11: EB-RLMS HOME LOAN | B11: 11 | C11: 34561574 | D11: =ROUNDUP(B11*$D$1,0) -> 1 | E11: Kumar | F11: Acct Statement Analysis
A12: EB-TL-SPL-P-LAP-OCT20 | B12: 1 | C12: 29278597 | D12: =ROUNDUP(B12*$D$1,0) -> 1 | E12: Jatin | F12: Sanction Letter Interest Verification
A13: MC-Per LN Treasury Pensio | B13: 138 | C13: 27706127 | D13: =ROUNDUP(B13*$D$1,0) -> 2 | E13: Manish | F13: Pre sanction documentation
A14: SBI HOME LOAN TL (OCT13) | B14: 1 | C14: 26741252 | D14: =ROUNDUP(B14*$D$1,0) -> 1 | E14: Sai | F14: Sanction Letter Interest Verification
A15: MC-SBI HOME LOAN Oct .15 | B15: 18 | C15: 24381511 | D15: =ROUNDUP(B15*$D$1,0) -> 1 | E15: Kumar | F15: Acct Statement Analysis
A16: EB-HOME TOPUP-MAY 20 | B16: 24 | C16: 22041411 | D16: =ROUNDUP(B16*$D$1,0) -> 1 | E16: Kumar | F16: Sanction Letter Interest Verification
... A186: BR-TL SBF =>3Y>NOV99 | B186: 1 | C186: 0 | D186: =ROUNDUP(B186*$D$1,0) -> 1 | E186: Kumar | F186: Acct Statement Analysis
A187: Grand Total | B187: 1813 | C187: 8.9041911e+08

Sheet Sheet8
A1: Staff | C1: Type
A2: Arun | C2: Pre sanction documentation
A3: Jatin | C3: Post Sanction Documentation
A4: Kumar | C4: Acct Statement Analysis
A5: Manish | C5: Sanction Letter Interest Verification
A6: Sai

Sheet Sheet9
F1: Sample | G1: 0.02
G2: =SUM(G8:G179) -> 19
A3: Row Labels | B3: Count | C3: O/s | D3: Max Int | E3: Min. Int | F3: Spread | G3: Sample | H3: Staff | I3: Proof
A4: BR-EASY HSG LOAN FLT | B4: 2 | C4: 985677.32 | D4: 9.3 | E4: 9.3 | F4: =D4-E4 -> 0
A5: BR-SBI EASY H L JAN/11 | B5: 1 | C5: 923741.05 | D5: 9.05 | E5: 9.05 | F5: =D5-E5 -> 0
A6: BR-TL SBF =>3Y>NOV99 | B6: 1 | C6: 0 | D6: 9.85 | E6: 9.85 | F6: =D6-E6 -> 0
A7: BR-TL XPRESS CREDIT | B7: 1 | C7: 184416.49 | D7: 12.55 | E7: 12.55 | F7: =D7-E7 -> 0
A8: D L Bank Deposit PER | B8: 21 | C8: 9292600.6 | D8: 8.35 | E8: 6 | F8: =D8-E8 -> 2.35 | G8: =ROUNDUP(B8*$G$1,0) -> 1 | H8: Varun
A9: D L Vehi -2 Wheel STAFF | B9: 5 | C9: 205211 | D9: 5.5 | E9: 5.5 | F9: =D9-E9 -> 0
A10: D L Vehicle -CAR STAFF | B10: 1 | C10: 164208 | D10: 5.5 | E10: 5.5 | F10: =D10-E10 -> 0
A11: EB- HL - SHAURYA- APR 21 | B11: 1 | C11: 1300847 | D11: 6.8 | E11: 6.8 | F11: =D11-E11 -> 0
A12: EB- STAFF HL COMM MAY 20 | B12: 1 | C12: 1467934 | D12: 6.8 | E12: 6.8 | F12: =D12-E12 -> 0
A13: EB-CLSS-PRIV- (LIG) MAY20 | B13: 3 | C13: 4823231 | D13: 7 | E13: 6.85 | F13: =D13-E13 -> 0.15
A14: EB-CLSS-PRIV-LIG SEP19 | B14: 1 | C14: 1027249.6 | D14: 6.85 | E14: 6.85 | F14: =D14-E14 -> 0
A15: EB-DL-Com Covid Emg(CCECL | B15: 1 | C15: 45928 | D15: 7.4 | E15: 7.4 | F15: =D15-E15 -> 0
A16: EB-DL-PM_SVAN 2TRN | B16: 59 | C16: 857357.2 | D16: 9.9 | E16: 9.9 | F16: =D16-E16 -> 0
A17: EB-DL-PM_SVANidhi | B17: 370 | C17: 2496579.3 | D17: 9.9 | E17: 9.9 | F17: =D17-E17 -> 0
A18: EB-GLOBAL 7.5-1.5Cr JUN21 | B18: 2 | C18: 1089853 | D18: 8.15 | E18: 8.15 | F18: =D18-E18 -> 0
A19: EB-GuarEmerCrLn(GECL1.0) | B19: 13 | C19: 367524 | D19: 7.4 | E19: 7.4 | F19: =D19-E19 -> 0
A20: EB-HLCLSS (EWS) MAY 20 | B20: 1 | C20: 296472 | D20: 6.95 | E20: 6.95 | F20: =D20-E20 -> 0
... A35: EB-HOME TOPUP-MAY 20 | B35: 24 | C35: 22041411 | D35: 7.85 | E35: 7.1 | F35: =D35-E35 -> 0.75
A36: EB-MSME-DL-USUAL CR DISP | B36: 3 | C36: 17499017 | D36: 14.75 | E36: 10.4 | F36: =D36-E36 -> 4.35 | G36: =ROUNDUP(B36*$G$1,0) -> 1 | H36: Varun
A37: EB-MSME-TL-Usual CR Dispe | B37: 30 | C37: 3433177.5 | D37: 10.4 | E37: 8.85 | F37: =D37-E37 -> 1.55
A38: EB-NRI-HOME LOAN SEP19 | B38: 1 | C38: 1481352 | D38: 6.75 | E38: 6.75 | F38: =D38-E38 -> 0
A39: EB-RLMS HOME LOAN | B39: 11 | C39: 34561574 | D39: 7.05 | E39: 6.65 | F39: =D39-E39 -> 0.4
A40: EB-SBI SURAKSHA | B40: 94 | C40: 5563818.6 | D40: 7 | E40: 6.65 | F40: =D40-E40 -> 0.35
A41: EB-ST-IN-MED>7.5-30L JN21 | B41: 1 | C41: 823475 | D41: 7.65 | E41: 7.65 | F41: =D41-E41 -> 0
A42: EB-STU- <=4L JUN21 | B42: 2 | C42: 74913 | D42: 8.15 | E42: 8.15 | F42: =D42-E42 -> 0
A43: EB-STU- >4-7.5L JUN21 | B43: 1 | C43: 412106 | D43: 8.15 | E43: 8.15 | F43: =D43-E43 -> 0
A44: EB-TL-P-LAP-MAY 20 | B44: 1 | C44: 9933151 | D44: 8.8 | E44: 8.8 | F44: =D44-E44 -> 0
A45: EB-TL-P-LAP-SAL-SEP 19 | B45: 1 | C45: 1459911 | D45: 8.5 | E45: 8.5 | F45: =D45-E45 -> 0
A46: EB-TL-SPL-P-LAP-OCT20 | B46: 1 | C46: 29278597 | D46: 8.5 | E46: 8.5 | F46: =D46-E46 -> 0
A47: GLOBAL ED-VANTAGE STAFF | B47: 3 | C47: 3869280 | D47: 5.95 | E47: 5.45 | F47: =D47-E47 -> 0.5
A48: H T L Addl Hsg STAFF | B48: 1 | C48: 350684 | D48: 5.5 | E48: 5.5 | F48: =D48-E48 -> 0
... A92: MC-JAI JAWAN PEN LN APR21 | B92: 3 | C92: 758604 | D92: 9.75 | E92: 9.75 | F92: =D92-E92 -> 0
A93: MC-JAI JAWAN PEN LN JAN17 | B93: 7 | C93: 1679431.6 | D93: 12 | E93: 9.75 | F93: =D93-E93 -> 2.25 | G93: =ROUNDUP(B93*$G$1,0) -> 1 | H93: Varun
A94: MC-PAPNL-SBI PENSIONERS | B94: 1 | C94: 443237 | D94: 9.75 | E94: 9.75 | F94: =D94-E94 -> 0
A95: MC-PER LN BOB EMP FOR ESP | B95: 1 | C95: 88114.43 | D95: 8.35 | E95: 8.35 | F95: =D95-E95 -> 0
A96: MC-Per LN to PSU Pensionr | B96: 5 | C96: 1017489.4 | D96: 12.35 | E96: 10.25 | F96: =D96-E96 -> 2.1 | G96: =ROUNDUP(B96*$G$1,0) -> 1 | H96: Varun
A97: MC-Per LN Treasury Pensio | B97: 138 | C97: 27706127 | D97: 12.4 | E97: 10.25 | F97: =D97-E97 -> 2.15 | G97: =ROUNDUP(B97*$G$1,0) -> 3 | H97: Varun
A98: MC-POS ENBLD-DBT CRD HLDR | B98: 3 | C98: 44675 | D98: 14.7 | E98: 14.7 | F98: =D98-E98 -> 0
A99: MC-PRIVLGE HL >80 APR 19 | B99: 2 | C99: 2314025.5 | D99: 7.2 | E99: 7.2 | F99: =D99-E99 -> 0
A100: MC-PRIVLGE-HL-TL-WOMJAN17 | B100: 1 | C100: 1077718 | D100: 7.6 | E100: 7.6 | F100: =D100-E100 -> 0
A101: MC-PRVLG-HL-TL-FES OFF(W) | B101: 2 | C101: 2278950 | D101: 7.2 | E101: 7.2 | F101: =D101-E101 -> 0
A102: MC-SBI CAR LN-TL-NEW CAR | B102: 2 | C102: 203518.35 | D102: 8.25 | E102: 8.25 | F102: =D102-E102 -> 0
A103: MC-SBI CRE HOME LOAN (For | B103: 1 | C103: 7575059.3 | D103: 7.2 | E103: 7.2 | F103: =D103-E103 -> 0
A104: MC-SBI EMI GOLD LOAN | B104: 15 | C104: 3740503.5 | D104: 7.5 | E104: 7.3 | F104: =D104-E104 -> 0.2
A105: MC-SBI GOLD LOAN-JAN 2017 | B105: 2 | C105: 104046 | D105: 7.5 | E105: 7.5 | F105: =D105-E105 -> 0
A106: MC-SBI HL (BUSSMEN) JUN17 | B106: 2 | C106: 1242914.8 | D106: 7.75 | E106: 7.75 | F106: =D106-E106 -> 0
A107: MC-SBI HL (BUSWOM) JUN 17 | B107: 1 | C107: 93317.44 | D107: 7.7 | E107: 7.7 | F107: =D107-E107 -> 0
A108: MC-SBI HL FEST OFF (WOM) | B108: 1 | C108: 2112802.8 | D108: 7.2 | E108: 7.2 | F108: =D108-E108 -> 0
A109: MC-SBI HL N-SAL(OTH)SEP17 | B109: 1 | C109: 957910.37 | D109: 7.5 | E109: 7.5 | F109: =D109-E109 -> 0
... A124: MC-SBI PENSION LOAN-APR21 | B124: 4 | C124: 1400639 | D124: 9.75 | E124: 9.75 | F124: =D124-E124 -> 0
A125: MC-SBI PENSION LOAN-JAN17 | B125: 60 | C125: 6020388.1 | D125: 12.45 | E125: 9.75 | F125: =D125-E125 -> 2.7 | G125: =ROUNDUP(B125*$G$1,0) -> 2 | H125: Varun
A126: MC-SBI STU LN <=4L OCT19 | B126: 3 | C126: 522794.5 | D126: 9.3 | E126: 9.3 | F126: =D126-E126 -> 0
A127: MC-SBI STU LN PER>7.5L DE | B127: 1 | C127: 1531859 | D127: 9.75 | E127: 9.75 | F127: =D127-E127 -> 0
A128: MC-SBI STU LN>4-7.5LNOV16 | B128: 1 | C128: 754020.21 | D128: 9 | E128: 9 | F128: =D128-E128 -> 0
A129: MC-SBI STULN<=4 LACSNOV16 | B129: 6 | C129: 1142061.2 | D129: 9 | E129: 8.5 | F129: =D129-E129 -> 0.5
A130: MC-SBICARLN-TL-NEWCAR J17 | B130: 26 | C130: 3940624.9 | D130: 8.25 | E130: 7.75 | F130: =D130-E130 -> 0.5
A131: MC-SBIHOME TOPUP TL-JAN17 | B131: 2 | C131: 3840653 | D131: 7.7 | E131: 7.7 | F131: =D131-E131 -> 0
A132: MC-SBIHOME TOPUP TL-MAY17 | B132: 1 | C132: 1413324.4 | D132: 7.6 | E132: 7.6 | F132: =D132-E132 -> 0
A133: MC-SBITL NEWCAR LN(W)J17 | B133: 1 | C133: 226759.76 | D133: 8.2 | E133: 8.2 | F133: =D133-E133 -> 0
A134: MC-SBI-TL-SARCAR-LN-MEN | B134: 1 | C134: 101005.69 | D134: 7.55 | E134: 7.55 | F134: =D134-E134 -> 0
A135: MC-SCH-I-I-T(2016) OCT19 | B135: 1 | C135: 962689 | D135: 8.25 | E135: 8.25 | F135: =D135-E135 -> 0
A136: MC-SCHOLAR L-A NOCOLJAN17 | B136: 1 | C136: 1423340 | D136: 7.5 | E136: 7.5 | F136: =D136-E136 -> 0
A137: MC-STU LN >4-7.5L OCT19 | B137: 4 | C137: 2350584 | D137: 10.2 | E137: 8.8 | F137: =D137-E137 -> 1.4
... A149: MC-TL-KAV-YONO-PL-SAL | B149: 17 | C149: 2473569 | D149: 8.5 | E149: 8.5 | F149: =D149-E149 -> 0
A150: MC-TL-PRE APPRVD XPRES CR | B150: 36 | C150: 4652523.3 | D150: 14.55 | E150: 11.5 | F150: =D150-E150 -> 3.05 | G150: =ROUNDUP(B150*$G$1,0) -> 1 | H150: Varun
A151: MC-TL-PRE-APROVD-PEN-LOAN | B151: 6 | C151: 1342995 | D151: 10.55 | E151: 9.75 | F151: =D151-E151 -> 0.8
A152: MC-TL-XPRESS CREDIT APR21 | B152: 93 | C152: 48026673 | D152: 12.6 | E152: 9.6 | F152: =D152-E152 -> 3 | G152: =ROUNDUP(B152*$G$1,0) -> 2 | H152: Varun
A153: MC-TL-XPRESS CREDIT JUN19 | B153: 127 | C153: 55106545 | D153: 13.95 | E153: 10.1 | F153: =D153-E153 -> 3.85 | G153: =ROUNDUP(B153*$G$1,0) -> 3 | H153: Varun
A154: MC-TL-XPRESS CREDIT MAY21 | B154: 10 | C154: 4458130 | D154: 11.6 | E154: 9.6 | F154: =D154-E154 -> 2
A155: MC-TL-XPRESS CREDIT RATED | B155: 16 | C155: 3578674.5 | D155: 14.55 | E155: 12.05 | F155: =D155-E155 -> 2.5 | G155: =ROUNDUP(B155*$G$1,0) -> 1 | H155: Varun
A156: MC-TL-XPRESS LITE-APR21 | B156: 5 | C156: 535555.53 | D156: 13.6 | E156: 12.6 | F156: =D156-E156 -> 1
A157: MC-TL-XPRESS LITE-OCT19 | B157: 14 | C157: 910833.63 | D157: 14.45 | E157: 12.1 | F157: =D157-E157 -> 2.35 | G157: =ROUNDUP(B157*$G$1,0) -> 1 | H157: Varun
A158: MC-TL-XPRSCR-R-NCHKOFFJ17 | B158: 3 | C158: 192119.86 | D158: 14.5 | E158: 14.05 | F158: =D158-E158 -> 0.45
A159: MC-XPRESS CREDIT-TL-OCT'1 | B159: 1 | C159: 37791.3 | D159: 12.5 | E159: 12.5 | F159: =D159-E159 -> 0
A160: SBI CAR LN SCHM(TL)OCT-13 | B160: 1 | C160: 59808.95 | D160: 8.5 | E160: 8.5 | F160: =D160-E160 -> 0
A161: SBI CAR LN-TL-NEW CAR-MEN | B161: 6 | C161: 145562.9 | D161: 8.15 | E161: 8 | F161: =D161-E161 -> 0.15
A162: SBI CRE HL TL (APR15) | B162: 1 | C162: 558504.4 | D162: 7.6 | E162: 7.6 | F162: =D162-E162 -> 0
A163: SBI HL-TL (WOMEN)(APR15) | B163: 5 | C163: 4418663.1 | D163: 7.55 | E163: 7.55 | F163: =D163-E163 -> 0
A164: SBI HL-TL (WOMEN)(AUG14) | B164: 2 | C164: 377177.73 | D164: 7.65 | E164: 7.65 | F164: =D164-E164 -> 0
A165: SBI HL-TL (WOMEN)(DEC13) | B165: 1 | C165: 1465051.7 | D165: 7.65 | E165: 7.65 | F165: =D165-E165 -> 0
A166: SBI HL-TL (WOMEN)(OCT15) | B166: 4 | C166: 6407821.2 | D166: 7.75 | E166: 7.75 | F166: =D166-E166 -> 0
A167: SBI HOME LOAN TL (APR15) | B167: 10 | C167: 5430580 | D167: 9.6 | E167: 7.6 | F167: =D167-E167 -> 2
A168: SBI HOME LOAN TL (AUG14) | B168: 16 | C168: 7698176.2 | D168: 9.7 | E168: 7.6 | F168: =D168-E168 -> 2.1 | G168: =ROUNDUP(B168*$G$1,0) -> 1 | H168: Varun
A169: SBI HOME LOAN TL (DEC13) | B169: 9 | C169: 4571106.8 | D169: 7.7 | E169: 7.7 | F169: =D169-E169 -> 0
A170: SBI HOME LOAN TL (OCT13) | B170: 1 | C170: 26741252 | D170: 8.05 | E170: 8.05 | F170: =D170-E170 -> 0
A171: SBI HOME LOAN TL (OCT15) | B171: 6 | C171: 4980648.6 | D171: 7.8 | E171: 7.8 | F171: =D171-E171 -> 0
A172: SBI HOME LOAN TL AUG'11 | B172: 1 | C172: 266017 | D172: 8.3 | E172: 8.3 | F172: =D172-E172 -> 0
A173: SBI HOME LOAN TL AUG'12 | B173: 11 | C173: 2365097.3 | D173: 7.8 | E173: 7.8 | F173: =D173-E173 -> 0
A174: SBI HOME TOPUP-DEC15-(W) | B174: 1 | C174: 875203.98 | D174: 7.75 | E174: 7.75 | F174: =D174-E174 -> 0
A175: SBI HSG LN TL<30L MAY'11 | B175: 3 | C175: 787374.11 | D175: 8.55 | E175: 8.3 | F175: =D175-E175 -> 0.25
A176: SBI STU LN PER 4L FEB 12 | B176: 1 | C176: 122737.23 | D176: 11.05 | E176: 11.05 | F176: =D176-E176 -> 0
A177: SBI STU LN PER 4L OCT11 | B177: 1 | C177: 68837.38 | D177: 11.3 | E177: 11.3 | F177: =D177-E177 -> 0
A178: SBI SURAKSA HL TL (OCT13) | B178: 1 | C178: 418218.12 | D178: 7.85 | E178: 7.85 | F178: =D178-E178 -> 0
A179: SBI SURAKSHA | B179: 23 | C179: 590708.54 | D179: 9.7 | E179: 7.55 | F179: =D179-E179 -> 2.15 | G179: =ROUNDUP(B179*$G$1,0) -> 1 | H179: Varun
A180: SBI SURAKSHIT HL AUG'12 | B180: 1 | C180: 620038.83 | D180: 7.8 | E180: 7.8 | F180: =D180-E180 -> 0
A181: SBI TL NEW CAR LOAN-WOMEN | B181: 1 | C181: 91450.46 | D181: 8.05 | E181: 8.05 | F181: =D181-E181 -> 0
A182: SCH LN L-A STAF-WARD<=20L | B182: 1 | C182: 568721 | D182: 5.95 | E182: 5.95 | F182: =D182-E182 -> 0
...

Sheet Detail1
A1: Details for Count - Overdue Periods: >4, NPA?: STD
A3: ACCOUNT NO | B3: ACCOUNT TYPE (DESCRIPTION) | C3: CUSTOMER NUMBER | D3: CUSTOMER NAME | E3: LIMIT I | F3: INT RATE | G3: THEO. BALANCE | H3: OUTSTANDING | I3: Irregularity | J3: Overdue Periods | K3: IRREGULARITY2 | L3: SANCTION | M3: EMIS | N3: EMIS2 | O3: EMIS3 | P3: NEW | Q3: OLD | R3: ARREAR | S3: CURRENCY | T3: ACCT-MTAIN-BRCH | U3: NEXT-DUE-AMOUNT | V3: IRRG-DATE | W3: UNREALISED-INT | X3: ACCRU-INT | Y3: STRESS | Z3: SMA-CODE- | AA3: INCIPIENT-STRESS | AB3: RA | AC3: RA-DATE | AD3: WRITE-OFF-FLAG | AE3: WRITE-OFF-AMOUNT | AF3: WRITE-OFF-DATE | AG3: SMA-CLASS | AH3: SMA-DATE | AI3: SMA-ARREAR-CONDITION | AJ3: NPA?
A4: 35386806590 | B4: BR-TL XPRESS CREDIT | C4: 86013139166 | D4: Mr. DINESHBHAI GALABHAI DORIYA | E4: 295000 | F4: 12.55 | G4: 0 | H4: 184416.49 | I4: 184416.49 | J4: 26.684487 | K4: 184416.49 | L4: 42346 | M4: 60 | N4: 33 | O4: 27 | P4: 5 | Q4: 5 | R4: 801 | S4: INR | T4: 0 | U4: 6911 | V4: 43256 | W4: 0 | X4: 133380.29 | Y4: N | AA4: 5 | AB4: Y | AC4: 43830 | AD4: F | AE4: 184416.49 | AF4: 40001 | AJ4: STD
A5: 37350856865 | B5: MC-TL SBF =>3Y>NOV99 | C5: 90017762110 | D5: Mr. SHIVJI MANGILAL SHARMA | E5: 50000 | F5: 9.7 | G5: 0 | H5: 47652.12 | I5: 47652.12 | J5: 39.545328 | K5: 47652.12 | L5: 43077 | M5: 51 | N5: 11 | O5: 40 | P5: 6 | Q5: 6 | R5: 802 | S5: INR | T5: 5018 | U5: 1205 | V5: 43235 | W5: 1739 | X5: 30186.57 | Y5: N | AA5: 6 | AB5: Y | AC5: 43964 | AD5: N | AE5: 0 | AF5: 00/00/0000 | AG5: SMA0 | AH5: 43386 | AI5: 501 | AJ5: STD
A6: 37723099164 | B6: EB-MSME-TL-Usual CR Dispe | C6: 89295235717 | D6: Master PATANI VISHNU | E6: 109000 | F6: 10.25 | G6: 49210.75 | H6: 60933.75 | I6: 11723 | J6: 4.2382502 | K6: 11723 | L6: 43249 | M6: 0 | N6: 0 | O6: 0 | P6: 3 | Q6: 3 | R6: 703 | S6: INR | T6: 5018 | U6: 2766 | V6: 44591 | W6: 0 | X6: 0 | Y6: N | AA6: 2 | AB6: N | AC6: 00/00/0000 | AD6: N | AE6: 0 | AF6: 00/00/0000 | AG6: SMA2 | AH6: 44651 | AI6: 703 | AJ6: STD

Sheet Sheet10
A3: NPA? | B3: Overdue Periods | C3: Count | D3: O/s
A4: STD | B4: 0-1 | C4: 1578 | D4: 8.7286957e+08 | E4: Ok
B5: 1-2 | C5: 55 | D5: 8223893.4 | E5: SMA-0
B6: 2-3 | C6: 14 | D6: 2933645 | E6: SMA-1
B7: 3-4 | C7: 8 | D7: 195083.42 | E7: SMA-2
B8: >4 | C8: 3 | D8: 293002.36 | E8: NPA
A9: STD Total | C9: 1658 | D9: 8.845152e+08
A10: Grand Total | C10: 1658 | D10: 8.845152e+08

Sheet Sheet12
A1: NPA? | B1: NPA
A3: Count of ACCOUNT NO | B3: Column Labels
A4: Row Labels | B4: Qtr1 | C4: Qtr2 | D4: Qtr3 | E4: Qtr4 | F4: Grand Total
A5: 2019 | C5: 1 | D5: 2 | E5: 1 | F5: 4
A6: 2020 | E6: 1 | F6: 1
A7: 2021 | B7: 19 | C7: 27 | D7: 43 | E7: 40 | F7: 129
A8: 2022 | B8: 21 | F8: 21
A9: Grand Total | B9: 40 | C9: 28 | D9: 45 | E9: 42 | F9: 155

Sheet Sheet1 (2)
A1: ACCOUNT NO | B1: ACCOUNT TYPE (DESCRIPTION) | C1: CUSTOMER NUMBER | D1: CUSTOMER NAME | E1: LIMIT I | F1: INT RATE | G1: THEO. BALANCE | H1: OUTSTANDING | I1: Irregularity | J1: Overdue Periods | K1: IRREGULARITY | L1: SANCTION | M1: EMIS | N1: EMIS | O1: EMIS | P1: NEW | Q1: OLD | R1: ARREAR | S1: CURRENCY | T1: ACCT-MTAIN-BRCH | U1: NEXT-DUE-AMOUNT | V1: IRRG-DATE | W1: UNREALISED-INT | X1: ACCRU-INT | Y1: STRESS | Z1: SMA-CODE- | AA1: INCIPIENT-STRESS | AB1: RA | AC1: RA-DATE | AD1: WRITE-OFF-FLAG | AE1: WRITE-OFF-AMOUNT | AF1: WRITE-OFF-DATE | AG1: SMA-CLASS | AH1: SMA-DATE | AI1: SMA-ARREAR-CONDITION | AJ1: NPA? | AK1: QM Months
A2: 36010441482 | B2: SCH LN L-A STAF-WARD<=20L | C2: 87842685671 | D2: Ms. NEHA KUMARI | E2: 1262000 | F2: 5.95 | G2: 1351586 | H2: 568721 | I2: =IF((G2-H2)>0,0,H2-G2) -> 0 | J2: =I2/U2 -> 0 | K2: 0 | L2: 42598 | M2: 7 | N2: 7 | O2: 0 | P2: 0 | Q2: 0 | R2: 0 | S2: INR | T2: 0 | U2: 6600 | V2: 00/00/0000 | W2: 0 | X2: 0 | Y2: N | AA2: 9 | AB2: N | AC2: 00/00/0000 | AD2: N | AE2: 0 | AF2: 00/00/0000 | AG2: STD | AH2: 43841 | AI2: 999 | AJ2: STD
A3: 40153740769 | B3: GLOBAL ED-VANTAGE STAFF | C3: 87256554881 | D3: BHAVESHKUMAR SHAILENDRAKUMAR | E3: 2500000 | F3: 5.95 | G3: 1386493 | H3: 1318493 | I3: =IF((G3-H3)>0,0,H3-G3) -> 0 | J3: =I3/U3 -> 0 | K3: 0 | L3: 44315 | M3: 1 | N3: 1 | O3: 0 | P3: 0 | Q3: 0 | R3: 0 | S3: INR | T3: 15355 | U3: 24356 | V3: 00/00/0000 | W3: 0 | X3: 0 | AB3: N | AC3: 00/00/0000 | AD3: N | AE3: 0 | AF3: 00/00/0000 | AJ3: STD
A4: 40311469256 | B4: GLOBAL ED-VANTAGE STAFF | C4: 85540684378 | D4: Miss. KRUTIKA RAMESHKUMAR RATH | E4: 2700000 | F4: 5.45 | G4: 1187410 | H4: 1171410 | I4: =IF((G4-H4)>0,0,H4-G4) -> 0 | J4: =I4/U4 -> 0 | K4: 0 | L4: 44403 | M4: 1 | N4: 1 | O4: 0 | P4: 0 | Q4: 0 | R4: 0 | S4: INR | T4: 15355 | U4: 22070 | V4: 00/00/0000 | W4: 0 | X4: 0 | Y4: N | AA4: 9 | AB4: N | AC4: 00/00/0000 | AD4: N | AE4: 0 | AF4: 00/00/0000 | AJ4: STD
A5: 30392350760 | B5: HOUSING LOAN CLERICAL STF | C5: 80084155745 | D5: Mr. KSHATRIYA GAUTAM JAGANNAT | E5: 788000 | F5: 5.5 | G5: 420779 | H5: 316259 | I5: =IF((G5-H5)>0,0,H5-G5) -> 0 | J5: =I5/U5 -> 0 | K5: 0 | L5: 39596 | M5: 36 | N5: 36 | O5: 0 | P5: 0 | Q5: 0 | R5: 0 | S5: INR | T5: 15355 | U5: 1680 | V5: 00/00/0000 | W5: 0 | X5: 0 | Y5: N | AA5: 9 | AB5: N | AC5: 00/00/0000 | AD5: N | AE5: 0 | AF5: 00/00/0000 | AG5: STD | AH5: 43841 | AI5: 999 | AJ5: STD
A6: 32882807091 | B6: HOUSING LOAN CLERICAL STF | C6: 85216537551 | D6: Mr. SHASHIKANT KANUBHAI TAPASV | E6: 713169 | F6: 5.5 | G6: 488924 | H6: 481177 | I6: =IF((G6-H6)>0,0,H6-G6) -> 0 | J6: =I6/U6 -> 0 | K6: 0 | L6: 41347 | M6: 108 | N6: 108 | O6: 0 | P6: 0 | Q6: 0 | R6: 0 | S6: INR | T6: 15355 | U6: 4403 | V6: 00/00/0000 | W6: 0 | X6: 0 | Y6: N | AA6: 9 | AB6: N | AC6: 00/00/0000 | AD6: N | AE6: 0 | AF6: 00/00/0000 | AJ6: STD
A7: 34165816257 | B7: HOUSING LOAN CLERICAL STF | C7: 85430762376 | D7: Mr. NITIN SOLANKEY | E7: 1200000 | F7: 5.5 | G7: 948962 | H7: 940819 | I7: =IF((G7-H7)>0,0,H7-G7) -> 0 | J7: =I7/U7 -> 0 | K7: 0 | L7: 41890 | M7: 90 | N7: 90 | O7: 0 | P7: 0 | Q7: 0 | R7: 0 | S7: INR | T7: 15355 | U7: 7143 | V7: 00/00/0000 | W7: 0 | X7: 0 | Y7: N | AA7: 9 | AB7: N | AC7: 00/00/0000 | AD7: N | AE7: 0 | AF7: 00/00/0000 | AJ7: STD
A8: 31656262085 | B8: HOUSING LOAN SUP STAFF | C8: 76005571215 | D8: Mr. BHARATBHAI CHHAGANBHAI RAT | E8: 1368000 | F8: 5.5 | G8: 883392 | H8: 883392 | I8: =IF((G8-H8)>0,0,H8-G8) -> 0 | J8: =I8/U8 -> 0 | K8: 0 | L8: 40606 | M8: 87 | N8: 87 | O8: 0 | P8: 0 | Q8: 0 | R8: 0 | S8: INR | T8: 15355 | U8: 9121 | V8: 00/00/0000 | W8: 0 | X8: 0 | Y8: N | AA8: 9 | AB8: N | AC8: 00/00/0000 | AD8: N | AE8: 0 | AF8: 00/00/0000 | AG8: STD | AH8: 44537 | AI8: 0 | AJ8: STD
A9: 34557969977 | B9: IHL-CLERICAL STAFF | C9: 85430762376 | D9: Mr. NITIN SOLANKEY | E9: 393114 | F9: 5.5 | G9: 321148 | H9: 318750 | I9: =IF((G9-H9)>0,0,H9-G9) -> 0 | J9: =I9/U9 -> 0 | K9: 0 | L9: 42005 | M9: 86 | N9: 86 | O9: 0 | P9: 0 | Q9: 0 | R9: 0 | S9: INR | T9: 15355 | U9: 2398 | V9: 00/00/0000 | W9: 0 | X9: 0 | Y9: N | AA9: 9 | AB9: N | AC9: 00/00/0000 | AD9: N | AE9: 0 | AF9: 00/00/0000 | AJ9: STD
A10: 35344386017 | B10: IHL-CLERICAL STAFF | C10: 85432218493 | D10: Mr. MANISH VITTHALBHAI MEVADA | E10: 3867000 | F10: 5.5 | G10: 3874274 | H10: 3860150 | I10: =IF((G10-H10)>0,0,H10-G10) -> 0 | J10: =I10/U10 -> 0 | K10: 0 | L10: 42325 | M10: 74 | N10: 74 | O10: 0 | P10: 0 | Q10: 0 | R10: 0 | S10: INR | T10: 15355 | U10: 16572 | V10: 00/00/0000 | W10: 0 | X10: 0 | Y10: N | AA10: 9 | AB10: N | AC10: 00/00/0000 | AD10: N | AE10: 0 | AF10: 00/00/0000 | AG10: STD | AH10: 43841 | AI10: 999 | AJ10: STD
A11: 35699626726 | B11: IHL-CLERICAL STAFF | C11: 85029842295 | D11: Mrs. RENUKA LALITKUMAR BANKER | E11: 822217 | F11: 5.5 | G11: 826206 | H11: 811206 | I11: =IF((G11-H11)>0,0,H11-G11) -> 0 | J11: =I11/U11 -> 0 | K11: 0 | L11: 42465 | M11: 72 | N11: 72 | O11: 0 | P11: 0 | Q11: 0 | R11: 0 | S11: INR | T11: 15355 | U11: 3529 | V11: 00/00/0000 | W11: 0 | X11: 0 | Y11: N | AA11: 9 | AB11: N | AC11: 00/00/0000 | AD11: N | AE11: 0 | AF11: 00/00/0000 | AJ11: STD
A12: 36881131068 | B12: IHL-CLERICAL STAFF | C12: 80084155687 | D12: Mr. MAHENDRA BHAGWANDAS CHAUHA | E12: 1485000 | F12: 5.5 | G12: 1282106 | H12: 1281407 | I12: =IF((G12-H12)>0,0,H12-G12) -> 0 | J12: =I12/U12 -> 0 | K12: 0 | L12: 42867 | M12: 58 | N12: 58 | O12: 0 | P12: 0 | Q12: 0 | R12: 0 | S12: INR | T12: 61132 | U12: 9770 | V12: 00/00/0000 | W12: 0 | X12: 0 | Y12: N | AA12: 9 | AB12: N | AC12: 00/00/0000 | AD12: N | AE12: 0 | AF12: 00/00/0000 | AG12: STD | AH12: 43538 | AI12: 0 | AJ12: STD
A13: 37496825525 | B13: IHL-CLERICAL STAFF | C13: 80075343897 | D13: Mrs. KAMALA P THAKORE | E13: 2092500 | F13: 5.5 | G13: 2082268 | H13: 2023418 | I13: =IF((G13-H13)>0,0,H13-G13) -> 0 | J13: =I13/U13 -> 0 | K13: 0 | L13: 43131 | M13: 50 | N13: 50 | O13: 0 | P13: 0 | Q13: 0 | R13: 0 | S13: INR | T13: 61132 | U13: 8793 | V13: 00/00/0000 | W13: 0 | X13: 0 | Y13: N | AA13: 9 | AB13: N | AC13: 00/00/0000 | AD13: N | AE13: 0 | AF13: 00/00/0000 | AG13: STD | AH13: 44020 | AI13: 999 | AJ13: STD
A14: 39859049032 | B14: IHL-CLERICAL STAFF | C14: 80631264427 | D14: Mr. NARENDRASINGH RAGHUVERSING | E14: 4005000 | F14: 5.95 | G14: 4060759 | H14: 4039094 | I14: =IF((G14-H14)>0,0,H14-G14) -> 0 | J14: =I14/U14 -> 0 | K14: 0 | L14: 44175 | M14: 15 | N14: 15 | O14: 0 | P14: 0 | Q14: 0 | R14: 0 | S14: INR | T14: 15355 | U14: 14889 | V14: 00/00/0000 | W14: 0 | X14: 0 | AB14: N | AC14: 00/00/0000 | AD14: N | AE14: 0 | AF14: 00/00/0000 | AG14: STD | AH14: 44202 | AI14: 0 | AJ14: STD
A15: 40083020920 | B15: IHL-CLERICAL STAFF | C15: 86613403381 | D15: Ms. LAJJA AJAYKUMAR SONDAGER | E15: 3000000 | F15: 5.5 | G15: 3010865 | H15: 2998503 | I15: =IF((G15-H15)>0,0,H15-G15) -> 0 | J15: =I15/U15 -> 0 | K15: 0 | L15: 44274 | M15: 12 | N15: 12 | O15: 0 | P15: 0 | Q15: 0 | R15: 0 | S15: INR | T15: 15355 | U15: 12449 | V15: 00/00/0000 | W15: 0 | X15: 0 | Y15: N | AA15: 9 | AB15: N | AC15: 00/00/0000 | AD15: N | AE15: 0 | AF15: 00/00/0000 | AG15: STD | AH15: 44290 | AI15: 0 | AJ15: STD
A16: 40097074641 | B16: IHL-CLERICAL STAFF | C16: 85218330178 | D16: Mr. VYOMESHCHANDRA JETHALAL SO | E16: 1500000 | F16: 5.5 | G16: 1505763 | H16: 1504599 | I16: =IF((G16-H16)>0,0,H16-G16) -> 0 | J16: =I16/U16 -> 0 | K16: 0 | L16: 44283 | M16: 12 | N16: 12 | O16: 0 | P16: 0 | Q16: 0 | R16: 0 | S16: INR | T16: 15355 | U16: 6303 | V16: 00/00/0000 | W16: 0 | X16: 0 | Y16: N | AA16: 9 | AB16: N | AC16: 00/00/0000 | AD16: N | AE16: 0 | AF16: 00/00/0000 | AG16: STD | AH16: 44645 | AI16: 0 | AJ16: STD
A17: 40249217729 | B17: IHL-CLERICAL STAFF | C17: 85859033016 | D17: Mr. JATIN JIVANBHAI RUPALA | E17: 4320000 | F17: 5.95 | G17: 4336624 | H17: 4333993 | I17: =IF((G17-H17)>0,0,H17-G17) -> 0 | J17: =I17/U17 -> 0 | K17: 0 | L17: 44373 | M17: 9 | N17: 9 | O17: 0 | P17: 0 | Q17: 0 | R17: 0 | S17: INR | T17: 15355 | U17: 17926 | V17: 00/00/0000 | W17: 0 | X17: 0 | Y17: N | AA17: 9 | AB17: N | AC17: 00/00/0000 | AD17: N | AE17: 0 | AF17: 00/00/0000 | AJ17: STD
A18: 34033582556 | B18: IHL-OFF UPTO SMG-V-SEP 14 | C18: 85538694483 | D18: Miss. AKRITI PHITKARIWALA | E18: 2000000 | F18: 5.5 | G18: 1476195 | H18: 1472680 | I18: =IF((G18-H18)>0,0,H18-G18) -> 0 | J18: =I18/U18 -> 0 | K18: 0 | L18: 41862 | M18: 91 | N18: 91 | O18: 0 | P18: 0 | Q18: 0 | R18: 0 | S18: INR | T18: 15355 | U18: 11905 | V18: 00/00/0000 | W18: 0 | X18: 0 | Y18: N | AA18: 9 | AB18: N | AC18: 00/00/0000 | AD18: N | AE18: 0 | AF18: 00/00/0000 | AG18: STD | AH18: 43526 | AI18: 0 | AJ18: STD
A19: 37845431603 | B19: IHL-OFF UPTO SMG-V-SEP 14 | C19: 71004045858 | D19: Mr. KAMLESH CHANDRAKANT PADHAR | E19: 6000000 | F19: 5.95 | G19: 6627486 | H19: 6351079 | I19: =IF((G19-H19)>0,0,H19-G19) -> 0 | J19: =I19/U19 -> 0 | K19: 0 | L19: 43312 | M19: 22 | N19: 22 | O19: 0 | P19: 0 | Q19: 0 | R19: 0 | S19: INR | T19: 15355 | U19: 20977 | V19: 00/00/0000 | W19: 0 | X19: 0 | Y19: N | AA19: 9 | AB19: N | AC19: 00/00/0000 | AD19: N | AE19: 0 | AF19: 00/00/0000 | AG19: STD | AH19: 44032 | AI19: 0 | AJ19: STD
A20: 32389000329 | B20: H T L Addl Hsg STAFF | C20: 85006246968 | D20: Mr. SHIV KUMAR MISHRA | E20: 960000 | F20: 5.5 | G20: 359538 | H20: 350684 | I20: =IF((G20-H20)>0,0,H20-G20) -> 0 | J20: =I20/U20 -> 0 | K20: 0 | L20: 41081 | M20: 117 | N20: 117 | O20: 0 | P20: 0 | Q20: 0 | R20: 0 | S20: INR | T20: 61132 | U20: 7620 | V20: 00/00/0000 | W20: 0 | X20: 0 | Y20: N | AA20: 9 | AB20: N | AC20: 00/00/0000 | AD20: N | AE20: 0 | AF20: 00/00/0000 | AG20: STD | AH20: 44042 | AI20: 999 | AJ20: STD
A21: 34615858539 | B21: TL CAR LOAN CLERICAL | C21: 85218330178 | D21: Mr. VYOMESHCHANDRA JETHALAL SO | E21: 445000 | F21: 5.5 | G21: 287995 | H21: 213787 | I21: =IF((G21-H21)>0,0,H21-G21) -> 0 | J21: =I21/U21 -> 0 | K21: 0 | L21: 42023 | M21: 86 | N21: 86 | O21: 0 | P21: 0 | Q21: 0 | R21: 0 | S21: INR | T21: 0 | U21: 3372 | V21: 00/00/0000 | W21: 0 | X21: 0 | Y21: N | AA21: 9 | AB21: N | AC21: 00/00/0000 | AD21: N | AE21: 0 | AF21: 00/00/0000 | AJ21: STD
A22: 36202401804 | B22: TL CAR LOAN CLERICAL | C22: 80075343897 | D22: Mrs. KAMALA P THAKORE | E22: 480000 | F22: 5.5 | G22: 351545 | H22: 305182 | I22: =IF((G22-H22)>0,0,H22-G22) -> 0 | J22: =I22/U22 -> 0 | K22: 0 | L22: 42669 | M22: 65 | N22: 65 | O22: 0 | P22: 0 | Q22: 0 | R22: 0 | S22: INR | T22: 0 | U22: 3637 | V22: 00/00/0000 | W22: 0 | X22: 0 | Y22: N | AA22: 9 | AB22: N | AC22: 00/00/0000 | AD22: N | AE22: 0 | AF22: 00/00/0000 | AJ22: STD
A23: 40029037815 | B23: TL CAR LOAN CLERICAL | C23: 85859033016 | D23: Mr. JATIN JIVANBHAI RUPALA | E23: 700000 | F23: 5.5 | G23: 675987 | H23: 668135 | I23: =IF((G23-H23)>0,0,H23-G23) -> 0 | J23: =I23/U23 -> 0 | K23: 0 | L23: 44257 | M23: 12 | N23: 12 | O23: 0 | P23: 0 | Q23: 0 | R23: 0 | S23: INR | T23: 0 | U23: 5304 | V23: 00/00/0000 | W23: 0 | X23: 0 | Y23: N | AA23: 9 | AB23: N | AC23: 00/00/0000 | AD23: N | AE23: 0 | AF23: 00/00/0000 | AJ23: STD
A24: 32389408667 | B24: TL CAR LOAN-EXECU/SUP STF | C24: 85185586545 | D24: Mr. NISHANT NAVIN CHANDRA BHAT | E24: 410000 | F24: 5.5 | G24: 154424 | H24: 33716 | I24: =IF((G24-H24)>0,0,H24-G24) -> 0 | J24: =I24/U24 -> 0 | K24: 0 | L24: 41081 | M24: 116 | N24: 116 | O24: 0 | P24: 0 | Q24: 0 | R24: 0 | S24: INR | T24: 0 | U24: 3107 | V24: 00/00/0000 | W24: 0 | X24: 0 | Y24: N | AA24: 9 | AB24: N | AC24: 00/00/0000 | AD24: N | AE24: 0 | AF24: 00/00/0000 | AJ24: STD
A25: 36002583244 | B25: TL CAR LOAN-EXECU/SUP STF | C25: 86066592615 | D25: Mr. MEHUL ANILBHAI MAKWANA | E25: 500000 | F25: 5.5 | G25: 369536 | H25: 325318 | I25: =IF((G25-H25)>0,0,H25-G25) -> 0 | J25: =I25/U25 -> 0 | K25: 0 | L25: 42594 | M25: 67 | N25: 67 | O25: 0 | P25: 0 | Q25: 0 | R25: 0 | S25: INR | T25: 0 | U25: 3788 | V25: 00/00/0000 | W25: 0 | X25: 0 | Y25: N | AA25: 9 | AB25: N | AC25: 00/00/0000 | AD25: N | AE25: 0 | AF25: 00/00/0000 | AJ25: STD
A26: 61323747338 | B26: D L Vehicle -CAR STAFF | C26: 71108857807 | D26: Mr. JIGAR CHANDRAKANT HINGU | E26: 256000 | F26: 5.5 | G26: 166509 | H26: 164208 | I26: =IF((G26-H26)>0,0,H26-G26) -> 0 | J26: =I26/U26 -> 0 | K26: 0 | L26: 42585 | M26: 67 | N26: 67 | O26: 0 | P26: 0 | Q26: 0 | R26: 0 | S26: INR | T26: 0 | U26: 2301 | V26: 00/00/0000 | W26: 0 | X26: 0 | Y26: N | AA26: 9 | AB26: N | AC26: 00/00/0000 | AD26: N | AE26: 0 | AF26: 00/00/0000 | AJ26: STD
A27: 35571391651 | B27: D L Vehi -2 Wheel STAFF | C27: 80084154004 | D27: Mr. BHAGVANDAS VITHALDAS PURAB | E27: 56000 | F27: 5.5 | G27: 3876 | H27: 3870 | I27: =IF((G27-H27)>0,0,H27-G27) -> 0 | J27: =I27/U27 -> 0 | K27: 0 | L27: 42417 | M27: 73 | N27: 73 | O27: 0 | P27: 0 | Q27: 0 | R27: 0 | S27: INR | T27: 0 | U27: 854 | V27: 00/00/0000 | W27: 0 | X27: 0 | Y27: N | AA27: 9 | AB27: N | AC27: 00/00/0000 | AD27: N | AE27: 0 | AF27: 00/00/0000 | AG27: STD | AH27: 43948 | AI27: 999 | AJ27: STD
A28: 37997462730 | B28: D L Vehi -2 Wheel STAFF | C28: 78116936223 | D28: Mr. HARKESHSINGH RAJPUT | E28: 61000 | F28: 5.5 | G28: 27551 | H28: 27551 | I28: =IF((G28-H28)>0,0,H28-G28) -> 0 | J28: =I28/U28 -> 0 | K28: 0 | L28: 43383 | M28: 42 | N28: 42 | O28: 0 | P28: 0 | Q28: 0 | R28: 0 | S28: INR | T28: 0 | U28: 1000 | V28: 00/00/0000 | W28: 0 | X28: 0 | AB28: N | AC28: 00/00/0000 | AD28: N | AE28: 0 | AF28: 00/00/0000 | AG28: STD | AH28: 43777 | AI28: 0 | AJ28: STD
A29: 39667475504 | B29: D L Vehi -2 Wheel STAFF | C29: 85859033016 | D29: Mr. JATIN JIVANBHAI RUPALA | E29: 72000 | F29: 5.5 | G29: 58633 | H29: 55765 | I29: =IF((G29-H29)>0,0,H29-G29) -> 0 | J29: =I29/U29 -> 0 | K29: 0 | L29: 44092 | M29: 18 | N29: 18 | O29: 0 | P29: 0 | Q29: 0 | R29: 0 | S29: INR | T29: 0 | U29: 1029 | V29: 00/00/0000 | W29: 0 | X29: 0 | AB29: N | AC29: 00/00/0000 | AD29: N | AE29: 0 | AF29: 00/00/0000 | AJ29: STD
A30: 40003124458 | B30: D L Vehi -2 Wheel STAFF | C30: 80075343897 | D30: Mrs. KAMALA P THAKORE | E30: 76000 | F30: 5.5 | G30: 66278 | H30: 59375 | I30: =IF((G30-H30)>0,0,H30-G30) -> 0 | J30: =I30/U30 -> 0 | K30: 0 | L30: 44238 | M30: 13 | N30: 13 | O30: 0 | P30: 0 | Q30: 0 | R30: 0 | S30: INR | T30: 0 | U30: 1071 | V30: 00/00/0000 | W30: 0 | X30: 0 | Y30: N | AA30: 9 | AB30: N | AC30: 00/00/0000 | AD30: N | AE30: 0 | AF30: 00/00/0000 | AG30: STD | AH30: 44424 | AI30: 0 | AJ30: STD
A31: 38854452818 | B31: EB-HOME TOPUP SEP 19 | C31: 85029842295 | D31: Mrs. RENUKA LALITKUMAR BANKER | E31: 700000 | F31: 7.2 | G31: 665267 | H31: 639998.38 | I31: =IF((G31-H31)>0,0,H31-G31) -> 0 | J31: =I31/U31 -> 0 | K31: 0 | L31: 43756 | M31: 19 | N31: 19 | O31: 0 | P31: 0 | Q31: 0 | R31: 0 | S31: INR | T31: 15355 | U31: 6935 | V31: 00/00/0000 | W31: 0 | X31: 0 | Y31: N | AA31: 9 | AB31: N | AC31: 00/00/0000 | AD31: N | AE31: 0 | AF31: 00/00/0000 | AG31: STD | AH31: 43948 | AI31: 0 | AJ31: STD
A32: 39840354433 | B32: EB-HOME TOPUP-MAY 20 | C32: 85614113074 | D32: Mr. BHIKHABHAI GANDABHAI PATEL | E32: 1000000 | F32: 7.75 | G32: 894428 | H32: 36463 | I32: =IF((G32-H32)>0,0,H32-G32) -> 0 | J32: =I32/U32 -> 0 | K32: 0 | L32: 44167 | M32: 15 | N32: 15 | O32: 0 | P32: 0 | Q32: 0 | R32: 0 | S32: INR | T32: 15355 | U32: 9469 | V32: 00/00/0000 | W32: 0 | X32: 0 | Y32: N | AA32: 9 | AB32: N | AC32: 00/00/0000 | AD32: N | AE32: 0 | AF32: 00/00/0000 | AJ32: STD
A33: 39735485458 | B33: MC-SBI PENSION LOAN-JAN17 | C33: 80232567809 | D33: Mr. VITHALBHAI SOMABHAI MEVADA | E33: 590000 | F33: 9.75 | G33: 451803 | H33: 451191 | I33: =IF((G33-H33)>0,0,H33-G33) -> 0 | J33: =I33/U33 -> 0 | K33: 0 | L33: 44119 | M33: 17 | N33: 17 | O33: 0 | P33: 0 | Q33: 0 | R33: 0 | S33: INR | T33: 0 | U33: 12464 | V33: 00/00/0000 | W33: 0 | X33: 0 | Y33: N | AA33: 9 | AB33: N | AC33: 00/00/0000 | AD33: N | AE33: 0 | AF33: 00/00/0000 | AJ33: STD
A34: 30030816521 | B34: H T L Floating Int PER | C34: 85053016381 | D34: Mr. JAYESH KUMAR VAGHELA | E34: 618000 | F34: 9.8 | G34: 70336 | H34: 34032.97 | I34: =IF((G34-H34)>0,0,H34-G34) -> 0 | J34: =I34/U34 -> 0 | K34: 0 | L34: 38724 | M34: 19 | N34: 19 | O34: 0 | P34: 0 | Q34: 0 | R34: 0 | S34: INR | T34: 15355 | U34: 6666 | V34: 00/00/0000 | W34: 0 | X34: 0 | Y34: N | AA34: 9 | AB34: N | AC34: 00/00/0000 | AD34: N | AE34: 0 | AF34: 00/00/0000 | AG34: STD | AH34: 43928 | AI34: 0 | AJ34: STD
A35: 30030707747 | B35: HTL FLOAT(PER)NOV/04 | C35: 85017292968 | D35: Mrs. MANJULA KAILASHCHANDRA SH | E35: 500000 | F35: 9.55 | G35: 125917.33 | H35: 123227.66 | I35: =IF((G35-H35)>0,0,H35-G35) -> 0 | J35: =I35/U35 -> 0 | K35: 0 | L35: 38723 | M35: 19 | N35: 19 | O35: 0 | P35: 0 | Q35: 0 | R35: 0 | S35: INR | T35: 15355 | U35: 3601 | V35: 00/00/0000 | W35: 0 | X35: 0 | Y35: N | AA35: 9 | AB35: N | AC35: 00/00/0000 | AD35: N | AE35: 0 | AF35: 00/00/0000 | AG35: STD | AH35: 44610 | AI35: 0 | AJ35: STD
A36: 30100657221 | B36: HTL FLOAT(PER)MAY/06 | C36: 80083832323 | D36: Mrs. ASHABEN KARSANBHAI CHUDAS | E36: 364000 | F36: 10.3 | G36: 49233.6 | H36: 18519.46 | I36: =IF((G36-H36)>0,0,H36-G36) -> 0 | J36: =I36/U36 -> 0 | K36: 0 | L36: 39062 | M36: 19 | N36: 19 | O36: 0 | P36: 0 | Q36: 0 | R36: 0 | S36: INR | T36: 15355 | U36: 4058 | V36: 00/00/0000 | W36: 0 | X36: 0 | Y36: N | AA36: 9 | AB36: N | AC36: 00/00/0000 | AD36: N | AE36: 0 | AF36: 00/00/0000 | AJ36: STD
A37: 30109942118 | B37: HTL FLOAT(PER)MAY/06 | C37: 80084077559 | D37: Mr. VIJAYVARGIY MANOJ RAMSWAR | E37: 415000 | F37: 10.3 | G37: 58386 | H37: 30193.62 | I37: =IF((G37-H37)>0,0,H37-G37) -> 0 | J37: =I37/U37 -> 0 | K37: 0 | L37: 39087 | M37: 19 | N37: 19 | O37: 0 | P37: 0 | Q37: 0 | R37: 0 | S37: INR | T37: 15355 | U37: 4587 | V37: 00/00/0000 | W37: 0 | X37: 0 | Y37: N | AA37: 9 | AB37: N | AC37: 00/00/0000 | AD37: N | AE37: 0 | AF37: 00/00/0000 | AJ37: STD
A38: 30252890944 | B38: HTL FLOT(P) 20 02 07 | C38: 85142036261 | D38: Mr. SUBHASH AMRUTLAL BAROT | E38: 306000 | F38: 10.05 | G38: 194722.49 | H38: 160840.38 | I38: =IF((G38-H38)>0,0,H38-G38) -> 0 | J38: =I38/U38 -> 0 | K38: 0 | L38: 39358 | M38: 19 | N38: 19 | O38: 0 | P38: 0 | Q38: 0 | R38: 0 | S38: INR | T38: 15355 | U38: 3107 | V38: 00/00/0000 | W38: 0 | X38: 0 | Y38: N | AA38: 9 | AB38: N | AC38: 00/00/0000 | AD38: N | AE38: 0 | AF38: 00/00/0000 | AJ38: STD
A39: 30293844809 | B39: HTL FLOT(P) 20 02 07 | C39: 85170857853 | D39: Mr. JAGDISHBHAI BHANJIBHAI RAT | E39: 240000 | F39: 9.65 | G39: 174025.1 | H39: 117104.65 | I39: =IF((G39-H39)>0,0,H39-G39) -> 0 | J39: =I39/U39 -> 0 | K39: 0 | L39: 39431 | M39: 19 | N39: 19 | O39: 0 | P39: 0 | Q39: 0 | R39: 0 | S39: INR | T39: 15355 | U39: 3352 | V39: 00/00/0000 | W39: 0 | X39: 0 | Y39: N | AA39: 9 | AB39: N | AC39: 00/00/0000 | AD39: N | AE39: 0 | AF39: 00/00/0000 | AJ39: STD
A40: 30404938659 | B40: HTL FLOT(P) 20 02 07 | C40: 85252188583 | D40: Mrs. KIRAN KAMLEShKUMAR PATEL | E40: 452000 | F40: 10.05 | G40: 227477 | H40: 99113.08 | I40: =IF((G40-H40)>0,0,H40-G40) -> 0 | J40: =I40/U40 -> 0 | K40: 0 | L40: 39615 | M40: 19 | N40: 19 | O40: 0 | P40: 0 | Q40: 0 | R40: 0 | S40: INR | T40: 15355 | U40: 4796 | V40: 00/00/0000 | W40: 0 | X40: 0 | Y40: N | AA40: 9 | AB40: N | AC40: 00/00/0000 | AD40: N | AE40: 0 | AF40: 00/00/0000 | AJ40: STD
A41: 40219538363 | B41: STU LN STAFF-WARD<=7.5LAC | C41: 72177037681 | D41: Mr. KARAN NAVINCHANDRA PANCHAL | E41: 750000 | F41: 5.95 | G41: 175502 | H41: 171502 | I41: =IF((G41-H41)>0,0,H41-G41) -> 0 | J41: =I41/U41 -> 0 | K41: 0 | L41: 44357 | M41: 1 | N41: 1 | O41: 0 | P41: 0 | Q41: 0 | R41: 0 | S41: INR | T41: 15355 | U41: 2656 | V41: 00/00/0000 | W41: 0 | X41: 0 | Y41: N | AA41: 9 | AB41: N | AC41: 00/00/0000 | AD41: N | AE41: 0 | AF41: 00/00/0000 | AG41: STD | AH41: 44608 | AI41: 0 | AJ41: STD
A42: 39880014353 | B42: GLOBAL ED-VANTAGE STAFF | C42: 80133007306 | D42: Mr. KRUTARTH HIMANSHU MEHTA | E42: 1862500 | F42: 5.95 | G42: 1379377 | H42: 1379377 | I42: =IF((G42-H42)>0,0,H42-G42) -> 0 | J42: =I42/U42 -> 0 | K42: 0 | L42: 44202 | M42: 1 | N42: 1 | O42: 0 | P42: 0 | Q42: 0 | R42: 0 | S42: INR | T42: 15355 | U42: 17128 | V42: 00/00/0000 | W42: 0 | X42: 0 | Y42: N | AA42: 9 | AB42: N | AC42: 00/00/0000 | AD42: N | AE42: 0 | AF42: 00/00/0000 | AJ42: STD
A43: 33755498274 | B43: SBI CAR LN SCHM(TL)OCT-13 | C43: 85218028847 | D43: Mrs. PRAVINABEN ASHOKKUMAR AMI | E43: 830000 | F43: 8.5 | G43: 7854.51 | H43: 59808.95 | I43: =IF((G43-H43)>0,0,H43-G43) -> 51954.44 | J43: =I43/U43 -> 3.4108745 | K43: 51954.44 | L43: 41726 | M43: 19 | N43: 16 | O43: 3 | P43: 5 | Q43: 5 | R43: 801 | S43: INR | T43: 15355 | U43: 15232 | V43: 44404 | W43: 0 | X43: 838.6 | Y43: N | AA43: 5 | AB43: Y | AC43: 44561 | AD43: N | AE43: 0 | AF43: 00/00/0000 | AG43: NPA | AH43: 44192 | AI43: 506 | AJ43: NPA | AK43: =DATEDIF(L43,AH43,"M") -> 80
A44: 34883099794 | B44: SBI CAR LN-TL-NEW CAR-MEN | C44: 80125699737 | D44: Mr. JATIN RASIKLAL VORA | E44: 490000 | F44: 8 | G44: 47381 | H44: 19548.62 | I44: =IF((G44-H44)>0,0,H44-G44) -> 0 | J44: =I44/U44 -> 0 | K44: 0 | L44: 42115 | M44: 19 | N44: 19 | O44: 0 | P44: 0 | Q44: 0 | R44: 0 | S44: INR | T44: 61132 | U44: 8211 | V44: 00/00/0000 | W44: 0 | X44: 0 | Y44: N | AA44: 9 | AB44: N | AC44: 00/00/0000 | AD44: N | AE44: 0 | AF44: 00/00/0000 | AG44: STD | AH44: 44195 | AI44: 0 | AJ44: STD
A45: 34893394391 | B45: SBI CAR LN-TL-NEW CAR-MEN | C45: 85503921053 | D45: Mr. DHRUV JAYENDRASINH MADHAVS | E45: 400000 | F45: 8 | G45: 32193 | H45: 102.13 | I45: =IF((G45-H45)>0,0,H45-G45) -> 0 | J45: =I45/U45 -> 0 | K45: 0 | L45: 42121 | M45: 19 | N45: 19 | O45: 0 | P45: 0 | Q45: 0 | R45: 0 | S45: INR | T45: 61132 | U45: 6703 | V45: 00/00/0000 | W45: 0 | X45: 0 | Y45: N | AA45: 9 | AB45: N | AC45: 00/00/0000 | AD45: N | AE45: 0 | AF45: 00/00/0000 | AG45: STD | AH45: 43841 | AI45: 999 | AJ45: STD
A46: 34958287232 | B46: SBI CAR LN-TL-NEW CAR-MEN | C46: 85005311872 | D46: Mr. PARITOSH APURVA VYAS | E46: 450000 | F46: 8 | G46: 36038 | H46: 3309.03 | I46: =IF((G46-H46)>0,0,H46-G46) -> 0 | J46: =I46/U46 -> 0 | K46: 0 | L46: 42152 | M46: 19 | N46: 19 | O46: 0 | P46: 0 | Q46: 0 | R46: 0 | S46: INR | T46: 61132 | U46: 7541 | V46: 00/00/0000 | W46: 0 | X46: 0 | Y46: N | AA46: 9 | AB46: N | AC46: 00/00/0000 | AD46: N | AE46: 0 | AF46: 00/00/0000 | AJ46: STD
A47: 35386806590 | B47: BR-TL XPRESS CREDIT | C47: 86013139166 | D47: Mr. DINESHBHAI GALABHAI DORIYA | E47: 295000 | F47: 12.55 | G47: 0 | H47: 184416.49 | I47: =IF((G47-H47)>0,0,H47-G47) -> 184416.49 | J47: =I47/U47 -> 26.684487 | K47: 184416.49 | L47: 42346 | M47: 60 | N47: 33 | O47: 27 | P47: 5 | Q47: 5 | R47: 801 | S47: INR | T47: 0 | U47: 6911 | V47: 43256 | W47: 0 | X47: 133380.29 | Y47: N | AA47: 5 | AB47: Y | AC47: 43830 | AD47: F | AE47: 184416.49 | AF47: 40001 | AJ47: STD
A48: 35653773751 | B48: SBI HOME TOPUP-DEC15-(W) | C48: 85702958419 | D48: Mrs. REKHA PRADEEP JAIN | E48: 1300000 | F48: 7.75 | G48: 995312 | H48: 875203.98 | I48: =IF((G48-H48)>0,0,H48-G48) -> 0 | J48: =I48/U48 -> 0 | K48: 0 | L48: 42455 | M48: 19 | N48: 19 | O48: 0 | P48: 0 | Q48: 0 | R48: 0 | S48: INR | T48: 15355 | U48: 13575 | V48: 00/00/0000 | W48: 0 | X48: 0 | Y48: N | AA48: 9 | AB48: N | AC48: 00/00/0000 | AD48: N | AE48: 0 | AF48: 00/00/0000 | AJ48: STD
A49: 31329872516 | B49: BR-EASY HSG LOAN FLT | C49: 85849542684 | D49: Mrs. JASODABEN DINESHBHAI JADA | E49: 883000 | F49: 9.3 | G49: 441223 | H49: 306205.82 | I49: =IF((G49-H49)>0,0,H49-G49) -> 0 | J49: =I49/U49 -> 0 | K49: 0 | L49: 40403 | M49: 19 | N49: 19 | O49: 0 | P49: 0 | Q49: 0 | R49: 0 | S49: INR | T49: 15355 | U49: 8593 | V49: 00/00/0000 | W49: 0 | X49: 0 | Y49: N | AA49: 9 | AB49: N | AC49: 00/00/0000 | AD49: N | AE49: 0 | AF49: 00/00/0000 | AJ49: STD
A50: 31405747113 | B50: BR-EASY HSG LOAN FLT | C50: 80083933295 | D50: Mr. KIRANKUMAR RAMESHCHANDRA | E50: 1123000 | F50: 9.3 | G50: 798813 | H50: 679471.5 | I50: =IF((G50-H50)>0,0,H50-G50) -> 0 | J50: =I50/U50 -> 0 | K50: 0 | L50: 40434 | M50: 19 | N50: 19 | O50: 0 | P50: 0 | Q50: 0 | R50: 0 | S50: INR | T50: 15355 | U50: 10442 | V50: 00/00/0000 | W50: 0 | X50: 0 | Y50: N | AA50: 9 | AB50: N | AC50: 00/00/0000 | AD50: N | AE50: 0 | AF50: 00/00/0000 | AJ50: STD
A51: 31688261346 | B51: BR-SBI EASY H L JAN/11 | C51: 86007053999 | D51: Mr. SAURIN ANIRUDDHA MEHTA[FIL | E51: 1200000 | F51: 9.05 | G51: 1090358 | H51: 923741.05 | I51: =IF((G51-H51)>0,0,H51-G51) -> 0 | J51: =I51/U51 -> 0 | K51: 0 | L51: 40628 | M51: 19 | N51: 19 | O51: 0 | P51: 0 | Q51: 0 | R51: 0 | S51: INR | T51: 15355 | U51: 10655 | V51: 00/00/0000 | W51: 0 | X51: 0 | Y51: N | AA51: 9 | AB51: N | AC51: 00/00/0000 | AD51: N | AE51: 0 | AF51: 00/00/0000 | AJ51: STD
A52: 31735239931 | B52: SBI HSG LN TL<30L MAY'11 | C52: 85342841409 | D52: Mr. KIRITKUMAR BABULAL MAHERIA | E52: 1100000 | F52: 8.55 | G52: 475948 | H52: 164488.25 | I52: =IF((G52-H52)>0,0,H52-G52) -> 0 | J52: =I52/U52 -> 0 | K52: 0 | L52: 40668 | M52: 19 | N52: 19 | O52: 0 | P52: 0 | Q52: 0 | R52: 0 | S52: INR | T52: 15355 | U52: 11575 | V52: 00/00/0000 | W52: 0 | X52: 0 | Y52: N | AA52: 9 | AB52: N | AC52: 00/00/0000 | AD52: N | AE52: 0 | AF52: 00/00/0000 | AJ52: STD
A53: 31759463910 | B53: SBI HSG LN TL<30L MAY'11 | C53: 80083987990 | D53: Mr. HANSA MOHANLAL MAKWANA | E53: 700000 | F53: 8.55 | G53: 287976 | H53: 13742.32 | I53: =IF((G53-H53)>0,0,H53-G53) -> 0 | J53: =I53/U53 -> 0 | K53: 0 | L53: 40687 | M53: 19 | N53: 19 | O53: 0 | P53: 0 | Q53: 0 | R53: 0 | S53: INR | T53: 15355 | U53: 7784 | V53: 00/00/0000 | W53: 0 | X53: 0 | Y53: N | AA53: 9 | AB53: N | AC53: 00/00/0000 | AD53: N | AE53: 0 | AF53: 00/00/0000 | AJ53: STD
A54: 31874681030 | B54: SBI HSG LN TL<30L MAY'11 | C54: 80084067846 | D54: Mr. MEHUL MANJIBHAI MADIA | E54: 1000000 | F54: 8.3 | G54: 674354 | H54: 609143.54 | I54: =IF((G54-H54)>0,0,H54-G54) -> 0 | J54: =I54/U54 -> 0 | K54: 0 | L54: 40763 | M54: 19 | N54: 19 | O54: 0 | P54: 0 | Q54: 0 | R54: 0 | S54: INR | T54: 15355 | U54: 10165 | V54: 00/00/0000 | W54: 0 | X54: 0 | Y54: N | AA54: 9 | AB54: N | AC54: 00/00/0000 | AD54: N | AE54: 0 | AF54: 00/00/0000 | AJ54: STD
A55: 31936789705 | B55: SBI SURAKSHA | C55: 80083987990 | D55: Mr. HANSA MOHANLAL MAKWANA | E55: 40000 | F55: 8.05 | G55: 44751 | H55: 43778.47 | I55: =IF((G55-H55)>0,0,H55-G55) -> 0 | J55: =I55/U55 -> 0 | K55: 0 | L55: 40799 | M55: 19 | N55: 19 | O55: 0 | P55: 0 | Q55: 0 | R55: 0 | S55: INR | T55: 15355 | U55: 963 | V55: 00/00/0000 | W55: 0 | X55: 0 | Y55: N | AA55: 9 | AB55: N | AC55: 00/00/0000 | AD55: N | AE55: 0 | AF55: 00/00/0000 | AG55: STD | AH55: 44610 | AI55: 0 | AJ55: STD
A56: 32717257661 | B56: SBI SURAKSHA | C56: 86409779549 | D56: Mrs. SONAl BHARAT PATEL | E56: 75000 | F56: 7.8 | G56: 41753 | H56: 41745.59 | I56: =IF((G56-H56)>0,0,H56-G56) -> 0 | J56: =I56/U56 -> 0 | K56: 0 | L56: 41261 | M56: 19 | N56: 19 | O56: 0 | P56: 0 | Q56: 0 | R56: 0 | S56: INR | T56: 15355 | U56: 724 | V56: 00/00/0000 | W56: 0 | X56: 0 | Y56: N | AA56: 9 | AB56: N | AC56: 00/00/0000 | AD56: N | AE56: 0 | AF56: 00/00/0000 | AG56: STD | AH56: 44614 | AI56: 0 | AJ56: STD
A57: 33637517668 | B57: SBI SURAKSHA | C57: 86310709458 | D57: Mr. MANISHBHAI SAKARVADIYA | E57: 47000 | F57: 7.7 | G57: 57237 | H57: 57237 | I57: =IF((G57-H57)>0,0,H57-G57) -> 0 | J57: =I57/U57 -> 0 | K57: 0 | L57: 41674 | M57: 19 | N57: 19 | O57: 0 | P57: 0 | Q57: 0 | R57: 0 | S57: INR | T57: 15355 | U57: 613 | V57: 00/00/0000 | W57: 0 | X57: 0 | Y57: N | AA57: 9 | AB57: N | AC57: 00/00/0000 | AD57: N | AE57: 0 | AF57: 00/00/0000 | AG57: STD | AH57: 44627 | AI57: 0 | AJ57: STD
A58: 34716736161 | B58: SBI SURAKSHA | C58: 86163534062 | D58: Mr. ANKITKUMAR RAMABHAI PATEL | E58: 14000 | F58: 7.7 | G58: 4312 | H58: 3890.38 | I58: =IF((G58-H58)>0,0,H58-G58) -> 0 | J58: =I58/U58 -> 0 | K58: 0 | L58: 42054 | M58: 19 | N58: 19 | O58: 0 | P58: 0 | Q58: 0 | R58: 0 | S58: INR | T58: 15355 | U58: 125 | V58: 00/00/0000 | W58: 0 | X58: 0 | Y58: N | AA58: 9 | AB58: N | AC58: 00/00/0000 | AD58: N | AE58: 0 | AF58: 00/00/0000 | AJ58: STD
A59: 34795800384 | B59: SBI SURAKSHA | C59: 85906711083 | D59: Mr. VALJIBHAI GALABHAI MAKWANA | E59: 33000 | F59: 7.7 | G59: 15869 | H59: 14969.16 | I59: =IF((G59-H59)>0,0,H59-G59) -> 0 | J59: =I59/U59 -> 0 | K59: 0 | L59: 42081 | M59: 19 | N59: 19 | O59: 0 | P59: 0 | Q59: 0 | R59: 0 | S59: INR | T59: 15355 | U59: 295 | V59: 00/00/0000 | W59: 0 | X59: 0 | Y59: N | AA59: 9 | AB59: N | AC59: 00/00/0000 | AD59: N | AE59: 0 | AF59: 00/00/0000 | AG59: STD | AH59: 43804 | AI59: 0 | AJ59: STD
A60: 34796892717 | B60: SBI SURAKSHA | C60: 85796291647 | D60: Mr. VINOD SAVAJIBHAI PANSURIYA | E60: 38000 | F60: 7.7 | G60: 17898 | H60: 17104 | I60: =IF((G60-H60)>0,0,H60-G60) -> 0 | J60: =I60/U60 -> 0 | K60: 0 | L60: 42081 | M60: 19 | N60: 19 | O60: 0 | P60: 0 | Q60: 0 | R60: 0 | S60: INR | T60: 15355 | U60: 397 | V60: 00/00/0000 | W60: 0 | X60: 0 | Y60: N | AA60: 9 | AB60: N | AC60: 00/00/0000 | AD60: N | AE60: 0 | AF60: 00/00/0000 | AG60: STD | AH60: 44610 | AI60: 0 | AJ60: STD
A61: 34872084656 | B61: SBI SURAKSHA | C61: 80232447969 | D61: Mrs. RAMIBEN KANTILAL PATEL | E61: 87000 | F61: 7.55 | G61: 14914 | H61: 13818 | I61: =IF((G61-H61)>0,0,H61-G61) -> 0 | J61: =I61/U61 -> 0 | K61: 0 | L61: 42115 | M61: 19 | N61: 19 | O61: 0 | P61: 0 | Q61: 0 | R61: 0 | S61: INR | T61: 15355 | U61: 1096 | V61: 00/00/0000 | W61: 0 | X61: 0 | Y61: N | AA61: 9 | AB61: N | AC61: 00/00/0000 | AD61: N | AE61: 0 | AF61: 00/00/0000 | AG61: STD | AH61: 44610 | AI61: 0 | AJ61: STD
A62: 34908847386 | B62: SBI SURAKSHA | C62: 80083930023 | D62: Mr. CHANDRAKANT TULSIDAS YADAV | E62: 25000 | F62: 7.6 | G62: 12827 | H62: 12827 | I62: =IF((G62-H62)>0,0,H62-G62) -> 0 | J62: =I62/U62 -> 0 | K62: 0 | L62: 42129 | M62: 19 | N62: 19 | O62: 0 | P62: 0 | Q62: 0 | R62: 0 | S62: INR | T62: 15355 | U62: 230 | V62: 00/00/0000 | W62: 0 | X62: 0 | Y62: N | AA62: 9 | AB62: N | AC62: 00/00/0000 | AD62: N | AE62: 0 | AF62: 00/00/0000 | AG62: STD | AH62: 44610 | AI62: 0 | AJ62: STD
A63: 34971477599 | B63: SBI SURAKSHA | C63: 88486898244 | D63: Mr. DALAPTBHAI BABABHAI VAGHEL | E63: 14000 | F63: 7.6 | G63: 6726 | H63: 6726 | I63: =IF((G63-H63)>0,0,H63-G63) -> 0 | J63: =I63/U63 -> 0 | K63: 0 | L63: 42158 | M63: 19 | N63: 19 | O63: 0 | P63: 0 | Q63: 0 | R63: 0 | S63: INR | T63: 15355 | U63: 139 | V63: 00/00/0000 | W63: 0 | X63: 0 | Y63: N | AA63: 9 | AB63: N | AC63: 00/00/0000 | AD63: N | AE63: 0 | AF63: 00/00/0000 | AG63: STD | AH63: 44624 | AI63: 0 | AJ63: STD
A64: 34978867694 | B64: SBI SURAKSHA | C64: 80141512558 | D64: Mr. JAYESHKUMAR AMRUTLAL PATEL | E64: 33000 | F64: 7.6 | G64: 22419 | H64: 21913.94 | I64: =IF((G64-H64)>0,0,H64-G64) -> 0 | J64: =I64/U64 -> 0 | K64: 0 | L64: 42166 | M64: 19 | N64: 19 | O64: 0 | P64: 0 | Q64: 0 | R64: 0 | S64: INR | T64: 15355 | U64: 284 | V64: 00/00/0000 | W64: 0 | X64: 0 | Y64: N | AA64: 9 | AB64: N | AC64: 00/00/0000 | AD64: N | AE64: 0 | AF64: 00/00/0000 | AG64: STD | AH64: 44610 | AI64: 0 | AJ64: STD
A65: 35072273373 | B65: SBI SURAKSHA | C65: 80018532098 | D65: Mr. KAMLESH MANILAL PATEL | E65: 75000 | F65: 7.6 | G65: 49009 | H65: 48319 | I65: =IF((G65-H65)>0,0,H65-G65) -> 0 | J65: =I65/U65 -> 0 | K65: 0 | L65: 42199 | M65: 19 | N65: 19 | O65: 0 | P65: 0 | Q65: 0 | R65: 0 | S65: INR | T65: 15355 | U65: 690 | V65: 00/00/0000 | W65: 0 | X65: 0 | Y65: N | AA65: 9 | AB65: N | AC65: 00/00/0000 | AD65: N | AE65: 0 | AF65: 00/00/0000 | AG65: STD | AH65: 44610 | AI65: 0 | AJ65: STD
A66: 35627920507 | B66: SBI SURAKSHA | C66: 76005673987 | D66: Mr. NARAYANLAL SUTHAR | E66: 19000 | F66: 7.8 | G66: 10319 | H66: 10126 | I66: =IF((G66-H66)>0,0,H66-G66) -> 0 | J66: =I66/U66 -> 0 | K66: 0 | L66: 42439 | M66: 19 | N66: 19 | O66: 0 | P66: 0 | Q66: 0 | R66: 0 | S66: INR | T66: 15355 | U66: 193 | V66: 00/00/0000 | W66: 0 | X66: 0 | Y66: N | AA66: 9 | AB66: N | AC66: 00/00/0000 | AD66: N | AE66: 0 | AF66: 00/00/0000 | AG66: STD | AH66: 44610 | AI66: 0 | AJ66: STD
A67: 35646902370 | B67: SBI SURAKSHA | C67: 80415156677 | D67: Mr. SANJAY HIRALAL MISHRA | E67: 57000 | F67: 7.75 | G67: 34576 | H67: 34576 | I67: =IF((G67-H67)>0,0,H67-G67) -> 0 | J67: =I67/U67 -> 0 | K67: 0 | L67: 42448 | M67: 19 | N67: 19 | O67: 0 | P67: 0 | Q67: 0 | R67: 0 | S67: INR | T67: 15355 | U67: 531 | V67: 00/00/0000 | W67: 0 | X67: 0 | Y67: N | AA67: 9 | AB67: N | AC67: 00/00/0000 | AD67: N | AE67: 0 | AF67: 00/00/0000 | AG67: STD | AH67: 44640 | AI67: 0 | AJ67: STD
A68: 34811233919 | B68: SBI SURAKSHA | C68: 78642410407 | D68: Mr. VITTHALBHAI SAVJIBHAI PARM | E68: 13000 | F68: 9.7 | G68: 5851 | H68: 5979 | I68: =IF((G68-H68)>0,0,H68-G68) -> 128 | J68: =I68/U68 -> 1 | K68: 128 | L68: 42086 | M68: 19 | N68: 18 | O68: 1 | P68: 1 | Q68: 1 | R68: 701 | S68: INR | T68: 15355 | U68: 128 | V68: 44640 | W68: 0 | X68: 0 | Y68: N | AA68: 3 | AB68: N | AC68: 00/00/0000 | AD68: N | AE68: 0 | AF68: 00/00/0000 | AG68: SMA0 | AH68: 44640 | AI68: 701 | AJ68: STD
A69: 34877841603 | B69: SBI SURAKSHA | C69: 85012150100 | D69: Miss. NISHTHA HARISHKUMAR SHAR | E69: 37000 | F69: 7.55 | G69: 15686 | H69: 16008 | I69: =IF((G69-H69)>0,0,H69-G69) -> 322 | J69: =I69/U69 -> 1 | K69: 322 | L69: 42114 | M69: 19 | N69: 18 | O69: 1 | P69: 1 | Q69: 1 | R69: 701 | S69: INR | T69: 15355 | U69: 322 | V69: 44637 | W69: 0 | X69: 0 | Y69: N | AA69: 3 | AB69: N | AC69: 00/00/0000 | AD69: N | AE69: 0 | AF69: 00/00/0000 | AG69: SMA0 | AH69: 44637 | AI69: 701 | AJ69: STD
A70: 34895050164 | B70: SBI SURAKSHA | C70: 80358834364 | D70: Mrs. HARSHADA GOVINDLAL DALWAD | E70: 121000 | F70: 7.55 | G70: 106498 | H70: 107678 | I70: =IF((G70-H70)>0,0,H70-G70) -> 1180 | J70: =I70/U70 -> 1 | K70: 1180 | L70: 42122 | M70: 19 | N70: 18 | O70: 1 | P70: 1 | Q70: 1 | R70: 701 | S70: INR | T70: 15355 | U70: 1180 | V70: 44645 | W70: 0 | X70: 0 | Y70: N | AA70: 3 | AB70: N | AC70: 00/00/0000 | AD70: N | AE70: 0 | AF70: 00/00/0000 | AG70: SMA0 | AH70: 44645 | AI70: 701 | AJ70: STD
A71: 34948748253 | B71: SBI SURAKSHA | C71: 85017772705 | D71: Mrs. GAURIBEN MANUBHAI DANTANI | E71: 84000 | F71: 7.55 | G71: 26376 | H71: 27273 | I71: =IF((G71-H71)>0,0,H71-G71) -> 897 | J71: =I71/U71 -> 1 | K71: 897 | L71: 42147 | M71: 19 | N71: 18 | O71: 1 | P71: 1 | Q71: 1 | R71: 701 | S71: INR | T71: 15355 | U71: 897 | V71: 44642 | W71: 0 | X71: 0 | Y71: N | AA71: 3 | AB71: N | AC71: 00/00/0000 | AD71: N | AE71: 0 | AF71: 00/00/0000 | AG71: SMA0 | AH71: 44642 | AI71: 701 | AJ71: STD
A72: 35012140311 | B72: SBI SURAKSHA | C72: 85503007638 | D72: Mr. GHANSHYAMSINH ZALA | E72: 27000 | F72: 7.6 | G72: 14548 | H72: 14780 | I72: =IF((G72-H72)>0,0,H72-G72) -> 232 | J72: =I72/U72 -> 1 | K72: 232 | L72: 42178 | M72: 19 | N72: 18 | O72: 1 | P72: 1 | Q72: 1 | R72: 701 | S72: INR | T72: 15355 | U72: 232 | V72: 44638 | W72: 0 | X72: 0 | Y72: N | AA72: 3 | AB72: N | AC72: 00/00/0000 | AD72: N | AE72: 0 | AF72: 00/00/0000 | AG72: SMA0 | AH72: 44638 | AI72: 701 | AJ72: STD
A73: 35164089074 | B73: SBI SURAKSHA | C73: 88641361623 | D73: Mr. ISHWARBHAI CHUNILAL PATNI | E73: 66000 | F73: 9.6 | G73: 26198 | H73: 26954 | I73: =IF((G73-H73)>0,0,H73-G73) -> 756 | J73: =I73/U73 -> 1 | K73: 756 | L73: 42235 | M73: 19 | N73: 18 | O73: 1 | P73: 1 | Q73: 1 | R73: 701 | S73: INR | T73: 15355 | U73: 756 | V73: 44638 | W73: 0 | X73: 0 | Y73: N | AA73: 3 | AB73: N | AC73: 00/00/0000 | AD73: N | AE73: 0 | AF73: 00/00/0000 | AG73: SMA0 | AH73: 44638 | AI73: 701 | AJ73: STD
A74: 35355993721 | B74: SBI SURAKSHA | C74: 80381255482 | D74: Mrs. NEELAM MAHESH GAMBHIR | E74: 9000 | F74: 7.75 | G74: 2937 | H74: 3031 | I74: =IF((G74-H74)>0,0,H74-G74) -> 94 | J74: =I74/U74 -> 1 | K74: 94 | L74: 42331 | M74: 19 | N74: 18 | O74: 1 | P74: 1 | Q74: 1 | R74: 701 | S74: INR | T74: 15355 | U74: 94 | V74: 44641 | W74: 0 | X74: 0 | Y74: N | AA74: 3 | AB74: N | AC74: 00/00/0000 | AD74: N | AE74: 0 | AF74: 00/00/0000 | AG74: SMA0 | AH74: 44641 | AI74: 701 | AJ74: STD
A75: 35522188999 | B75: SBI SURAKSHA | C75: 88761933695 | D75: Mr. MOHD RAFIK SAFIMOHD SAIYED | E75: 52000 | F75: 7.8 | G75: 30370 | H75: 30639 | I75: =IF((G75-H75)>0,0,H75-G75) -> 269 | J75: =I75/U75 -> 1 | K75: 269 | L75: 42391 | M75: 6 | N75: 5 | O75: 1 | P75: 1 | Q75: 1 | R75: 701 | S75: INR | T75: 15355 | U75: 269 | V75: 44642 | W75: 0 | X75: 0 | Y75: N | AA75: 3 | AB75: N | AC75: 00/00/0000 | AD75: N | AE75: 0 | AF75: 00/00/0000 | AG75: SMA0 | AH75: 44642 | AI75: 701 | AJ75: STD
A76: 35658676334 | B76: SBI SURAKSHA | C76: 85614107446 | D76: Mr. MUKESH RANCHHODBHAI PATEL | E76: 31600 | F76: 7.8 | G76: 16009 | H76: 16326 | I76: =IF((G76-H76)>0,0,H76-G76) -> 317 | J76: =I76/U76 -> 1 | K76: 317 | L76: 42457 | M76: 19 | N76: 18 | O76: 1 | P76: 1 | Q76: 1 | R76: 701 | S76: INR | T76: 15355 | U76: 317 | V76: 44647 | W76: 0 | X76: 0 | Y76: N | AA76: 3 | AB76: N | AC76: 00/00/0000 | AD76: N | AE76: 0 | AF76: 00/00/0000 | AG76: SMA0 | AH76: 44647 | AI76: 701 | AJ76: STD
A77: 34710277724 | B77: SBI SURAKSHA | C77: 86382960487 | D77: Mr. MANUBHAI GANDAJI THAKOR | E77: 32000 | F77: 7.7 | G77: 14324 | H77: 15010 | I77: =IF((G77-H77)>0,0,H77-G77) -> 686 | J77: =I77/U77 -> 2 | K77: 686 | L77: 42052 | M77: 19 | N77: 17 | O77: 2 | P77: 2 | Q77: 2 | R77: 702 | S77: INR | T77: 15355 | U77: 343 | V77: 44608 | W77: 0 | X77: 0 | Y77: N | AA77: 1 | AB77: N | AC77: 00/00/0000 | AD77: N | AE77: 0 | AF77: 00/00/0000 | AG77: SMA1 | AH77: 44638 | AI77: 702 | AJ77: STD
A78: 30385587948 | B78: SBI HOME LOAN TL AUG'11 | C78: 85237271628 | D78: Mr. HIREN MAHENDRABHAI SHAH | E78: 1811000 | F78: 8.3 | G78: 446473 | H78: 266017 | I78: =IF((G78-H78)>0,0,H78-G78) -> 0 | J78: =I78/U78 -> 0 | K78: 0 | L78: 39584 | M78: 19 | N78: 19 | O78: 0 | P78: 0 | Q78: 0 | R78: 0 | S78: INR | T78: 15355 | U78: 19987 | V78: 00/00/0000 | W78: 0 | X78: 0 | Y78: N | AA78: 9 | AB78: N | AC78: 00/00/0000 | AD78: N | AE78: 0 | AF78: 00/00/0000 | AJ78: STD
A79: 35582638586 | B79: MAXGAIN SURAKSHA | C79: 86520882300 | D79: Mr. CHIRAG SUBHASHCHANDRA MODI | E79: 35000 | F79: 8.55 | G79: 22834 | H79: 20896.13 | I79: =IF((G79-H79)>0,0,H79-G79) -> 0 | J79: =I79/U79 -> 0 | K79: 0 | L79: 42418 | M79: 19 | N79: 19 | O79: 0 | P79: 0 | Q79: 0 | R79: 0 | S79: INR | T79: 15355 | U79: 369 | V79: 00/00/0000 | W79: 0 | X79: 0 | Y79: N | AA79: 9 | AB79: N | AC79: 00/00/0000 | AD79: N | AE79: 0 | AF79: 00/00/0000 | AG79: STD | AH79: 44326 | AI79: 999 | AJ79: STD
A80: 30228371178 | B80: SBI HOME LOAN TL AUG'12 | C80: 85765594820 | D80: Wing Commander NIRAJ ANIL JANI | E80: 940000 | F80: 7.8 | G80: 61725 | H80: 10019.02 | I80: =IF((G80-H80)>0,0,H80-G80) -> 0 | J80: =I80/U80 -> 0 | K80: 0 | L80: 39315 | M80: 19 | N80: 19 | O80: 0 | P80: 0 | Q80: 0 | R80: 0 | S80: INR | T80: 15355 | U80: 10155 | V80: 00/00/0000 | W80: 0 | X80: 0 | Y80: N | AA80: 9 | AB80: N | AC80: 00/00/0000 | AD80: N | AE80: 0 | AF80: 00/00/0000 | AJ80: STD
A81: 30489396478 | B81: SBI HOME LOAN TL AUG'12 | C81: 80075156669 | D81: Mr. ALOKKUMAR BALAKRAM THAKUR | E81: 924000 | F81: 7.8 | G81: 166126 | H81: 40801.11 | I81: =IF((G81-H81)>0,0,H81-G81) -> 0 | J81: =I81/U81 -> 0 | K81: 0 | L81: 39703 | M81: 19 | N81: 19 | O81: 0 | P81: 0 | Q81: 0 | R81: 0 | S81: INR | T81: 15355 | U81: 9984 | V81: 00/00/0000 | W81: 0 | X81: 0 | Y81: N | AA81: 9 | AB81: N | AC81: 00/00/0000 | AD81: N | AE81: 0 | AF81: 00/00/0000 | AJ81: STD
A82: 30489413189 | B82: SBI HOME LOAN TL AUG'12 | C82: 85272899479 | D82: Mr. RAMESHBHAI GANPATBHAI DATA | E82: 799000 | F82: 7.8 | G82: 173820 | H82: 117093.52 | I82: =IF((G82-H82)>0,0,H82-G82) -> 0 | J82: =I82/U82 -> 0 | K82: 0 | L82: 39703 | M82: 19 | N82: 19 | O82: 0 | P82: 0 | Q82: 0 | R82: 0 | S82: INR | T82: 15355 | U82: 9025 | V82: 00/00/0000 | W82: 0 | X82: 0 | Y82: N | AA82: 9 | AB82: N | AC82: 00/00/0000 | AD82: N | AE82: 0 | AF82: 00/00/0000 | AG82: STD | AH82: 43841 | AI82: 999 | AJ82: STD
A83: 30691638533 | B83: SBI HOME LOAN TL AUG'12 | C83: 85460321472 | D83: Mr. KISHORBHAI BACHUBHAI SHAHE | E83: 600000 | F83: 7.8 | G83: 333852.64 | H83: 252255.78 | I83: =IF((G83-H83)>0,0,H83-G83) -> 0 | J83: =I83/U83 -> 0 | K83: 0 | L83: 39869 | M83: 19 | N83: 19 | O83: 0 | P83: 0 | Q83: 0 | R83: 0 | S83: INR | T83: 15355 | U83: 6077 | V83: 00/00/0000 | W83: 0 | X83: 0 | Y83: N | AA83: 9 | AB83: N | AC83: 00/00/0000 | AD83: N | AE83: 0 | AF83: 00/00/0000 | AJ83: STD
A84: 30895939231 | B84: SBI HOME LOAN TL AUG'12 | C84: 80822486748 | D84: Mrs. SUNITA C JAIN | E84: 2500000 | F84: 7.8 | G84: 910588 | H84: 137667.34 | I84: =IF((G84-H84)>0,0,H84-G84) -> 0 | J84: =I84/U84 -> 0 | K84: 0 | L84: 40073 | M84: 19 | N84: 19 | O84: 0 | P84: 0 | Q84: 0 | R84: 0 | S84: INR | T84: 15355 | U84: 24480 | V84: 00/00/0000 | W84: 0 | X84: 0 | Y84: N | AA84: 9 | AB84: N | AC84: 00/00/0000 | AD84: N | AE84: 0 | AF84: 00/00/0000 | AJ84: STD
A85: 30915063447 | B85: SBI HOME LOAN TL AUG'12 | C85: 78688058903 | D85: Mr. MAHENDRAKUMAR VISHNUBHAI P | E85: 1672000 | F85: 7.8 | G85: 118120.96 | H85: 6961.22 | I85: =IF((G85-H85)>0,0,H85-G85) -> 0 | J85: =I85/U85 -> 0 | K85: 0 | L85: 40093 | M85: 19 | N85: 19 | O85: 0 | P85: 0 | Q85: 0 | R85: 0 | S85: INR | T85: 15355 | U85: 1976 | V85: 00/00/0000 | W85: 0 | X85: 0 | Y85: N | AA85: 9 | AB85: N | AC85: 00/00/0000 | AD85: N | AE85: 0 | AF85: 00/00/0000 | AJ85: STD
A86: 31080952013 | B86: SBI HOME LOAN TL AUG'12 | C86: 80105451563 | D86: Mr. RAHUL MAHENDRABHAI BHATT | E86: 720000 | F86: 7.8 | G86: 236375 | H86: 182846.58 | I86: =IF((G86-H86)>0,0,H86-G86) -> 0 | J86: =I86/U86 -> 0 | K86: 0 | L86: 40242 | M86: 19 | N86: 19 | O86: 0 | P86: 0 | Q86: 0 | R86: 0 | S86: INR | T86: 15355 | U86: 7436 | V86: 00/00/0000 | W86: 0 | X86: 0 | Y86: N | AA86: 9 | AB86: N | AC86: 00/00/0000 | AD86: N | AE86: 0 | AF86: 00/00/0000 | AJ86: STD
A87: 31091351225 | B87: SBI HOME LOAN TL AUG'12 | C87: 85168086848 | D87: Mrs. MEENABEN BHARATKUMAR PATE | E87: 1400000 | F87: 7.8 | G87: 499477 | H87: 390052.82 | I87: =IF((G87-H87)>0,0,H87-G87) -> 0 | J87: =I87/U87 -> 0 | K87: 0 | L87: 40249 | M87: 19 | N87: 19 | O87: 0 | P87: 0 | Q87: 0 | R87: 0 | S87: INR | T87: 15355 | U87: 14738 | V87: 00/00/0000 | W87: 0 | X87: 0 | Y87: N | AA87: 9 | AB87: N | AC87: 00/00/0000 | AD87: N | AE87: 0 | AF87: 00/00/0000 | AJ87: STD
A88: 31223695657 | B88: SBI HOME LOAN TL AUG'12 | C88: 80147574700 | D88: Mrs. ANJALI SUNILKUMAR MALL | E88: 2624000 | F88: 7.8 | G88: 1155709 | H88: 488736.53 | I88: =IF((G88-H88)>0,0,H88-G88) -> 0 | J88: =I88/U88 -> 0 | K88: 0 | L88: 40351 | M88: 19 | N88: 19 | O88: 0 | P88: 0 | Q88: 0 | R88: 0 | S88: INR | T88: 15355 | U88: 23037 | V88: 00/00/0000 | W88: 0 | X88: 0 | Y88: N | AA88: 9 | AB88: N | AC88: 00/00/0000 | AD88: N | AE88: 0 | AF88: 00/00/0000 | AJ88: STD
A89: 31282878925 | B89: SBI HOME LOAN TL AUG'12 | C89: 80668784115 | D89: Mr. SURESHBHAI ISHWARLAL PATEL | E89: 1219000 | F89: 7.8 | G89: 580954 | H89: 288468.12 | I89: =IF((G89-H89)>0,0,H89-G89) -> 0 | J89: =I89/U89 -> 0 | K89: 0 | L89: 40383 | M89: 19 | N89: 19 | O89: 0 | P89: 0 | Q89: 0 | R89: 0 | S89: INR | T89: 15355 | U89: 11239 | V89: 00/00/0000 | W89: 0 | X89: 0 | Y89: N | AA89: 9 | AB89: N | AC89: 00/00/0000 | AD89: N | AE89: 0 | AF89: 00/00/0000 | AJ89: STD
A90: 31628939334 | B90: SBI HOME LOAN TL AUG'12 | C90: 85976082120 | D90: Mrs. BHAVNABEN JAYANTILAL PATE | E90: 1290000 | F90: 7.8 | G90: 849706 | H90: 450195.23 | I90: =IF((G90-H90)>0,0,H90-G90) -> 0 | J90: =I90/U90 -> 0 | K90: 0 | L90: 40588 | M90: 19 | N90: 19 | O90: 0 | P90: 0 | Q90: 0 | R90: 0 | S90: INR | T90: 15355 | U90: 12814 | V90: 00/00/0000 | W90: 0 | X90: 0 | Y90: N | AA90: 9 | AB90: N | AC90: 00/00/0000 | AD90: N | AE90: 0 | AF90: 00/00/0000 | AJ90: STD
A91: 32717257264 | B91: SBI SURAKSHIT HL AUG'12 | C91: 86409779549 | D91: Mrs. SONAl BHARAT PATEL | E91: 1399000 | F91: 7.8 | G91: 896280 | H91: 620038.83 | I91: =IF((G91-H91)>0,0,H91-G91) -> 0 | J91: =I91/U91 -> 0 | K91: 0 | L91: 41261 | M91: 19 | N91: 19 | O91: 0 | P91: 0 | Q91: 0 | R91: 0 | S91: INR | T91: 61132 | U91: 13501 | V91: 00/00/0000 | W91: 0 | X91: 0 | Y91: N | AA91: 9 | AB91: N | AC91: 00/00/0000 | AD91: N | AE91: 0 | AF91: 00/00/0000 | AJ91: STD
A92: 33496547634 | B92: SBI HOME LOAN TL (OCT13) | C92: 87079708131 | D92: Mrs. PRATIBHA SUNNY PANDYA | E92: 27300000 | F92: 8.05 | G92: 27051553 | H92: 26741252 | I92: =IF((G92-H92)>0,0,H92-G92) -> 0 | J92: =I92/U92 -> 0 | K92: 0 | L92: 41611 | M92: 3 | N92: 3 | O92: 0 | P92: 0 | Q92: 0 | R92: 0 | S92: INR | T92: 15355 | U92: 283233 | V92: 00/00/0000 | W92: 0 | X92: 0 | Y92: N | AA92: 9 | AB92: N | AC92: 00/00/0000 | AD92: N | AE92: 0 | AF92: 00/00/0000 | AG92: STD | AH92: 44537 | AI92: 0 | AJ92: STD
A93: 31144937889 | B93: SBI SURAKSA HL TL (OCT13) | C93: 80105398880 | D93: Mr. DHARMENDRA RATILAL JANASAR | E93: 776000 | F93: 7.85 | G93: 494211 | H93: 418218.12 | I93: =IF((G93-H93)>0,0,H93-G93) -> 0 | J93: =I93/U93 -> 0 | K93: 0 | L93: 40292 | M93: 19 | N93: 19 | O93: 0 | P93: 0 | Q93: 0 | R93: 0 | S93: INR | T93: 15355 | U93: 7570 | V93: 00/00/0000 | W93: 0 | X93: 0 | Y93: N | AA93: 9 | AB93: N | AC93: 00/00/0000 | AD93: N | AE93: 0 | AF93: 00/00/0000 | AJ93: STD
A94: 30039311725 | B94: SBI HOME LOAN TL (DEC13) | C94: 85010587298 | D94: Mr. SAMIR HASMUKHBHAI SHAH | E94: 250000 | F94: 7.7 | G94: 66660 | H94: 10018.37 | I94: =IF((G94-H94)>0,0,H94-G94) -> 0 | J94: =I94/U94 -> 0 | K94: 0 | L94: 38777 | M94: 19 | N94: 19 | O94: 0 | P94: 0 | Q94: 0 | R94: 0 | S94: INR | T94: 61132 | U94: 2058 | V94: 00/00/0000 | W94: 0 | X94: 0 | Y94: N | AA94: 9 | AB94: N | AC94: 00/00/0000 | AD94: N | AE94: 0 | AF94: 00/00/0000 | AJ94: STD
A95: 30364048366 | B95: SBI HOME LOAN TL (DEC13) | C95: 80090580612 | D95: Mrs. JANKIDEVI ARVINDKUMAR KHA | E95: 1100000 | F95: 7.7 | G95: 621580 | H95: 546063.5 | I95: =IF((G95-H95)>0,0,H95-G95) -> 0 | J95: =I95/U95 -> 0 | K95: 0 | L95: 39549 | M95: 19 | N95: 19 | O95: 0 | P95: 0 | Q95: 0 | R95: 0 | S95: INR | T95: 15355 | U95: 10951 | V95: 00/00/0000 | W95: 0 | X95: 0 | Y95: N | AA95: 9 | AB95: N | AC95: 00/00/0000 | AD95: N | AE95: 0 | AF95: 00/00/0000 | AJ95: STD
A96: 30828239161 | B96: SBI HOME LOAN TL (DEC13) | C96: 85571649134 | D96: Dr. JIGNESH BALDEVBHAI PATEL | E96: 1340000 | F96: 7.7 | G96: 663965.33 | H96: 368700.3 | I96: =IF((G96-H96)>0,0,H96-G96) -> 0 | J96: =I96/U96 -> 0 | K96: 0 | L96: 40011 | M96: 19 | N96: 19 | O96: 0 | P96: 0 | Q96: 0 | R96: 0 | S96: INR | T96: 15355 | U96: 13897 | V96: 00/00/0000 | W96: 0 | X96: 0 | Y96: N | AA96: 9 | AB96: N | AC96: 00/00/0000 | AD96: N | AE96: 0 | AF96: 00/00/0000 | AJ96: STD
A97: 30829662449 | B97: SBI HOME LOAN TL (DEC13) | C97: 87266492844 | D97: Dr. KARTIKEYA GANPATLAL PARMAR | E97: 2117000 | F97: 7.7 | G97: 1015435 | H97: 793827.19 | I97: =IF((G97-H97)>0,0,H97-G97) -> 0 | J97: =I97/U97 -> 0 | K97: 0 | L97: 40014 | M97: 19 | N97: 19 | O97: 0 | P97: 0 | Q97: 0 | R97: 0 | S97: INR | T97: 15355 | U97: 18166 | V97: 00/00/0000 | W97: 0 | X97: 0 | Y97: N | AA97: 9 | AB97: N | AC97: 00/00/0000 | AD97: N | AE97: 0 | AF97: 00/00/0000 | AJ97: STD
A98: 31068508834 | B98: SBI HOME LOAN TL (DEC13) | C98: 80084133016 | D98: Mr. GANGARAM MAHADEVBHAI VERM | E98: 661000 | F98: 7.7 | G98: 346583 | H98: 174910.06 | I98: =IF((G98-H98)>0,0,H98-G98) -> 0 | J98: =I98/U98 -> 0 | K98: 0 | L98: 40232 | M98: 19 | N98: 19 | O98: 0 | P98: 0 | Q98: 0 | R98: 0 | S98: INR | T98: 15355 | U98: 6472 | V98: 00/00/0000 | W98: 0 | X98: 0 | Y98: N | AA98: 9 | AB98: N | AC98: 00/00/0000 | AD98: N | AE98: 0 | AF98: 00/00/0000 | AJ98: STD
A99: 31102390175 | B99: SBI HOME LOAN TL (DEC13) | C99: 85614116417 | D99: Dr. DHARMENDRA DINESHCHANDRA | E99: 4112000 | F99: 7.7 | G99: 2406645 | H99: 1222060.6 | I99: =IF((G99-H99)>0,0,H99-G99) -> 0 | J99: =I99/U99 -> 0 | K99: 0 | L99: 40258 | M99: 19 | N99: 19 | O99: 0 | P99: 0 | Q99: 0 | R99: 0 | S99: INR | T99: 15355 | U99: 41538 | V99: 00/00/0000 | W99: 0 | X99: 0 | Y99: N | AA99: 9 | AB99: N | AC99: 00/00/0000 | AD99: N | AE99: 0 | AF99: 00/00/0000 | AJ99: STD
A100: 31184792685 | B100: SBI HOME LOAN TL (DEC13) | C100: 85702958703 | D100: Mr. PRAVINKUMAR BABULAL PANCHA | E100: 553000 | F100: 7.7 | G100: 344662 | H100: 318844.17 | I100: =IF((G100-H100)>0,0,H100-G100) -> 0 | J100: =I100/U100 -> 0 | K100: 0 | L100: 40324 | M100: 19 | N100: 19 | O100: 0 | P100: 0 | Q100: 0 | R100: 0 | S100: INR | T100: 15355 | U100: 5293 | V100: 00/00/0000 | W100: 0 | X100: 0 | Y100: N | AA100: 9 | AB100: N | AC100: 00/00/0000 | AD100: N | AE100: 0 | AF100: 00/00/0000 | AG100: STD | AH100: 43949 | AI100: 0 | AJ100: STD
...

Sheet Sheet11
A2: Acct No | B2: 35699626726
B3: =VLOOKUP(B2,'Sheet1 (2)'!A:D,4,0) -> Mrs. RENUKA LALITKUMAR BANKER
B4: =VLOOKUP(B2,'Sheet1 (2)'!A:G,7,0) -> 826206
A6: Loan | B6: =VLOOKUP(B2,'Sheet1 (2)'!A:E,5,0) -> 822217
A7: Rate | B7: =VLOOKUP(B2,'Sheet1 (2)'!A:F,6,0) -> 5.5
A8: Years | B8: 12
A9: EMI | B9: =-PMT(B7%/12,B8*12,B6) -> 7812.4771 | C9: =_xlfn.FORMULATEXT(B9) -> =-PMT(B7%/12,B8*12,B6)
A11: As on | B11: 45747
A12: Sanction Date | B12: =VLOOKUP(B2,'Sheet1 (2)'!A:L,12,0) -> 42465
A13: Months | B13: =DATEDIF(B12,B11,"M") -> 107
A15: Total Amt | B15: =B9*B13 -> 835935.05
A16: Principal | B16: =-CUMPRINC(B7%/12,B8*12,B6,1,B13,0) -> 556894.18
A17: Interest | B17: =-CUMIPMT(B7%/12,B8*12,B6,1,B13,0) -> 279040.87
A18: Check | B18: =B15-B16-B17 -> 0
A20: Theo bal | B20: =B6-B16 -> 265322.82
A21: o/s | B21: =B4 -> 826206
A22: Diff

Sheet Sheet2
A1: PMT() | B1: Calculates the Equa. Insta. | C1: PV | D1: RATE | E1: NPER | F1: -
A2: PV() | B2: Calculates the Present Value | C2: - | D2: RATE | E2: NPER | F2: EMI
A3: RATE() | B3: Calculates the Rate of Interest | C3: PV | D3: - | E3: NPER | F3: EMI
A4: NPER() | B4: Calculates the Number of Per. | C4: PV | D4: RATE | E4: - | F4: EMI
A5: IPMT() | B5: Calculates the Int. Portion in Equ. Insta. | C5: PV | D5: RATE | E5: NPER | F5: - | G5: Per
A6: PPMT() | B6: Calculates the Princ. Portion in Equ. Insta. | C6: PV | D6: RATE | E6: NPER | F6: - | G6: Per
A7: CUMIPMT() | B7: Calculates the Cum. Int. Portion in Equ. Insta. From x period to y period | C7: PV | D7: RATE | E7: NPER | F7: - | G7: start_per | H7: end_per
A8: CUMPRINC() | B8: Calculates the Cum. Princ. Portion in Equ. Insta. From x period to y period | C8: PV | D8: RATE | E8: NPER | F8: - | G8: start_per | H8: end_per
A9: FV() | B9: Calculates the Present Value | C9: PV | D9: RATE | E9: NPER | F9: -
